BEGIN:VCALENDAR
VERSION:2.0
PRODID:-//Quiero Disfrutar - ECPv6.15.1.1//NONSGML v1.0//EN
CALSCALE:GREGORIAN
METHOD:PUBLISH
X-ORIGINAL-URL:https://www.quierodisfrutar.mx
X-WR-CALDESC:Eventos para Quiero Disfrutar
REFRESH-INTERVAL;VALUE=DURATION:PT1H
X-Robots-Tag:noindex
X-PUBLISHED-TTL:PT1H
BEGIN:VTIMEZONE
TZID:America/Mexico_City
BEGIN:DAYLIGHT
TZOFFSETFROM:-0600
TZOFFSETTO:-0500
TZNAME:CDT
DTSTART:20260405T080000
END:DAYLIGHT
BEGIN:STANDARD
TZOFFSETFROM:-0500
TZOFFSETTO:-0600
TZNAME:CST
DTSTART:20261025T070000
END:STANDARD
END:VTIMEZONE
BEGIN:VEVENT
DTSTART;TZID=America/Mexico_City:20260418T180000
DTEND;TZID=America/Mexico_City:20260418T190000
DTSTAMP:20260423T173150
CREATED:20260412T000111Z
LAST-MODIFIED:20260412T000111Z
UID:54440-1776535200-1776538800@www.quierodisfrutar.mx
SUMMARY:Cine concierto: Alicia en el País de las Maravillas
DESCRIPTION:Cine concierto\n¿Listos para caer por la madriguera del conejo? Acompáñanos a una función única de Alicia en el País de las Maravillas (1915)\, la joya silente dirigida por W.W. Young (¡sí\, la de la icónica adaptación de la obra de Carroll!).\nNo será una proyección común: la atmósfera cobrará vida con música en vivo por AUR4. Deja que la psicodelia y la nostalgia te transporten a un mundo de sueños y locura.\n ¿Cuándo? 18 de abril.\n¿A qué hora? 19:00 h\n¿Dónde? Por supuesto: The Crowley (Av. 20 de Noviembre #34\, casi esquina calle Dr. Lucio\, Centro\, Xalapa)\nCoop 60 p/p\nReservaciones al 2281 803428 o en nuestras redes sociales AUR4\nAforo limitado\n#xalapa #aliciaenelpaisdelasmaravillas
URL:https://www.quierodisfrutar.mx/evento/cine-concierto-alicia-en-el-pais-de-las-maravillas/
CATEGORIES:Arte,Cine,Concierto
ATTACH;FMTTYPE=image/jpeg:https://www.quierodisfrutar.mx/wp-content/uploads/2026/04/1.jpg
END:VEVENT
END:VCALENDAR