BEGIN:VCALENDAR
VERSION:2.0
PRODID:-//Quiero Disfrutar - ECPv6.15.1.1//NONSGML v1.0//EN
CALSCALE:GREGORIAN
METHOD:PUBLISH
X-WR-CALNAME:Quiero Disfrutar
X-ORIGINAL-URL:https://www.quierodisfrutar.mx
X-WR-CALDESC:Eventos para Quiero Disfrutar
REFRESH-INTERVAL;VALUE=DURATION:PT1H
X-Robots-Tag:noindex
X-PUBLISHED-TTL:PT1H
BEGIN:VTIMEZONE
TZID:America/Mexico_City
BEGIN:DAYLIGHT
TZOFFSETFROM:-0600
TZOFFSETTO:-0500
TZNAME:CDT
DTSTART:20230402T080000
END:DAYLIGHT
BEGIN:STANDARD
TZOFFSETFROM:-0500
TZOFFSETTO:-0600
TZNAME:CST
DTSTART:20231029T070000
END:STANDARD
END:VTIMEZONE
BEGIN:VEVENT
DTSTART;TZID=America/Mexico_City:20230924T190000
DTEND;TZID=America/Mexico_City:20230924T210000
DTSTAMP:20260425T215020
CREATED:20230920T194037Z
LAST-MODIFIED:20230920T194037Z
UID:51228-1695582000-1695589200@www.quierodisfrutar.mx
SUMMARY:Difusión Cultural y Ballet Folklórico UV presentan “Raíces del pueblo”
DESCRIPTION:Dirección General de Difusión Cultural y Ballet Folklórico UV presentan “Raíces del pueblo”. \n  \n  \nFunción 48 aniversario\, domingo 24 de septiembre del 2023\, 19:00 horas en la “sala Emilio Carballido” Teatro del Estado\, Xalapa\, Ver.  \n  \nEntrada libre / boleto de control  \n  \n 
URL:https://www.quierodisfrutar.mx/evento/difusion-cultural-y-ballet-folklorico-uv-presentan-raices-del-pueblo/
CATEGORIES:Danza
ATTACH;FMTTYPE=image/jpeg:https://www.quierodisfrutar.mx/wp-content/uploads/2023/09/Cartel.jpg
END:VEVENT
END:VCALENDAR