BEGIN:VCALENDAR
VERSION:2.0
PRODID:-//Quiero Disfrutar - ECPv6.15.1.1//NONSGML v1.0//EN
CALSCALE:GREGORIAN
METHOD:PUBLISH
X-ORIGINAL-URL:https://www.quierodisfrutar.mx
X-WR-CALDESC:Eventos para Quiero Disfrutar
REFRESH-INTERVAL;VALUE=DURATION:PT1H
X-Robots-Tag:noindex
X-PUBLISHED-TTL:PT1H
BEGIN:VTIMEZONE
TZID:America/Mexico_City
BEGIN:DAYLIGHT
TZOFFSETFROM:-0600
TZOFFSETTO:-0500
TZNAME:CDT
DTSTART:20250406T080000
END:DAYLIGHT
BEGIN:STANDARD
TZOFFSETFROM:-0500
TZOFFSETTO:-0600
TZNAME:CST
DTSTART:20251026T070000
END:STANDARD
END:VTIMEZONE
BEGIN:VEVENT
DTSTART;VALUE=DATE:20250426
DTEND;VALUE=DATE:20250504
DTSTAMP:20260424T092503
CREATED:20250424T165900Z
LAST-MODIFIED:20250424T165900Z
UID:53036-1745625600-1746316799@www.quierodisfrutar.mx
SUMMARY:Decimocuarta edición del Festival ESAV\, Día Internacional de la Danza
DESCRIPTION:La Escuela Superior de Artes de Veracruz y la Secretaría de Cultura del Estado de Veracruz celebran la danza en la decimocuarta edición del Festival ESAV\, Día Internacional de la Danza – \n  \nLa Escuela Superior de Artes de Veracruz (ESAV)\, institución que oferta la Licenciatura en Danza Folklórica Mexicana\, en coordinación con la Secretaría de Cultura del Estado de Veracruz\, se complace en anunciar la realización del 14° Festival ESAV\, Día Internacional de la Danza\, una celebración que desde 1982\, por iniciativa del Consejo Internacional de la Danza de la UNESCO\, rinde homenaje al arte del movimiento como una forma universal de expresión\, identidad y comunidad. \n Este 2025\, el festival se llevará a cabo del 26 de abril al 3 de mayo\, con una cartelera integrada por actividades artísticas que exploran la riqueza de la danza y su impacto en la sociedad. A través de esta edición\, se busca acercar a la comunidad al conocimiento de la danza como patrimonio cultural y promotor de transformación social\, impulsando también nuevos enfoques y reflexiones en torno a su práctica. \n \n La Función de Gala dará inicio al festival el 26 de abril a las 19:00 horas en la Sala Emilio Carballido del Teatro del Estado Gral. Ignacio de la Llave\, con la presentación del programa “Raíces del Pueblo” del maestro Miguel Vélez Arceo\, una obra emblemática del repertorio veracruzano\, interpretada por el Ballet de la Licenciatura en Danza Folklórica Mexicana\, agrupación representativa de la ESAV. Los boletos para esta función pueden solicitarse en las instalaciones de la Escuela Superior de Artes de Veracruz o en la oficina del Teatro del Estado. \n Las actividades continuarán el 29 de abril a las 18:00 horas con la Función de Gala Infantil en el Teatro J.J. Herrera\, a cargo del Ballet Folklórico Infantil ESAV\, y concluirán con el Maratón de Danza el 3 de mayo a las 12:00 horas en el auditorio del IMAC\, que reunirá a agrupaciones locales en una jornada abierta a todo público para celebrar la danza en comunidad. \n Con esta programación\, la ESAV reafirma su compromiso con la formación de profesionales en danza folklórica mexicana\, así como con la preservación y difusión del patrimonio cultural desde una perspectiva artística y educativa. \n  \n¡Les invitamos a ser parte de esta gran celebración de nuestras raíces a través del arte! \n  \nPara más información\, consulta nuestras redes sociales o visítanos en las instalaciones de la Escuela Superior de Artes de Veracruz.
URL:https://www.quierodisfrutar.mx/evento/decimocuarta-edicion-del-festival-esav-dia-internacional-de-la-danza/
CATEGORIES:Danza
ATTACH;FMTTYPE=image/jpeg:https://www.quierodisfrutar.mx/wp-content/uploads/2025/04/14°-Festival-ESAV-Función-de-Gala.jpg
END:VEVENT
END:VCALENDAR