BEGIN:VCALENDAR
VERSION:2.0
PRODID:-//Quiero Disfrutar - ECPv6.15.1.1//NONSGML v1.0//EN
CALSCALE:GREGORIAN
METHOD:PUBLISH
X-WR-CALNAME:Quiero Disfrutar
X-ORIGINAL-URL:https://www.quierodisfrutar.mx
X-WR-CALDESC:Eventos para Quiero Disfrutar
REFRESH-INTERVAL;VALUE=DURATION:PT1H
X-Robots-Tag:noindex
X-PUBLISHED-TTL:PT1H
BEGIN:VTIMEZONE
TZID:America/Mexico_City
BEGIN:DAYLIGHT
TZOFFSETFROM:-0600
TZOFFSETTO:-0500
TZNAME:CDT
DTSTART:20250406T080000
END:DAYLIGHT
BEGIN:STANDARD
TZOFFSETFROM:-0500
TZOFFSETTO:-0600
TZNAME:CST
DTSTART:20251026T070000
END:STANDARD
END:VTIMEZONE
BEGIN:VEVENT
DTSTART;TZID=America/Mexico_City:20250628T190000
DTEND;TZID=America/Mexico_City:20250628T210000
DTSTAMP:20260424T073330
CREATED:20250626T181413Z
LAST-MODIFIED:20250626T181413Z
UID:53307-1751137200-1751144400@www.quierodisfrutar.mx
SUMMARY:“BROTAR” – DANZA BUTOH\, GAGA Y CHELO EN VIVO
DESCRIPTION:“BROTAR” – DANZA BUTOH\, GAGA Y CHELO EN VIVO  \n“Brotar” es un viaje dancístico que fusiona la intensidad del Butoh y la fluidez de la técnica Gaga\, acompañado por la profundidad del chelo en vivo. Una reflexión sobre la vida como un constante florecer\, donde lo pequeño y lo vasto se entrelazan. \n 
URL:https://www.quierodisfrutar.mx/evento/brotar-danza-butoh-gaga-y-chelo-en-vivo/
CATEGORIES:Danza,Teatro
ATTACH;FMTTYPE=image/jpeg:https://www.quierodisfrutar.mx/wp-content/uploads/2025/06/Brotar.jpg
END:VEVENT
END:VCALENDAR