BEGIN:VCALENDAR
VERSION:2.0
PRODID:-//Quiero Disfrutar - ECPv6.15.1.1//NONSGML v1.0//EN
CALSCALE:GREGORIAN
METHOD:PUBLISH
X-ORIGINAL-URL:https://www.quierodisfrutar.mx
X-WR-CALDESC:Eventos para Quiero Disfrutar
REFRESH-INTERVAL;VALUE=DURATION:PT1H
X-Robots-Tag:noindex
X-PUBLISHED-TTL:PT1H
BEGIN:VTIMEZONE
TZID:America/Mexico_City
BEGIN:DAYLIGHT
TZOFFSETFROM:-0600
TZOFFSETTO:-0500
TZNAME:CDT
DTSTART:20240407T080000
END:DAYLIGHT
BEGIN:STANDARD
TZOFFSETFROM:-0500
TZOFFSETTO:-0600
TZNAME:CST
DTSTART:20241027T070000
END:STANDARD
END:VTIMEZONE
BEGIN:VEVENT
DTSTART;TZID=America/Mexico_City:20240410T170000
DTEND;TZID=America/Mexico_City:20240410T190000
DTSTAMP:20260425T062254
CREATED:20240409T163157Z
LAST-MODIFIED:20240409T163157Z
UID:51757-1712768400-1712775600@www.quierodisfrutar.mx
SUMMARY:Lucha Libre Triple V\, en Xalapa
DESCRIPTION:El Consejo Distrital 10 Xalapa del OPLEV se complace en invitar a la ciudadanía\, así como familias\, niños\, jóvenes\, adultos y público en general a un emocionante evento de lucha libre que se llevará a cabo este día miércoles 10 de abril a las 5:00 pm en el Parque Juárez. Este evento se realiza con el objetivo de promover la participación ciudadana en la vida democrática del país y el ejercicio del voto.\nEs importante destacar que el evento es totalmente gratuito y abierto a todo el público. Habrá muchas sorpresas y emociones aseguradas para todos los asistentes. Además de disfrutar de un espectáculo lleno de adrenalina y entretenimiento\, los asistentes tendrán la oportunidad de informarse sobre la importancia del voto y su impacto en nuestra sociedad.\nAgradecemos de antemano su apoyo en la difusión de esta invitación a través de sus medios de comunicación. Su colaboración es fundamental para alcanzar a un mayor número de personas y fomentar la participación ciudadana en nuestra comunidad.\n¡Esperamos contar con su apoyo y presencia en este evento tan especial!\n 
URL:https://www.quierodisfrutar.mx/evento/lucha-libre-triple-v-en-xalapa/
LOCATION:Parque Juárez\, Calle Enríquez
CATEGORIES:Deportes
ATTACH;FMTTYPE=image/jpeg:https://www.quierodisfrutar.mx/wp-content/uploads/2024/04/436304710_947759120227981_6038903072803824675_n.jpg
END:VEVENT
END:VCALENDAR