BEGIN:VCALENDAR
VERSION:2.0
PRODID:-//Quiero Disfrutar - ECPv6.15.1.1//NONSGML v1.0//EN
CALSCALE:GREGORIAN
METHOD:PUBLISH
X-ORIGINAL-URL:https://www.quierodisfrutar.mx
X-WR-CALDESC:Eventos para Quiero Disfrutar
REFRESH-INTERVAL;VALUE=DURATION:PT1H
X-Robots-Tag:noindex
X-PUBLISHED-TTL:PT1H
BEGIN:VTIMEZONE
TZID:America/Mexico_City
BEGIN:DAYLIGHT
TZOFFSETFROM:-0600
TZOFFSETTO:-0500
TZNAME:CDT
DTSTART:20240407T080000
END:DAYLIGHT
BEGIN:STANDARD
TZOFFSETFROM:-0500
TZOFFSETTO:-0600
TZNAME:CST
DTSTART:20241027T070000
END:STANDARD
END:VTIMEZONE
BEGIN:VEVENT
DTSTART;TZID=America/Mexico_City:20241215T180000
DTEND;TZID=America/Mexico_City:20241215T200000
DTSTAMP:20260424T180152
CREATED:20241207T171739Z
LAST-MODIFIED:20241207T171739Z
UID:52526-1734285600-1734292800@www.quierodisfrutar.mx
SUMMARY:Lucha libre en Xalapa
DESCRIPTION:Lobo Rapaz en sensacional función de lucha libre en la Arena Xalapa. \nLa Monumental Arena Xalapa “Catedral de la lucha libre Xalapeña” será testigo este próximo 15 de diciembre\, del Gran Duelo de empresas Caballero Negro y Soberanos de la lucha libre contra Promotora de Clase Mundial (Dinastía Tirantes) Y “El Aullido xalapeño” Lobo Rapaz enfrentándose por el campeonato semicompleto Soberanos Arena Xalapa\, además la participación de las estrellas del Ring que ya conoces. Venta de boletos al interior de la Arena Xalapa. \n  \nLa mejor lucha libre xalapeña ¡No te lo puedes perder!
URL:https://www.quierodisfrutar.mx/evento/lucha-libre-en-xalapa/
LOCATION:Arena Xalapa\, Sayago #12\, Xalapa\, Veracruz\, 91000\, México
CATEGORIES:Deportes
ATTACH;FMTTYPE=image/png:https://www.quierodisfrutar.mx/wp-content/uploads/2024/12/462554545_2259778567733319_4306774520378570724_n.png
END:VEVENT
END:VCALENDAR