BEGIN:VCALENDAR
VERSION:2.0
PRODID:-//Quiero Disfrutar - ECPv6.15.1.1//NONSGML v1.0//EN
CALSCALE:GREGORIAN
METHOD:PUBLISH
X-ORIGINAL-URL:https://www.quierodisfrutar.mx
X-WR-CALDESC:Eventos para Quiero Disfrutar
REFRESH-INTERVAL;VALUE=DURATION:PT1H
X-Robots-Tag:noindex
X-PUBLISHED-TTL:PT1H
BEGIN:VTIMEZONE
TZID:America/Mexico_City
BEGIN:DAYLIGHT
TZOFFSETFROM:-0600
TZOFFSETTO:-0500
TZNAME:CDT
DTSTART:20240407T080000
END:DAYLIGHT
BEGIN:STANDARD
TZOFFSETFROM:-0500
TZOFFSETTO:-0600
TZNAME:CST
DTSTART:20241027T070000
END:STANDARD
END:VTIMEZONE
BEGIN:VEVENT
DTSTART;VALUE=DATE:20240302
DTEND;VALUE=DATE:20240304
DTSTAMP:20260425T080726
CREATED:20240119T181719Z
LAST-MODIFIED:20240119T181830Z
UID:51621-1709337600-1709510399@www.quierodisfrutar.mx
SUMMARY:Expo Venta Dealers Cactus y Suculentas Xalapa
DESCRIPTION:2ª Expo Dealers Cactus y Suculentas Xalapa Nos complace invitarlos por segundo año en Xalapa Veracruz a la Expo Dealers Cactus y Suculentas\, el único evento de la región que reúne a más de 20 expositores de diversos estados de la republica especializados en cactus y suculentas\, ven y disfruta de un evento familiar único e irrepetible.2 y 3 de marzo del 2024 Casa del Lago UV\, Xalapa Sábado y domingo de 10:30 a 19:00hrs Entrada LibreEn el evento se podrá contar con:– Cactus– Suculentas– Macetas– Productos ecológicos – Carnívoras – Plantas de interior – Orquídeas– Artesanías – Comida y snaks – Pláticas– Talleres– Rifas– Entre otras cosas.Asiste y adéntrate en el maravilloso mundo de las plantas\, asiste a los talleres y pláticas para aprender los cuidados básicos\, tips de crecimiento y reproducción\, pero sobre todo no pierdas la oportunidad de encontrar esa planta exclusiva que tanto buscasEncuéntranos en Facebook como @Expo Venta Dealers Cactus y Suculentas Xalapa
URL:https://www.quierodisfrutar.mx/evento/expo-venta-dealers-cactus-y-suculentas-xalapa/
LOCATION:Casa del Lago UV\,  El Dique #27\,  Zona Centro\, Xalapa\, Veracruz\, México
CATEGORIES:Exposiciones
ATTACH;FMTTYPE=image/jpeg:https://www.quierodisfrutar.mx/wp-content/uploads/2024/01/415233433_3598926857054966_2211944685705888797_n.jpg
END:VEVENT
END:VCALENDAR