BEGIN:VCALENDAR
VERSION:2.0
PRODID:-//Quiero Disfrutar - ECPv6.15.1.1//NONSGML v1.0//EN
CALSCALE:GREGORIAN
METHOD:PUBLISH
X-ORIGINAL-URL:https://www.quierodisfrutar.mx
X-WR-CALDESC:Eventos para Quiero Disfrutar
REFRESH-INTERVAL;VALUE=DURATION:PT1H
X-Robots-Tag:noindex
X-PUBLISHED-TTL:PT1H
BEGIN:VTIMEZONE
TZID:America/Mexico_City
BEGIN:DAYLIGHT
TZOFFSETFROM:-0600
TZOFFSETTO:-0500
TZNAME:CDT
DTSTART:20250406T080000
END:DAYLIGHT
BEGIN:STANDARD
TZOFFSETFROM:-0500
TZOFFSETTO:-0600
TZNAME:CST
DTSTART:20251026T070000
END:STANDARD
END:VTIMEZONE
BEGIN:VEVENT
DTSTART;TZID=America/Mexico_City:20250320T193000
DTEND;TZID=America/Mexico_City:20250320T203000
DTSTAMP:20260424T105554
CREATED:20250315T192309Z
LAST-MODIFIED:20250315T192309Z
UID:52874-1742499000-1742502600@www.quierodisfrutar.mx
SUMMARY:Mayra Landau - Geometría sensible
DESCRIPTION:
URL:https://www.quierodisfrutar.mx/evento/mayra-landau-geometria-sensible/
LOCATION:Galería Ramón Alva de la Canal\, Xalapeños Ilustres 86\, Xalapa\, Veracruz\, 9100\, México
CATEGORIES:Arte,Exposiciones
ATTACH;FMTTYPE=image/jpeg:https://www.quierodisfrutar.mx/wp-content/uploads/2025/03/WhatsApp-Image-2025-03-15-at-12.17.21-PM.jpeg
END:VEVENT
BEGIN:VEVENT
DTSTART;TZID=America/Mexico_City:20250320T193000
DTEND;TZID=America/Mexico_City:20250320T210000
DTSTAMP:20260424T105554
CREATED:20250319T212314Z
LAST-MODIFIED:20250319T212314Z
UID:52902-1742499000-1742504400@www.quierodisfrutar.mx
SUMMARY:Celebración de su 40 aniversario con la exposición "Myra Landau: Geometría sensible"
DESCRIPTION:La Galería Ramón Alva de la Canal inicia la celebración de su 40 aniversario con la exposición «Myra Landau: Geometría sensible»\, en colaboración con el MUAC-UNAM y el Instituto de Artes Plásticas UV. \n  \nCelebremos juntos el legado de Myra Landau y su impacto en el arte y la academia. ¡No faltes! Jueves 20 de marzo a las 19:30 horas.   \n 
URL:https://www.quierodisfrutar.mx/evento/celebracion-de-su-40-aniversario-con-la-exposicion-myra-landau-geometria-sensible/
CATEGORIES:Arte,Exposiciones
ATTACH;FMTTYPE=image/jpeg:https://www.quierodisfrutar.mx/wp-content/uploads/2025/03/Galería.jpg
END:VEVENT
END:VCALENDAR