BEGIN:VCALENDAR
VERSION:2.0
PRODID:-//Quiero Disfrutar - ECPv6.15.1.1//NONSGML v1.0//EN
CALSCALE:GREGORIAN
METHOD:PUBLISH
X-WR-CALNAME:Quiero Disfrutar
X-ORIGINAL-URL:https://www.quierodisfrutar.mx
X-WR-CALDESC:Eventos para Quiero Disfrutar
REFRESH-INTERVAL;VALUE=DURATION:PT1H
X-Robots-Tag:noindex
X-PUBLISHED-TTL:PT1H
BEGIN:VTIMEZONE
TZID:America/Mexico_City
BEGIN:DAYLIGHT
TZOFFSETFROM:-0600
TZOFFSETTO:-0500
TZNAME:CDT
DTSTART:20250406T080000
END:DAYLIGHT
BEGIN:STANDARD
TZOFFSETFROM:-0500
TZOFFSETTO:-0600
TZNAME:CST
DTSTART:20251026T070000
END:STANDARD
END:VTIMEZONE
BEGIN:VEVENT
DTSTART;TZID=America/Mexico_City:20251128T183000
DTEND;TZID=America/Mexico_City:20251128T200000
DTSTAMP:20260423T220407
CREATED:20251127T190925Z
LAST-MODIFIED:20251127T190925Z
UID:54144-1764354600-1764360000@www.quierodisfrutar.mx
SUMMARY:Proyecto de arte ecológico Compartir el hábitat: el sueño del cielo en la tierra
DESCRIPTION:Invitan a conocer los materiales creados hasta ahora dentro de este proyecto que une arte\, ecología y territorio. \nDurante la presentación escucharemos: \n• 2 piezas de arte sonoro realizadas con cantos y paisajes acústicos de la finca cafetalera Kocoy\, en Coatepec. \n• 4 spots para radio\, divertidas dramatizaciones sobre el uso de los baños secos. \n• 6 entrevistas en video a las y los voluntarios que monitorean la calidad del agua en la cuenca La Antigua. \nPresenta: Yolanda Gutiérrez. \nSerá el día viernes 28 noviembre a las 6:30 PM en la Galería Xanadu ubicada en la calle Zamora X48\, en Coatepec. \nEntrada libre.
URL:https://www.quierodisfrutar.mx/evento/proyecto-de-arte-ecologico-compartir-el-habitat-el-sueno-del-cielo-en-la-tierra/
CATEGORIES:Educativos,Exposiciones
ATTACH;FMTTYPE=image/jpeg:https://www.quierodisfrutar.mx/wp-content/uploads/2025/11/WhatsApp-Image-2025-11-27-at-10.11.43-AM.jpeg
END:VEVENT
END:VCALENDAR