BEGIN:VCALENDAR
VERSION:2.0
PRODID:-//Quiero Disfrutar - ECPv6.15.1.1//NONSGML v1.0//EN
CALSCALE:GREGORIAN
METHOD:PUBLISH
X-ORIGINAL-URL:https://www.quierodisfrutar.mx
X-WR-CALDESC:Eventos para Quiero Disfrutar
REFRESH-INTERVAL;VALUE=DURATION:PT1H
X-Robots-Tag:noindex
X-PUBLISHED-TTL:PT1H
BEGIN:VTIMEZONE
TZID:America/Mexico_City
BEGIN:DAYLIGHT
TZOFFSETFROM:-0600
TZOFFSETTO:-0500
TZNAME:CDT
DTSTART:20240407T080000
END:DAYLIGHT
BEGIN:STANDARD
TZOFFSETFROM:-0500
TZOFFSETTO:-0600
TZNAME:CST
DTSTART:20241027T070000
END:STANDARD
END:VTIMEZONE
BEGIN:VEVENT
DTSTART;TZID=America/Mexico_City:20240401T080000
DTEND;TZID=America/Mexico_City:20240401T170000
DTSTAMP:20260425T075109
CREATED:20240402T012549Z
LAST-MODIFIED:20240402T012549Z
UID:51742-1711958400-1711990800@www.quierodisfrutar.mx
SUMMARY:Mariachi UV representante de la UV en Festival de Música Latinoamérica en Chicago\, Illinois
DESCRIPTION:El Mariachi de la Universidad Veracruzana por primera vez formará parte del Festival de Música Latinoamérica organizado por University of Illinois Chicago School of Theatre and Music del 11 al 13 de abril en Chicago\, Illinois o también conocida como La Ciudad de los Vientos. \nEste festival busca conectar a los estudiantes con la abundante y vibrante cultura musical latinoamericana de Chicago. Durante el festival se incluyen días dedicados al Mariachi y la música de coro\, presentaciones de músicos aclamados\, artistas y DJ latinoamericanos\, además se impartirán talleres\, presentaciones artísticas\, charlas y seminarios.  \n \nLa participación del Mariachi UV será en varias de las actividades del festival\, pero enfatizando en su experiencia sobre el mariachi\, la cultura mexicana\, compartir áreas de oportunidad para los grupos actuales de mariachi en chicago y su presentación artística. \nEsta participación de un Grupo Artístico representativo como lo es el Mariachi UV permite difundir internacionalmente el quehacer cultural y artístico de la Universidad Veracruzana que este año festeja su 80 aniversario\, de arte\, ciencia\, luz y como una institución autónoma y pública. \nPara conocer sobre las actividades de los Grupos UV\, sigue las redes sociales (TikTok\, Instagram\, Facebook y Canal de WhatsApp) de Difusión Cultural UV\, donde encontraran contenido exclusivo.
URL:https://www.quierodisfrutar.mx/evento/mariachi-uv-representante-de-la-uv-en-festival-de-musica-latinoamerica-en-chicago-illinois/
CATEGORIES:Música y Danza
ATTACH;FMTTYPE=image/jpeg:https://www.quierodisfrutar.mx/wp-content/uploads/2024/04/Cartel-Chicago.jpg
END:VEVENT
END:VCALENDAR