BEGIN:VCALENDAR
VERSION:2.0
PRODID:-//Quiero Disfrutar - ECPv6.15.1.1//NONSGML v1.0//EN
CALSCALE:GREGORIAN
METHOD:PUBLISH
X-ORIGINAL-URL:https://www.quierodisfrutar.mx
X-WR-CALDESC:Eventos para Quiero Disfrutar
REFRESH-INTERVAL;VALUE=DURATION:PT1H
X-Robots-Tag:noindex
X-PUBLISHED-TTL:PT1H
BEGIN:VTIMEZONE
TZID:America/Mexico_City
BEGIN:DAYLIGHT
TZOFFSETFROM:-0600
TZOFFSETTO:-0500
TZNAME:CDT
DTSTART:20240407T080000
END:DAYLIGHT
BEGIN:STANDARD
TZOFFSETFROM:-0500
TZOFFSETTO:-0600
TZNAME:CST
DTSTART:20241027T070000
END:STANDARD
END:VTIMEZONE
BEGIN:VEVENT
DTSTART;TZID=America/Mexico_City:20240421T190000
DTEND;TZID=America/Mexico_City:20240421T203000
DTSTAMP:20260425T080139
CREATED:20240419T213758Z
LAST-MODIFIED:20240419T214801Z
UID:51813-1713726000-1713731400@www.quierodisfrutar.mx
SUMMARY:FUENSANTA & ENSAMBLE GRANDE
DESCRIPTION:El próximo domingo 21 de abril tendremos un concierto de jazz experimental\, la cantante es Xalapeña y cuenta con varias horas en Europa y Asia.
URL:https://www.quierodisfrutar.mx/evento/fuensanta-ensamble-grande/
LOCATION:Teatro del Estado\, Calle Ignacio de la Llave #2\, Col. Represa del Carmen\, Xalapa\, Veracruz\, México
CATEGORIES:Arte,Danza,Música y Danza
ATTACH;FMTTYPE=image/jpeg:https://www.quierodisfrutar.mx/wp-content/uploads/2024/04/437038962_2733598183456094_5426274151440309737_n.jpg
END:VEVENT
END:VCALENDAR