BEGIN:VCALENDAR
VERSION:2.0
PRODID:-//Quiero Disfrutar - ECPv6.15.1.1//NONSGML v1.0//EN
CALSCALE:GREGORIAN
METHOD:PUBLISH
X-WR-CALNAME:Quiero Disfrutar
X-ORIGINAL-URL:https://www.quierodisfrutar.mx
X-WR-CALDESC:Eventos para Quiero Disfrutar
REFRESH-INTERVAL;VALUE=DURATION:PT1H
X-Robots-Tag:noindex
X-PUBLISHED-TTL:PT1H
BEGIN:VTIMEZONE
TZID:America/Mexico_City
BEGIN:DAYLIGHT
TZOFFSETFROM:-0600
TZOFFSETTO:-0500
TZNAME:CDT
DTSTART:20240407T080000
END:DAYLIGHT
BEGIN:STANDARD
TZOFFSETFROM:-0500
TZOFFSETTO:-0600
TZNAME:CST
DTSTART:20241027T070000
END:STANDARD
END:VTIMEZONE
BEGIN:VEVENT
DTSTART;TZID=America/Mexico_City:20241013T130000
DTEND;TZID=America/Mexico_City:20241013T140000
DTSTAMP:20260424T212110
CREATED:20241011T000802Z
LAST-MODIFIED:20241011T000916Z
UID:52315-1728824400-1728828000@www.quierodisfrutar.mx
SUMMARY:Orbis Tertius: la magia de las montañas en la música de María Vázquez
DESCRIPTION:El próximo domingo 13 de octubre a las 13:00 hrs\, el Museo de Antropología de Xalapa se convertirá en el escenario perfecto para una presentación de la agrupación Orbis Tertius\, una celebración musical titulada “Música de las Grandes Montañas”\, donde destacarán las composiciones de la talentosa María Vázquez.\n \nMaría Vázquez\, en la búsqueda por dar un significado de valor a la creación musical\, dedica sus más recientes composiciones a su tierra natal\, inspirada en la majestuosidad de los cerros\, el Pico de Orizaba y las figuras maternas que forman parte de la inspiración que dan origen a esta música. Será un breve programa en donde se destacarán las melodías y composiciones más íntimas de la artista\, fusionadas con la improvisación tan característica del Jazz y un toque de rock.  \n \nEste evento ofrecerá una experiencia única\, uniendo la rica herencia cultural de las grandes montañas con la creatividad musical contemporánea de la compositora. Los asistentes podrán disfrutar de una variedad de piezas que los transportarán a paisajes sonoros inspirados en la majestuosidad de la naturaleza.\n \nLa entrada al evento es gratuita\, por lo que se le pide al público considerar sus tiempos de traslado\, se espera que el concierto atraiga a amantes de la música y la cultura de la región. No pierdas la oportunidad de ser parte de esta experiencia única que resalta la belleza de la música y la tradición.
URL:https://www.quierodisfrutar.mx/evento/orbis-tertius-la-magia-de-las-montanas-en-la-musica-de-maria-vazquez/
LOCATION:Museo de Antropología de Xalapa\, Av. Xalapa\, Unidad Magisterial\, Xalapa 
CATEGORIES:Arte,Música y Danza
ATTACH;FMTTYPE=image/jpeg:https://www.quierodisfrutar.mx/wp-content/uploads/2024/10/13-oct.jpg
END:VEVENT
END:VCALENDAR