BEGIN:VCALENDAR
VERSION:2.0
PRODID:-//Quiero Disfrutar - ECPv6.15.1.1//NONSGML v1.0//EN
CALSCALE:GREGORIAN
METHOD:PUBLISH
X-ORIGINAL-URL:https://www.quierodisfrutar.mx
X-WR-CALDESC:Eventos para Quiero Disfrutar
REFRESH-INTERVAL;VALUE=DURATION:PT1H
X-Robots-Tag:noindex
X-PUBLISHED-TTL:PT1H
BEGIN:VTIMEZONE
TZID:America/Mexico_City
BEGIN:DAYLIGHT
TZOFFSETFROM:-0600
TZOFFSETTO:-0500
TZNAME:CDT
DTSTART:20240407T080000
END:DAYLIGHT
BEGIN:STANDARD
TZOFFSETFROM:-0500
TZOFFSETTO:-0600
TZNAME:CST
DTSTART:20241027T070000
END:STANDARD
END:VTIMEZONE
BEGIN:VEVENT
DTSTART;TZID=America/Mexico_City:20240509T100000
DTEND;TZID=America/Mexico_City:20240509T120000
DTSTAMP:20260425T054638
CREATED:20240503T155958Z
LAST-MODIFIED:20240503T163421Z
UID:51858-1715248800-1715256000@www.quierodisfrutar.mx
SUMMARY:“Ordenando el caos: para la prevención de enfermedades crónicas"
DESCRIPTION:“Ordenando el caos: para la prevención de enfermedades crónicas»\, es un evento realizado por estudiantes de Publicidad y Relaciones Públicas como parte del foro Emerge 2024. Dicho evento consistirá en un panel de diálogo conformado por profesionales relacionados con el área de salud mental seguido de un taller de Arteterapia. Este se llevará a cabo el jueves 9 de mayo del presente año a las 10:00 de la mañana\, en las salas de videoconferencias de la USBI. \nNuestro objetivo es promover la comunicación entre los jóvenes universitarios sobre la importancia de la salud mental\, esperando que esto dé pauta a la implementación de nuevas estrategias a favor de la salud mental. \nEl panel de diálogo contará con la presencia de la Licenciada en Psicología Sonia Contreras Brito\, la Maestra en Desarrollo Humano\, Cynthia Hernández Sánchez y la Licenciada en Psicología Valeria Alejandra Vázquez González. El taller de Arteterapia será dirigido por la Psicóloga especializada en Arteterapia y gestión de bienestar emocional\, Brenda Pérez Nava. \nEl evento está dirigido a estudiantes universitarios\, así como al público general interesado en aprender más sobre el tema. La participación es gratuita y no hay límite de cupo.
URL:https://www.quierodisfrutar.mx/evento/ordenando-el-caos-para-la-prevencion-de-enfermedades-cronicas/
LOCATION:Sala de videoconferencias USBI\, Xalapa\, Veracruz\, México
CATEGORIES:Charlas,Talleres,Variados
ATTACH;FMTTYPE=image/jpeg:https://www.quierodisfrutar.mx/wp-content/uploads/2024/05/438245718_1167611934418517_6956970631399781612_n.jpg
END:VEVENT
END:VCALENDAR