BEGIN:VCALENDAR
VERSION:2.0
PRODID:-//Quiero Disfrutar - ECPv6.15.1.1//NONSGML v1.0//EN
CALSCALE:GREGORIAN
METHOD:PUBLISH
X-ORIGINAL-URL:https://www.quierodisfrutar.mx
X-WR-CALDESC:Eventos para Quiero Disfrutar
REFRESH-INTERVAL;VALUE=DURATION:PT1H
X-Robots-Tag:noindex
X-PUBLISHED-TTL:PT1H
BEGIN:VTIMEZONE
TZID:America/Mexico_City
BEGIN:DAYLIGHT
TZOFFSETFROM:-0600
TZOFFSETTO:-0500
TZNAME:CDT
DTSTART:20250406T080000
END:DAYLIGHT
BEGIN:STANDARD
TZOFFSETFROM:-0500
TZOFFSETTO:-0600
TZNAME:CST
DTSTART:20251026T070000
END:STANDARD
END:VTIMEZONE
BEGIN:VEVENT
DTSTART;TZID=America/Mexico_City:20250301T170000
DTEND;TZID=America/Mexico_City:20250301T180000
DTSTAMP:20260424T123123
CREATED:20250221T153906Z
LAST-MODIFIED:20250221T153906Z
UID:52781-1740848400-1740852000@www.quierodisfrutar.mx
SUMMARY:Mujeres en defensa
DESCRIPTION:
URL:https://www.quierodisfrutar.mx/evento/mujeres-en-defensa/
LOCATION:Barrio Xallitic\, Centro\, Xalapa\, Veracruz\, 91000\, México
CATEGORIES:Talleres
ATTACH;FMTTYPE=image/jpeg:https://www.quierodisfrutar.mx/wp-content/uploads/2025/02/481043513_951652430452920_2475330657527130086_n.jpg
END:VEVENT
END:VCALENDAR