BEGIN:VCALENDAR
VERSION:2.0
PRODID:-//Quiero Disfrutar - ECPv6.15.1.1//NONSGML v1.0//EN
CALSCALE:GREGORIAN
METHOD:PUBLISH
X-WR-CALNAME:Quiero Disfrutar
X-ORIGINAL-URL:https://www.quierodisfrutar.mx
X-WR-CALDESC:Eventos para Quiero Disfrutar
REFRESH-INTERVAL;VALUE=DURATION:PT1H
X-Robots-Tag:noindex
X-PUBLISHED-TTL:PT1H
BEGIN:VTIMEZONE
TZID:America/Mexico_City
BEGIN:DAYLIGHT
TZOFFSETFROM:-0600
TZOFFSETTO:-0500
TZNAME:CDT
DTSTART:20240407T080000
END:DAYLIGHT
BEGIN:STANDARD
TZOFFSETFROM:-0500
TZOFFSETTO:-0600
TZNAME:CST
DTSTART:20241027T070000
END:STANDARD
END:VTIMEZONE
BEGIN:VEVENT
DTSTART;TZID=America/Mexico_City:20241030T180000
DTEND;TZID=America/Mexico_City:20241103T200000
DTSTAMP:20260424T175836
CREATED:20241030T163810Z
LAST-MODIFIED:20241030T163828Z
UID:52371-1730311200-1730664000@www.quierodisfrutar.mx
SUMMARY:Regresa “¡Ay\, Calavera Catrina!”
DESCRIPTION:
URL:https://www.quierodisfrutar.mx/evento/regresa-ay-calavera-catrina/
CATEGORIES:Teatro
ATTACH;FMTTYPE=image/jpeg:https://www.quierodisfrutar.mx/wp-content/uploads/2024/10/cala.jpg
END:VEVENT
BEGIN:VEVENT
DTSTART;TZID=America/Mexico_City:20241107T200000
DTEND;TZID=America/Mexico_City:20241110T220000
DTSTAMP:20260424T175836
CREATED:20241022T153205Z
LAST-MODIFIED:20241022T153251Z
UID:52335-1731009600-1731276000@www.quierodisfrutar.mx
SUMMARY:VOCES DE HAYMARKET
DESCRIPTION:Colectivo Teatral Los Escondidos celebra su décimo aniversario con la puesta en escena “Voces de Haymarket”. \nEn el marco de su décimo aniversario\, el Colectivo Teatral Los Escondidos\, fundado en 2014 con el estreno de la obra que le dio nombre y consolidado desde entonces como una agrupación teatral independiente en la ciudad de Xalapa\, anuncia su nueva puesta en escena: Voces de Haymarket. Esta obra tendrá una breve primera temporada en Trasmundo Teatro los días 7\, 8\, 9 y 10 de noviembre de 2024.  \n  \nVoces de Haymarket ofrece una inmersión dramática en los corazones y mentes de los obreros anarquistas que enfrentaron la horca tras la Revuelta de Haymarket en 1886\, un episodio clave en la lucha por los derechos laborales y origen del Día Internacional de los Trabajadores. La puesta en escena comienza mostrando los últimos respiros de estos activistas\, condenados a muerte después de las huelgas y disturbios. Desde la horca\, el tiempo en el relato retrocede\, desenmarañando sus vidas personales y reconstruyendo la esencia del movimiento obrero. \n  \nA sólo ocho horas de la eternidad\, los personajes confrontan sus miedos e ideales\, así como la inminencia de la muerte. La obra entrelaza testimonios históricos\, discursos originales y documentos biográficos\, representando la caída de los afamados “Mártires de Chicago”. Con elementos literarios y revisiones de archivo\, el relato describe cómo una bomba puede transformar una revolución. Los gritos y cantos\, una vez silenciados\, resurgen como retumbos indomables de libertad.  \n  \nA través de poesía\, diálogos hipotéticos\, canciones libertarias\, máscaras y un toque de punk\, Voces de Haymarket arrastra al espectador a las frías celdas donde se debaten desesperanza y determinación\, pintando un retrato feroz sobre la lucha que desafió a un sistema corrupto y que\, como pólvora encendida\, sigue detonando movimientos sociales. \n  \nLa obra escenifica los ecos imperecederos de aquella revuelta\, vibrantes aún en nuestro presente\, reflexionando sobre la anarquía y el costo irremediable de la revolución. \n  \nEl elenco está conformado por Mariana Ruiz\, Carolina Iturralde\, Ricardo Martínez\, Edison Solis\, Apolinar Guzmán\, Axel Ronzón y Ricardo Sosa. La dirección corre a cargo de Dalia Rodríguez de Leo\, con la asistencia de Ximena Márquez. \n  \nLas funciones se llevarán a cabo en Trasmundo Teatro\, ubicado en Xalapeños Ilustres #171\, Col. Centro. El costo del boleto es de $150 en taquilla\, con preventa a $100 y promoción especial para estudiantes a $50. \n  \nExtendemos una cordial invitación a toda la comunidad xalapeña para que nos acompañe en estas presentaciones: jueves 7 y viernes 8 a las 20:00 hrs; sábado 9 a las 19:00 hrs. y domingo 10 de noviembre a las 18:00 hrs. Para más información y adquisición de entradas\, comunícate al WhatsApp 228 109 3273 o a las redes sociales del Colectivo Teatral Los Escondidos (@ctlescondidos) y Trasmundo Teatro (@trasmundoteatro). \n 
URL:https://www.quierodisfrutar.mx/evento/voces-de-haymarket/
LOCATION:TRASMUNDO TEATRO\, Xalapeños Ilustres 171 casi 20 de nov\, Xalapa\, Veracruz\, 91000\, México
CATEGORIES:Arte,Teatro
ATTACH;FMTTYPE=image/png:https://www.quierodisfrutar.mx/wp-content/uploads/2024/10/462546127_1090405605800327_5622491609167816027_n.png
ORGANIZER;CN="Colectivo Teatral Los Escondidos":MAILTO:losescondidos@outlook.com
END:VEVENT
BEGIN:VEVENT
DTSTART;VALUE=DATE:20241111
DTEND;VALUE=DATE:20241116
DTSTAMP:20260424T175836
CREATED:20241107T192621Z
LAST-MODIFIED:20241107T192621Z
UID:52391-1731283200-1731715199@www.quierodisfrutar.mx
SUMMARY:Del 11 al 15 de noviembre: ¡Disfruta del 33° Festival de Teatro Universitario en Casa del Lago  UV!
DESCRIPTION:Con gran entusiasmo se celebra la XXXIII edición del Festival de Teatro Universitario\, una fiesta que se ha realizado durante largo tiempo y que festeja con gran orgullo una nueva emisión. En esta ocasión tendrá lugar en la Casa del Lago UV del 11 al 15 de noviembre con una programación que incluye 14 obras teatrales\, 4 talleres\, un homenaje al maestro Daniel Acevedo y la premiación a lo más destacado del festival.\nLa inauguración se realizará el 11 de noviembre a las 10:00 horas en el Foro Miguel Herrera Olivo de Casa del Lago UV\, en donde también se premiará a la ganadora del diseño de cartel para la edición 33 del Festival de Teatro Universitario\, Paola Herrera Bauza\, alumna de la Licenciatura Diseño de la Comunicación Visual de la Universidad Veracruzana.\nA lo largo de cinco días\, estudiantes\, docentes y el público en general tendrán la oportunidad de disfrutar de las obras a partir de las 17:00 horas\, con la participación de alumnos de todas las Regiones UV\, UV-Intercultural Sede Grandes Montañas y UV-Intercultural Sede Las Selvas. La entrada es libre\, se recomienda llegar con anticipación debido al aforo limitado del recinto. Los talleres prácticos: Herramientas básicas de dramaturgia\, Emotividad: trucos neuronales en escena\, Expresión corporal\, Herramientas básicas del actor\, se realizarán en simultáneo en diversos espacios de Casa del Lago UV.\nConsulta la programación completa y todos los detalles en la página de Facebook: https://www.facebook.com/festivaldeteatrouv\nEl teatro no es solo un espectáculo\, es una experiencia. No dejes pasar la oportunidad de disfrutar de un festival único donde el arte y la creatividad se fusionan. ¡Te esperamos en Casa del Lago UV!
URL:https://www.quierodisfrutar.mx/evento/del-11-al-15-de-noviembre-disfruta-del-33-festival-de-teatro-universitario-en-casa-del-lago-uv/
LOCATION:Casa del Lago UV\,  El Dique #27\,  Zona Centro\, Xalapa\, Veracruz\, México
CATEGORIES:Arte,Teatro
ATTACH;FMTTYPE=image/jpeg:https://www.quierodisfrutar.mx/wp-content/uploads/2024/11/Cartel-33°-FTU.jpg
END:VEVENT
BEGIN:VEVENT
DTSTART;TZID=America/Mexico_City:20241116T183000
DTEND;TZID=America/Mexico_City:20241116T193000
DTSTAMP:20260424T175836
CREATED:20241115T184940Z
LAST-MODIFIED:20241115T184940Z
UID:52397-1731781800-1731785400@www.quierodisfrutar.mx
SUMMARY:NOSFERATU función de cine musical
DESCRIPTION:Nosferatu: función de cine musicalizada en vivo  \nSábado 16 de Noviembre 18:30\nCamelina Café\, Hidalgo #45\, Centro\, Xalapa \nCosto de entrada: $50 por persona\nPreventa hasta el 15/11/24: 2 boletos por $80\n \nEl dueto de música electrónica AUR4\, nos trae la obra maestra del expresionismo alemán: Nosferatu\, cinta de 1922\, dónde se adapto por primera ocasión la novela Drácula de Bram Stoker \n \nReservaciones al 2281803428 o a @camelina.cafe \n 
URL:https://www.quierodisfrutar.mx/evento/nosferatu-funcion-de-cine-musical/
LOCATION:Camelina Café\, Hidalgo #45\, Xalapa\, Veracruz\, 91000\, México
CATEGORIES:Arte,Teatro
ATTACH;FMTTYPE=image/jpeg:https://www.quierodisfrutar.mx/wp-content/uploads/2024/11/nosferatu.jpg
END:VEVENT
BEGIN:VEVENT
DTSTART;VALUE=DATE:20241123
DTEND;VALUE=DATE:20241201
DTSTAMP:20260424T175836
CREATED:20241119T191946Z
LAST-MODIFIED:20241119T192054Z
UID:52419-1732320000-1733011199@www.quierodisfrutar.mx
SUMMARY:VOCES DE HAYMARKET
DESCRIPTION:Continúa la temporada de la puesta en escena en la Ex Fábrica de San Bruno. \n  \nEl Colectivo Teatral Los Escondidos\, grupo independiente de teatro\, presenta Voces \nde Haymarket\, una obra que busca poner en valor las luchas y sacrificios de los obreros \nanarquistas que fueron ejecutados tras la Revuelta de Haymarket en 1886. Desde su \nfundación\, el Colectivo ha buscado llevar a los escenarios piezas que reflexionen sobre la \ncondición humana. A través de esta obra\, Los Escondidos nos invita a redescubrir la \nhistoria de una revolución que\, aunque silenciada en su tiempo\, sigue resonando en la lucha \npor un futuro más justo. \n  \nVoces de Haymarket ofrece una inmersión dramática en los corazones y mentes de \nlos obreros anarquistas que enfrentaron la horca tras la Revuelta de Haymarket\, un episodio \nclave en la lucha por los derechos laborales y origen del Día Internacional de los \nTrabajadores. La puesta en escena comienza mostrando los últimos respiros de estos \nactivistas\, condenados a muerte después de las huelgas y disturbios. Desde la horca\, el \ntiempo en el relato retrocede\, desenmarañando sus vidas personales y reconstruyendo la \nesencia del movimiento obrero. \n  \nA sólo ocho horas de la eternidad\, los personajes confrontan sus miedos e ideales\, así \ncomo la inminencia de la muerte. La obra entrelaza testimonios históricos\, discursos \noriginales y documentos biográficos\, representando la caída de los afamados “Mártires de \nChicago”. Con elementos literarios y revisiones de archivo\, el relato describe cómo una \nbomba puede transformar una revolución. Los gritos y cantos\, una vez silenciados\, resurgen \ncomo retumbos indomables de libertad. \n  \nA través de poesía\, diálogos hipotéticos\, canciones libertarias\, máscaras y un toque de \npunk\, Voces de Haymarket arrastra al espectador a las frías celdas donde se debaten \n  \ndesesperanza y determinación\, pintando un retrato feroz sobre la lucha que desafió a un \nsistema corrupto y que\, como pólvora encendida\, sigue detonando movimientos sociales. \nLa obra escenifica los ecos imperecederos de aquella revuelta\, vibrantes aún en nuestro \npresente\, reflexionando sobre la anarquía y el costo irremediable de la revolución. \n  \nCon dirección de Dalia Rodríguez de Leo\, asistencia de Ximena Márquez\, y un \ntalentoso elenco conformado por Mariana Ruiz\, Carolina Iturralde\, Ricardo Martínez\, \nEdison Solis\, Apolinar Guzmán\, Axel Ronzón y Ricardo Sosa\, Voces de Haymarket se \npresenta en la Ex Fábrica de San Bruno (Mártires del 28 de agosto #913)\, en el Barrio de \nSan Bruno. Las funciones serán los sábados 23 y 30 de noviembre\, y domingos 24 de \nnoviembre y 1 de diciembre a las 5:00 pm. La cuota de recuperación es de $100\, en \ntaquilla\, con una preventa de $80\, y una tarifa especial para los vecinos de San Bruno de \n$50. \n  \nLa comunidad xalapeña está cordialmente invitada a acompañarnos en este evento \núnico que celebra la memoria de aquellos que\, con su sacrificio\, abrieron paso a la lucha \npor los derechos fundamentales de los trabajadores. Para más información y compra de \nboletos\, pueden contactarse al WhatsApp 228 363 4401 o seguir las redes sociales del \nColectivo Teatral Los Escondidos (@ctlescondidos). No faltes\, la historia sigue viva.
URL:https://www.quierodisfrutar.mx/evento/voces-de-haymarket-2/
LOCATION:EX FÁBRICA DE SAN BRUNO\, Mártires del 28 de Agosto 253\, Los Pinos\, Xalapa\, Veracruz\, 91027\, México
CATEGORIES:Arte,Teatro
ATTACH;FMTTYPE=image/png:https://www.quierodisfrutar.mx/wp-content/uploads/2024/11/CARTEL-FÁBRICA-2.png
END:VEVENT
END:VCALENDAR