BEGIN:VCALENDAR
VERSION:2.0
PRODID:-//Quiero Disfrutar - ECPv6.15.1.1//NONSGML v1.0//EN
CALSCALE:GREGORIAN
METHOD:PUBLISH
X-ORIGINAL-URL:https://www.quierodisfrutar.mx
X-WR-CALDESC:Eventos para Quiero Disfrutar
REFRESH-INTERVAL;VALUE=DURATION:PT1H
X-Robots-Tag:noindex
X-PUBLISHED-TTL:PT1H
BEGIN:VTIMEZONE
TZID:America/Mexico_City
BEGIN:DAYLIGHT
TZOFFSETFROM:-0600
TZOFFSETTO:-0500
TZNAME:CDT
DTSTART:20250406T080000
END:DAYLIGHT
BEGIN:STANDARD
TZOFFSETFROM:-0500
TZOFFSETTO:-0600
TZNAME:CST
DTSTART:20251026T070000
END:STANDARD
END:VTIMEZONE
BEGIN:VEVENT
DTSTART;VALUE=DATE:20250501
DTEND;VALUE=DATE:20250505
DTSTAMP:20260424T073306
CREATED:20250429T154120Z
LAST-MODIFIED:20250429T154120Z
UID:53044-1746057600-1746403199@www.quierodisfrutar.mx
SUMMARY:Voces de Haymarket: teatro para recordar el primero de mayo
DESCRIPTION:Una obra que revive la historia de quienes dieron la vida por los derechos laborales. \nEn el marco del Día Internacional de los Trabajadores\, el Colectivo Teatral Los Escondidos presenta Voces de Haymarket\, una obra que revive la lucha de los obreros anarquistas ejecutados tras la Revuelta de Haymarket en 1886\, evento que dio origen al primero de mayo como fecha conmemorativa para los movimientos laborales en todo el mundo. \nLa puesta en escena ofrece una inmersión dramática en los corazones y mentes de quienes enfrentaron la horca tras exigir la jornada laboral de ocho horas. Desde la horca\, la narrativa se despliega en reversa para reconstruir las vidas\, ideales y pasiones de los llamados “Mártires de Chicago”\, figuras clave en la historia del movimiento obrero. \nCon una mezcla de poesía\, testimonios históricos\, máscaras\, punk y canciones libertarias\, Voces de Haymarket confronta al espectador con la urgencia de no olvidar. Entre celdas frías y discursos encendidos\, la obra arrastra al público a una época que\, aunque parezca lejana\, sigue resonando en cada injusticia y en cada protesta. \nBajo la dirección de Dalia R. de Leo\, y con las actuaciones de Mariana Ruiz\, Ximena Márquez\, Ricardo Martínez\, Ricardo Sosa\, Edison Solis\, Néstor Cano Ríos y Luis Adrián Limón\, esta obra se presenta como un homenaje escénico a la memoria\, la resistencia y la búsqueda de justicia social. \nVoces de Haymarket se presentará del 1 al 4 de mayo en Trasmundo Teatro (Xalapeños Ilustres #171). La función especial del jueves 1º de mayo\, Día Internacional de los Trabajadores\, contará con una promoción de 2 boletos por $150. Las funciones continúan el viernes 2 a las 20:00 h\, sábado 3 a las 19:00 h y domingo 4 a las 18:00 h. El costo en preventa es de $100 entrada general y $80 para estudiantes (válido hasta un día antes de cada función). En taquilla\, el boleto tendrá un costo de $150. \nEl Colectivo Teatral Los Escondidos\, agrupación independiente con una década de trayectoria dedicada a reflexionar sobre la condición humana\, invita a este evento que recupera la memoria de quienes\, con su sacrificio\, abrieron paso a los derechos laborales que hoy seguimos defendiendo. Informes y boletos: WhatsApp 228 363 4401. Redes sociales: @ctlescondidos. No faltes. La historia sigue viva.
URL:https://www.quierodisfrutar.mx/evento/voces-de-haymarket-teatro-para-recordar-el-primero-de-mayo/
LOCATION:TRASMUNDO TEATRO\, Xalapeños Ilustres 171 casi 20 de nov\, Xalapa\, Veracruz\, 91000\, México
CATEGORIES:Arte,Teatro
ATTACH;FMTTYPE=image/jpeg:https://www.quierodisfrutar.mx/wp-content/uploads/2025/04/493216556_661170833203255_1901999710551913391_n.jpg
END:VEVENT
BEGIN:VEVENT
DTSTART;TZID=America/Mexico_City:20250510T190000
DTEND;TZID=America/Mexico_City:20250510T203000
DTSTAMP:20260424T073306
CREATED:20250507T231417Z
LAST-MODIFIED:20250507T231442Z
UID:53074-1746903600-1746909000@www.quierodisfrutar.mx
SUMMARY:Teatro espontáneo con el colectivo artes de participación
DESCRIPTION:
URL:https://www.quierodisfrutar.mx/evento/teatro-espontaneo-con-el-colectivo-artes-de-participacion/
CATEGORIES:Teatro
ATTACH;FMTTYPE=image/jpeg:https://www.quierodisfrutar.mx/wp-content/uploads/2025/05/WhatsApp-Image-2025-05-07-at-10.51.39-AM-1.jpeg
END:VEVENT
BEGIN:VEVENT
DTSTART;TZID=America/Mexico_City:20250517T170000
DTEND;TZID=America/Mexico_City:20250517T190000
DTSTAMP:20260424T073306
CREATED:20250514T161713Z
LAST-MODIFIED:20250514T161713Z
UID:53096-1747501200-1747508400@www.quierodisfrutar.mx
SUMMARY:En Trasmundo Teatro se presenta la obra de títeres “Abuelares”\, en Xalapa
DESCRIPTION:En Trasmundo Teatro se presenta la obra de títeres “Abuelares”\, el sábado en Xalapa \n  \n \n  \n 
URL:https://www.quierodisfrutar.mx/evento/en-trasmundo-teatro-se-presenta-la-obra-de-titeres-abuelares-en-xalapa/
CATEGORIES:Teatro
ATTACH;FMTTYPE=image/jpeg:https://www.quierodisfrutar.mx/wp-content/uploads/2025/05/TT.jpg
END:VEVENT
END:VCALENDAR