BEGIN:VCALENDAR
VERSION:2.0
PRODID:-//Quiero Disfrutar - ECPv6.15.1.1//NONSGML v1.0//EN
CALSCALE:GREGORIAN
METHOD:PUBLISH
X-WR-CALNAME:Quiero Disfrutar
X-ORIGINAL-URL:https://www.quierodisfrutar.mx
X-WR-CALDESC:Eventos para Quiero Disfrutar
REFRESH-INTERVAL;VALUE=DURATION:PT1H
X-Robots-Tag:noindex
X-PUBLISHED-TTL:PT1H
BEGIN:VTIMEZONE
TZID:America/Mexico_City
BEGIN:DAYLIGHT
TZOFFSETFROM:-0600
TZOFFSETTO:-0500
TZNAME:CDT
DTSTART:20250406T080000
END:DAYLIGHT
BEGIN:STANDARD
TZOFFSETFROM:-0500
TZOFFSETTO:-0600
TZNAME:CST
DTSTART:20251026T070000
END:STANDARD
END:VTIMEZONE
BEGIN:VEVENT
DTSTART;VALUE=DATE:20250806
DTEND;VALUE=DATE:20250901
DTSTAMP:20260424T024859
CREATED:20250806T191134Z
LAST-MODIFIED:20250806T191134Z
UID:53516-1754438400-1756684799@www.quierodisfrutar.mx
SUMMARY: ¡Cartelera de agosto en Trasmundo Teatro!
DESCRIPTION:Cartelera de Agosto: \n 
URL:https://www.quierodisfrutar.mx/evento/cartelera-de-agosto-en-trasmundo-teatro/
CATEGORIES:Teatro
ATTACH;FMTTYPE=image/jpeg:https://www.quierodisfrutar.mx/wp-content/uploads/2025/08/tras.jpg
END:VEVENT
BEGIN:VEVENT
DTSTART;TZID=America/Mexico_City:20250810T180000
DTEND;TZID=America/Mexico_City:20250810T190000
DTSTAMP:20260424T024859
CREATED:20250809T163946Z
LAST-MODIFIED:20250809T163946Z
UID:53527-1754848800-1754852400@www.quierodisfrutar.mx
SUMMARY:VOCES DE HAYMARKET- Última función en Xalapa
DESCRIPTION:ÚLTIMA FUNCIÓN EN XALAPA \nEl 1º de mayo se conmemora desde 1889\, recordando a los trabajadores anarquistas que enfrentaron la horca tras exigir condiciones dignas y una jornada de 8 horas. Hoy\, su grito sigue vivo en cada voz que se alza contra las injusticias laborales.\nLa lucha sigue\, porque el abuso sigue. \nColectivo Teatral Los Escondidos presenta:\nVOCES DE HAYMARKET \nTeatro J. J. Herrera\n(Miguel Palacios #12) \n-Función especial-\nDomingo 10 de agosto de 2025\n18:00 hrs.\n-15va función- \nEntrada libre\n*Cupo limitado*\nEntradas disponibles desde una hora antes de la función \n_ \n“Si de mí depende que Alberto pida perdón\, que lo ahorquen…”\nLucy Parsons\nVoces de Haymarket es una inmersión dramática en los corazones y mentes de los obreros anarquistas que enfrentaron la horca tras la Revuelta de Haymarket en 1886\, un episodio clave en la lucha por los derechos laborales y origen del Día Internacional de los Trabajadores. La puesta en escena comienza mostrando los últimos respiros de estos activistas\, condenados a muerte después de las huelgas y disturbios. Desde la horca\, el tiempo en el relato retrocede\, desenmarañando sus vidas personales y reconstruyendo la esencia del movimiento obrero. \nEn escena:\nMariana Ruiz\, Ximena Márquez\, Ricardo Sosa\, Ricardo Martínez\, Néstor Cano Ríos\, Luis Adrián Limón y Apolinar Guzmán. \nDirección y escritura:\nDalia R. de Leo
URL:https://www.quierodisfrutar.mx/evento/voces-de-haymarket-ultima-funcion-en-xalapa/
LOCATION:Teatro JJ Herrera\, Corredor turístico Carlos Fuentes #12\, col. Centro\, Xalapa\, Veracruz\, México
CATEGORIES:Arte,Teatro
ATTACH;FMTTYPE=image/jpeg:https://www.quierodisfrutar.mx/wp-content/uploads/2025/08/526471012_2197736854067550_8114651898585326705_n.jpg
END:VEVENT
BEGIN:VEVENT
DTSTART;VALUE=DATE:20250814
DTEND;VALUE=DATE:20250818
DTSTAMP:20260424T024859
CREATED:20250812T160507Z
LAST-MODIFIED:20250812T160507Z
UID:53565-1755129600-1755475199@www.quierodisfrutar.mx
SUMMARY:“La del Conejo dentro de la Caja de Zapatos” se presenta este fin de semana Área 51 Foro Teatral
DESCRIPTION:Con ternura\, humor y un toque de farsa escénica\, La Maleta – Teatro regresa a los escenarios xalapeños con una de sus historias más entrañables: “La del Conejo dentro de la Caja de Zapatos”. Esta obra de teatro para toda la familia invita a reflexionar sobre el miedo y la sobreprotección parental\, y podrá disfrutarse del 14 al 17 de agosto en Área 51 Foro Teatral. \nLa puesta en escena cuenta la historia Felicia y su madre\, que viven en una pequeña casa cerca de un muelle\, en un lugar donde por alguna extraña razón las personas dejaron de salir de sus casas. Después de descubrir el extraño asesinato de su conejo por culpa de un zapato\, y la oportuna visita de “El Gran Autómata”\, quien ofrece cumplir cualquier deseo a cambio de seguir siendo su gobernante\, Felicia viajará a Ciudad Autómata para recuperar a su único amigo en el mundo. En el camino conocerá a Dante\, un simpático joven que a diferencia de ella no le teme a nada\, y juntos se enfrentarán a esos peligros que se esconden más allá de la puerta y de los que alguna vez su madre le advirtió. \nLa dramaturgia y dirección están a cargo de Oscar Reyes\, y cuenta con las actuaciones de Selena Arizmendi\, Grecia Melo\, Hernán Manzano y Gustavo Merino; así como con la musicalización de Luca Santander. Esta producción fue ganadora de la Muestra Estatal de Artes Escénicas Veracruz 2020\, finalista del XXVII Festival Internacional de Teatro Universitario de la UNAM\, y seleccionada en el programa Los Independientes al Teatro del Instituto Veracruzano de la Cultura. \nLas funciones de “La del Conejo dentro de la Caja de Zapatos” se presentarán del 14 al 17 de agosto en Área 51 Foro Teatral (Revolución #307\, Col. Centro\, Xalapa)\, con los siguientes horarios: jueves y viernes a las 20:00 h\, sábado a las 19:00 h y domingo a las 18:00 h. El costo de los boletos es de $150 general y $100 con descuentos habituales. Actualmente se encuentra disponible un precio especial de preventa de $100 para quienes compren o reserven sus entradas con al menos un día de anticipación a través de las redes sociales de la compañía. Para mayor información visite la página de Facebook La Maleta – Teatro\, o síganos en @LaMaletaTeatro en X y @maletateatro en Instagram.
URL:https://www.quierodisfrutar.mx/evento/la-del-conejo-dentro-de-la-caja-de-zapatos-se-presenta-este-fin-de-semana-area-51-foro-teatral/
LOCATION:Área 51 Foro Teatral\, Xalapa \, Veracruz \, México
CATEGORIES:Arte,Teatro
ATTACH;FMTTYPE=image/png:https://www.quierodisfrutar.mx/wp-content/uploads/2025/08/FOTO-4-CARTEL-scaled.png
END:VEVENT
BEGIN:VEVENT
DTSTART;VALUE=DATE:20250817
DTEND;VALUE=DATE:20250818
DTSTAMP:20260424T024859
CREATED:20250814T174544Z
LAST-MODIFIED:20250814T174544Z
UID:53581-1755388800-1755475199@www.quierodisfrutar.mx
SUMMARY:Comedia del círculo cuadrado
DESCRIPTION:
URL:https://www.quierodisfrutar.mx/evento/comedia-del-circulo-cuadrado/
LOCATION:TRASMUNDO TEATRO\, Xalapeños Ilustres 171 casi 20 de nov\, Xalapa\, Veracruz\, 91000\, México
CATEGORIES:Arte,Teatro
ATTACH;FMTTYPE=image/jpeg:https://www.quierodisfrutar.mx/wp-content/uploads/2025/08/WhatsApp-Image-2025-08-14-at-12.32.43-PM.jpeg
END:VEVENT
BEGIN:VEVENT
DTSTART;VALUE=DATE:20250821
DTEND;VALUE=DATE:20250901
DTSTAMP:20260424T024859
CREATED:20250822T151442Z
LAST-MODIFIED:20250822T151442Z
UID:53616-1755734400-1756684799@www.quierodisfrutar.mx
SUMMARY:Tercer Festival Teatro Coatepec 2025
DESCRIPTION:
URL:https://www.quierodisfrutar.mx/evento/tercer-festival-teatro-coatepec-2025/
LOCATION:Centro Cultural de Coatepec\, Jimenez del Campillo No. 4\, Coatepec\, Veracruz\, 91500\, México
CATEGORIES:Arte,Teatro,Variados
ATTACH;FMTTYPE=image/jpeg:https://www.quierodisfrutar.mx/wp-content/uploads/2025/08/WhatsApp-Image-2025-08-22-at-10.09.29-AM.jpeg
END:VEVENT
BEGIN:VEVENT
DTSTART;VALUE=DATE:20250822
DTEND;VALUE=DATE:20250825
DTSTAMP:20260424T024859
CREATED:20250822T151612Z
LAST-MODIFIED:20250822T151612Z
UID:53623-1755820800-1756079999@www.quierodisfrutar.mx
SUMMARY:UZ\, El Musical
DESCRIPTION:
URL:https://www.quierodisfrutar.mx/evento/uz-el-musical/
LOCATION:TRASMUNDO TEATRO\, Xalapeños Ilustres 171 casi 20 de nov\, Xalapa\, Veracruz\, 91000\, México
CATEGORIES:Arte,Música y Danza,Teatro
ATTACH;FMTTYPE=image/jpeg:https://www.quierodisfrutar.mx/wp-content/uploads/2025/08/WhatsApp-Image-2025-08-22-at-10.09.35-AM.jpeg
END:VEVENT
BEGIN:VEVENT
DTSTART;VALUE=DATE:20250827
DTEND;VALUE=DATE:20250901
DTSTAMP:20260424T024859
CREATED:20250827T163205Z
LAST-MODIFIED:20250827T163205Z
UID:53663-1756252800-1756684799@www.quierodisfrutar.mx
SUMMARY:Tercer Festival de Teatro en Coatepec
DESCRIPTION:Tercer Festival de Teatro en Coatepec \n 
URL:https://www.quierodisfrutar.mx/evento/tercer-festival-de-teatro-en-coatepec/
CATEGORIES:Teatro
ATTACH;FMTTYPE=image/jpeg:https://www.quierodisfrutar.mx/wp-content/uploads/2025/08/TF-T.jpg
END:VEVENT
BEGIN:VEVENT
DTSTART;VALUE=DATE:20250829
DTEND;VALUE=DATE:20250831
DTSTAMP:20260424T024859
CREATED:20250829T145515Z
LAST-MODIFIED:20250829T145515Z
UID:53680-1756425600-1756598399@www.quierodisfrutar.mx
SUMMARY:El Reloj Descompuesto de Teté
DESCRIPTION:
URL:https://www.quierodisfrutar.mx/evento/el-reloj-descompuesto-de-tete/
LOCATION:TRASMUNDO TEATRO\, Xalapeños Ilustres 171 casi 20 de nov\, Xalapa\, Veracruz\, 91000\, México
CATEGORIES:Arte,Teatro
ATTACH;FMTTYPE=image/jpeg:https://www.quierodisfrutar.mx/wp-content/uploads/2025/08/WhatsApp-Image-2025-08-29-at-9.43.52-AM-1.jpeg
END:VEVENT
BEGIN:VEVENT
DTSTART;TZID=America/Mexico_City:20250831T180000
DTEND;TZID=America/Mexico_City:20250831T190000
DTSTAMP:20260424T024859
CREATED:20250829T145238Z
LAST-MODIFIED:20250829T145238Z
UID:53677-1756663200-1756666800@www.quierodisfrutar.mx
SUMMARY:Teatro de la Memoria
DESCRIPTION:
URL:https://www.quierodisfrutar.mx/evento/teatro-de-la-memoria/
LOCATION:TRASMUNDO TEATRO\, Xalapeños Ilustres 171 casi 20 de nov\, Xalapa\, Veracruz\, 91000\, México
CATEGORIES:Arte,Teatro
ATTACH;FMTTYPE=image/jpeg:https://www.quierodisfrutar.mx/wp-content/uploads/2025/08/WhatsApp-Image-2025-08-29-at-9.43.50-AM.jpeg
END:VEVENT
END:VCALENDAR