BEGIN:VCALENDAR
VERSION:2.0
PRODID:-//Quiero Disfrutar - ECPv6.15.1.1//NONSGML v1.0//EN
CALSCALE:GREGORIAN
METHOD:PUBLISH
X-WR-CALNAME:Quiero Disfrutar
X-ORIGINAL-URL:https://www.quierodisfrutar.mx
X-WR-CALDESC:Eventos para Quiero Disfrutar
REFRESH-INTERVAL;VALUE=DURATION:PT1H
X-Robots-Tag:noindex
X-PUBLISHED-TTL:PT1H
BEGIN:VTIMEZONE
TZID:America/Mexico_City
BEGIN:DAYLIGHT
TZOFFSETFROM:-0600
TZOFFSETTO:-0500
TZNAME:CDT
DTSTART:20230402T080000
END:DAYLIGHT
BEGIN:STANDARD
TZOFFSETFROM:-0500
TZOFFSETTO:-0600
TZNAME:CST
DTSTART:20231029T070000
END:STANDARD
END:VTIMEZONE
BEGIN:VEVENT
DTSTART;TZID=America/Mexico_City:20230630T180000
DTEND;TZID=America/Mexico_City:20230630T210000
DTSTAMP:20260425T232713
CREATED:20230626T165843Z
LAST-MODIFIED:20230626T165843Z
UID:51094-1688148000-1688158800@www.quierodisfrutar.mx
SUMMARY:Un viaje en el tiempo con el Zodiaco Maya
DESCRIPTION:  \n– ‘Relatos del Anahuac’ presenta la obra familiar “Tzol K’in”\, en El Set \n  \n  \nHubo un tiempo en que no alumbraban el Sol ni la Luna. Todo estaba oscuro\, volviendo a acomodarse. \nEstrellas\, soles y planetas se reunieron para organizarse\, dar orden y formas a las vidas que existían en la tierra conocida entonces como Kab’an. \nDesde lejos\, 13 estrellas se enteraron y desearon con todas sus ganas habitar en este mundo nuevo. \nCuando llegaron\, cada una tomó forma de un animal y vivió su propia aventura a través de los cuatro rumbos de los cuatro colores\, hasta que volvieron a encontrarse. \nCon el Tiempo\, las 13 se convirtieron en guardianes del Kab’An\, de la Luna y del Tzol K’in; fueron elegidos como los 13 signos tonales del Zodiaco Maya. \nEn esta obra para público familiar\, un viajero en el tiempo nos narra leyendas mitológicas del antiguo Anahuac y Mayab con dinámicas de interacción\, teatro objeto\, máscaras y arte gráfico multimedia\, sobre los trece animales que aún hoy llevan la Cuenta Maya de los días mientras cuidan de la luna. \nObra de Narración Oral de la compañía Relatos del Anahuac\, con actuación y conceptualización de Ricardo “R3” Rodríguez Ramos\, quien trabajó el texto e investigación con la Dramaturgista y Directora Isabel Quiroz\, impulsados por la Secretaría de Cultura a través del Sistema de Apoyos a la Creación y Proyectos Culturales (SACPC) 2021. \nVen en familia y conoce a tu aliado en el Tiempo. \nTe esperamos en El Set el próximo viernes 30 de junio a las 18:00 horas (Donceles #14\, Fraccionamiento Los Ángeles. Xalapa\, Ver). \n Mayor información se puede obtener a los teléfonos 2281 789833 y 2282411750\, así como en las redes sociales de @RelatosDelAnahuac. \n  \n\n		\n		\n			\n				\n			\n			\n				\n			\n			\n				\n			\n			\n				\n			\n			\n				\n			\n			\n		\n\n  \n (Texto: Ruta 98 / Fotos: Violeta Berdón) \n  \n  \n 
URL:https://www.quierodisfrutar.mx/evento/un-viaje-en-el-tiempo-con-el-zodiaco-maya/
CATEGORIES:Teatro
ATTACH;FMTTYPE=image/jpeg:https://www.quierodisfrutar.mx/wp-content/uploads/2023/06/Tzol-Kin-El-set-03.jpg
END:VEVENT
END:VCALENDAR