BEGIN:VCALENDAR
VERSION:2.0
PRODID:-//Quiero Disfrutar - ECPv6.15.1.1//NONSGML v1.0//EN
CALSCALE:GREGORIAN
METHOD:PUBLISH
X-ORIGINAL-URL:https://www.quierodisfrutar.mx
X-WR-CALDESC:Eventos para Quiero Disfrutar
REFRESH-INTERVAL;VALUE=DURATION:PT1H
X-Robots-Tag:noindex
X-PUBLISHED-TTL:PT1H
BEGIN:VTIMEZONE
TZID:America/Mexico_City
BEGIN:DAYLIGHT
TZOFFSETFROM:-0600
TZOFFSETTO:-0500
TZNAME:CDT
DTSTART:20230402T080000
END:DAYLIGHT
BEGIN:STANDARD
TZOFFSETFROM:-0500
TZOFFSETTO:-0600
TZNAME:CST
DTSTART:20231029T070000
END:STANDARD
END:VTIMEZONE
BEGIN:VEVENT
DTSTART;VALUE=DATE:20231221
DTEND;VALUE=DATE:20231223
DTSTAMP:20260425T151046
CREATED:20231206T000743Z
LAST-MODIFIED:20231206T000743Z
UID:51576-1703116800-1703289599@www.quierodisfrutar.mx
SUMMARY:“Luces\, cámara y navidad”
DESCRIPTION:Performance teatral jamás visto. \nEl evento tendrá lugar en el teatro J.J Herrera ubicado en Miguel Palacios #12\, Zona Centro\, Centro\, 91000 Xalapa-Enríquez\, Ver. JUEVES 21 17:00\, 19:00 HORAS Y VIERNES 22 DE DICIEMBRE 19:00 HORAS \nEste performance escrito\, dirigido y producido por el maestro Fredy Vivanco\, consta de tres puestas en escena con duración de 1 hora y media con 30 actores en escena\, en un viaje inolvidable que nos llevará a través del drama\, la comedia y la sátira fársica. Un evento multidisciplinar ya que lleva actuación\, canto y baile\, a través de sus 3 obras. \nLa intención de esta puesta en escena es atraer a un nuevo público a los foros teatrales y brindar una oportunidad a aquellas personas que siempre han querido hacer arte de alguna forma\, ya que somos una compañía de teatro independiente.
URL:https://www.quierodisfrutar.mx/evento/luces-camara-y-navidad/
LOCATION:Teatro J.J. Herrera\, Miguel Palacios #12\, Xalapa\, Veracruz\, 91000\, México
CATEGORIES:Arte,Teatro
ATTACH;FMTTYPE=image/jpeg:https://www.quierodisfrutar.mx/wp-content/uploads/2023/12/407072143_901455811600038_584187123540906917_n.jpg
END:VEVENT
END:VCALENDAR