BEGIN:VCALENDAR
VERSION:2.0
PRODID:-//Quiero Disfrutar - ECPv6.15.1.1//NONSGML v1.0//EN
CALSCALE:GREGORIAN
METHOD:PUBLISH
X-WR-CALNAME:Quiero Disfrutar
X-ORIGINAL-URL:https://www.quierodisfrutar.mx
X-WR-CALDESC:Eventos para Quiero Disfrutar
REFRESH-INTERVAL;VALUE=DURATION:PT1H
X-Robots-Tag:noindex
X-PUBLISHED-TTL:PT1H
BEGIN:VTIMEZONE
TZID:America/Mexico_City
BEGIN:DAYLIGHT
TZOFFSETFROM:-0600
TZOFFSETTO:-0500
TZNAME:CDT
DTSTART:20250406T080000
END:DAYLIGHT
BEGIN:STANDARD
TZOFFSETFROM:-0500
TZOFFSETTO:-0600
TZNAME:CST
DTSTART:20251026T070000
END:STANDARD
END:VTIMEZONE
BEGIN:VEVENT
DTSTART;TZID=America/Mexico_City:20250627T170000
DTEND;TZID=America/Mexico_City:20250627T190000
DTSTAMP:20260424T073319
CREATED:20250625T183616Z
LAST-MODIFIED:20250625T183616Z
UID:53303-1751043600-1751050800@www.quierodisfrutar.mx
SUMMARY:Se presentará en Teatro del Estado la obra "Doble Vida"\, de Fernando Yralda
DESCRIPTION:Función única este viernes en la Sala “Dagoberto Guillaumín” a las 17:00 horas
URL:https://www.quierodisfrutar.mx/evento/se-presentara-en-teatro-del-estado-la-obra-doble-vida-de-fernando-yralda/
CATEGORIES:Teatro
ATTACH;FMTTYPE=image/jpeg:https://www.quierodisfrutar.mx/wp-content/uploads/2025/06/DB.jpg
END:VEVENT
END:VCALENDAR