BEGIN:VCALENDAR
VERSION:2.0
PRODID:-//Quiero Disfrutar - ECPv6.15.1.1//NONSGML v1.0//EN
CALSCALE:GREGORIAN
METHOD:PUBLISH
X-ORIGINAL-URL:https://www.quierodisfrutar.mx
X-WR-CALDESC:Eventos para Quiero Disfrutar
REFRESH-INTERVAL;VALUE=DURATION:PT1H
X-Robots-Tag:noindex
X-PUBLISHED-TTL:PT1H
BEGIN:VTIMEZONE
TZID:America/Mexico_City
BEGIN:DAYLIGHT
TZOFFSETFROM:-0600
TZOFFSETTO:-0500
TZNAME:CDT
DTSTART:20260405T080000
END:DAYLIGHT
BEGIN:STANDARD
TZOFFSETFROM:-0500
TZOFFSETTO:-0600
TZNAME:CST
DTSTART:20261025T070000
END:STANDARD
END:VTIMEZONE
BEGIN:VEVENT
DTSTART;VALUE=DATE:20260402
DTEND;VALUE=DATE:20260501
DTSTAMP:20260423T133453
CREATED:20260402T210052Z
LAST-MODIFIED:20260402T210052Z
UID:54387-1775088000-1777593599@www.quierodisfrutar.mx
SUMMARY:Cartelera Área 51 foro teatral 
DESCRIPTION: 
URL:https://www.quierodisfrutar.mx/evento/cartelera-area-51-foro-teatral/
CATEGORIES:Teatro
ATTACH;FMTTYPE=image/jpeg:https://www.quierodisfrutar.mx/wp-content/uploads/2026/04/foro.jpg
END:VEVENT
BEGIN:VEVENT
DTSTART;TZID=America/Mexico_City:20260411T180000
DTEND;TZID=America/Mexico_City:20260411T190000
DTSTAMP:20260423T133453
CREATED:20260408T202655Z
LAST-MODIFIED:20260408T203348Z
UID:54411-1775930400-1775934000@www.quierodisfrutar.mx
SUMMARY:Show en vivo del álbum: "Diez cartas a mi abuelo"
DESCRIPTION: 
URL:https://www.quierodisfrutar.mx/evento/show-en-vivo-del-album-diez-cartas-a-mi-abuelo/
CATEGORIES:Concierto,Teatro
ATTACH;FMTTYPE=image/jpeg:https://www.quierodisfrutar.mx/wp-content/uploads/2026/04/abuelo.jpg
END:VEVENT
BEGIN:VEVENT
DTSTART;TZID=America/Mexico_City:20260411T180000
DTEND;TZID=America/Mexico_City:20260412T200000
DTSTAMP:20260423T133453
CREATED:20260409T000851Z
LAST-MODIFIED:20260409T000851Z
UID:54423-1775930400-1776024000@www.quierodisfrutar.mx
SUMMARY:Vida y obra de una actriz independiente 
DESCRIPTION:Vida y obra de una actriz independiente
URL:https://www.quierodisfrutar.mx/evento/vida-y-obra-de-una-actriz-independiente/
CATEGORIES:Teatro
ATTACH;FMTTYPE=image/jpeg:https://www.quierodisfrutar.mx/wp-content/uploads/2026/04/WhatsApp-Image-2026-04-08-at-10.53.46-AM-2.jpeg
END:VEVENT
END:VCALENDAR