BEGIN:VCALENDAR
VERSION:2.0
PRODID:-//Quiero Disfrutar - ECPv6.15.1.1//NONSGML v1.0//EN
CALSCALE:GREGORIAN
METHOD:PUBLISH
X-ORIGINAL-URL:https://www.quierodisfrutar.mx
X-WR-CALDESC:Eventos para Quiero Disfrutar
REFRESH-INTERVAL;VALUE=DURATION:PT1H
X-Robots-Tag:noindex
X-PUBLISHED-TTL:PT1H
BEGIN:VTIMEZONE
TZID:America/Mexico_City
BEGIN:DAYLIGHT
TZOFFSETFROM:-0600
TZOFFSETTO:-0500
TZNAME:CDT
DTSTART:20250406T080000
END:DAYLIGHT
BEGIN:STANDARD
TZOFFSETFROM:-0500
TZOFFSETTO:-0600
TZNAME:CST
DTSTART:20251026T070000
END:STANDARD
END:VTIMEZONE
BEGIN:VEVENT
DTSTART;VALUE=DATE:20250713
DTEND;VALUE=DATE:20250804
DTSTAMP:20260424T030702
CREATED:20250711T160650Z
LAST-MODIFIED:20250711T160650Z
UID:53371-1752364800-1754265599@www.quierodisfrutar.mx
SUMMARY:Eventos culturales en Trasmundo Teatro
DESCRIPTION:
URL:https://www.quierodisfrutar.mx/evento/eventos-culturales-en-trasmundo-teatro/
LOCATION:TRASMUNDO TEATRO\, Xalapeños Ilustres 171 casi 20 de nov\, Xalapa\, Veracruz\, 91000\, México
CATEGORIES:Arte,Turismo
ATTACH;FMTTYPE=image/jpeg:https://www.quierodisfrutar.mx/wp-content/uploads/2025/07/WhatsApp-Image-2025-07-11-at-10.52.21-AM-1.jpeg
END:VEVENT
BEGIN:VEVENT
DTSTART;TZID=America/Mexico_City:20250719T100000
DTEND;TZID=America/Mexico_City:20250719T190000
DTSTAMP:20260424T030702
CREATED:20250610T170028Z
LAST-MODIFIED:20250610T170028Z
UID:53224-1752919200-1752951600@www.quierodisfrutar.mx
SUMMARY:DIVA FEST 2025
DESCRIPTION:¡Celebramos 11 años de pedaleo y lucha por la movilidad en Xalapa!\nA los medios de comunicación y periodistas comprometidos con la transformación urbana: \nLa Colectiva Ciclista Divas Urban Bike cumple 11 años de trabajo ininterrumpido promoviendo:\n Movilidad segura e inclusiva\n Empoderamiento de mujeres y disidencias\n Incidencia en políticas públicas \nCon una coordinación 100% mujeres\, hemos logrado:\n Primera rodada nocturna con perspectiva de género\n Fomentamos la no violencia y la educación vial\n Talleres de mecánica para mujeres\n Formamos parte de la Coalición de Movilidad Segura Veracruz \nPróximamente más detalles de las actividades gratuitas dentro del marco de nuestro aniversario. Les invitamos a compartir en sus notas\n NOTA  https://www.facebook.com/share/p/19Ao4WDX6T/ \n«Nuestro mayor logro es ver cada día más mujeres pedaleando sin miedo por la ciudad” \nContacto para coberturas: divasurbanbike@gmail.com / 2281203264
URL:https://www.quierodisfrutar.mx/evento/diva-fest-2025/
CATEGORIES:Arte,Turismo
ATTACH;FMTTYPE=image/png:https://www.quierodisfrutar.mx/wp-content/uploads/2025/06/495269801_23905979369098004_8797195880293349478_n.png
END:VEVENT
END:VCALENDAR