BEGIN:VCALENDAR
VERSION:2.0
PRODID:-//Quiero Disfrutar - ECPv6.15.1.1//NONSGML v1.0//EN
CALSCALE:GREGORIAN
METHOD:PUBLISH
X-WR-CALNAME:Quiero Disfrutar
X-ORIGINAL-URL:https://www.quierodisfrutar.mx
X-WR-CALDESC:Eventos para Quiero Disfrutar
REFRESH-INTERVAL;VALUE=DURATION:PT1H
X-Robots-Tag:noindex
X-PUBLISHED-TTL:PT1H
BEGIN:VTIMEZONE
TZID:America/Mexico_City
BEGIN:DAYLIGHT
TZOFFSETFROM:-0600
TZOFFSETTO:-0500
TZNAME:CDT
DTSTART:20250406T080000
END:DAYLIGHT
BEGIN:STANDARD
TZOFFSETFROM:-0500
TZOFFSETTO:-0600
TZNAME:CST
DTSTART:20251026T070000
END:STANDARD
END:VTIMEZONE
BEGIN:VEVENT
DTSTART;VALUE=DATE:20250623
DTEND;VALUE=DATE:20250701
DTSTAMP:20260424T033206
CREATED:20250623T170507Z
LAST-MODIFIED:20250623T170507Z
UID:53263-1750636800-1751327999@www.quierodisfrutar.mx
SUMMARY:Actividades culturales en la ciudad de Xalapa
DESCRIPTION:Actividades culturales en la ciudad de Xalapa
URL:https://www.quierodisfrutar.mx/evento/actividades-culturales-en-la-ciudad-de-xalapa-10/
CATEGORIES:Variados
ATTACH;FMTTYPE=image/jpeg:https://www.quierodisfrutar.mx/wp-content/uploads/2025/06/WhatsApp-Image-2025-06-23-at-11.53.29-AM-1.jpeg
END:VEVENT
BEGIN:VEVENT
DTSTART;VALUE=DATE:20250702
DTEND;VALUE=DATE:20250707
DTSTAMP:20260424T033206
CREATED:20250702T154542Z
LAST-MODIFIED:20250702T154542Z
UID:53315-1751414400-1751846399@www.quierodisfrutar.mx
SUMMARY:Actividades culturales en la ciudad de Xalapa
DESCRIPTION:Actividades culturales en la ciudad de Xalapa\n 
URL:https://www.quierodisfrutar.mx/evento/actividades-culturales-en-la-ciudad-de-xalapa-11/
CATEGORIES:Variados
ATTACH;FMTTYPE=image/jpeg:https://www.quierodisfrutar.mx/wp-content/uploads/2025/07/WhatsApp-Image-2025-07-02-at-10.20.05-AM-6.jpeg
END:VEVENT
BEGIN:VEVENT
DTSTART;VALUE=DATE:20250707
DTEND;VALUE=DATE:20250714
DTSTAMP:20260424T033206
CREATED:20250707T184258Z
LAST-MODIFIED:20250707T184258Z
UID:53339-1751846400-1752451199@www.quierodisfrutar.mx
SUMMARY:Actividades culturales en la ciudad de Xalapa
DESCRIPTION:Actividades culturales en la ciudad de Xalapa
URL:https://www.quierodisfrutar.mx/evento/actividades-culturales-en-la-ciudad-de-xalapa-12/
CATEGORIES:Variados
ATTACH;FMTTYPE=image/jpeg:https://www.quierodisfrutar.mx/wp-content/uploads/2025/07/WhatsApp-Image-2025-07-07-at-12.59.26-PM-1.jpeg
END:VEVENT
BEGIN:VEVENT
DTSTART;VALUE=DATE:20250714
DTEND;VALUE=DATE:20250721
DTSTAMP:20260424T033206
CREATED:20250714T191801Z
LAST-MODIFIED:20250714T191801Z
UID:53382-1752451200-1753055999@www.quierodisfrutar.mx
SUMMARY:Actividades culturales en la ciudad de Xalapa
DESCRIPTION:Actividades culturales en la ciudad de Xalapa\n 
URL:https://www.quierodisfrutar.mx/evento/actividades-culturales-en-la-ciudad-de-xalapa-13/
CATEGORIES:Variados
ATTACH;FMTTYPE=image/jpeg:https://www.quierodisfrutar.mx/wp-content/uploads/2025/07/WhatsApp-Image-2025-07-14-at-1.34.38-PM-2.jpeg
END:VEVENT
BEGIN:VEVENT
DTSTART;VALUE=DATE:20250722
DTEND;VALUE=DATE:20250728
DTSTAMP:20260424T033206
CREATED:20250722T160050Z
LAST-MODIFIED:20250722T160050Z
UID:53413-1753142400-1753660799@www.quierodisfrutar.mx
SUMMARY:Actividades culturales en Xalapa (del 22 al 27 de julio)
DESCRIPTION:
URL:https://www.quierodisfrutar.mx/evento/actividades-culturales-en-xalapa-del-22-al-27-de-julio/
CATEGORIES:Arte,Variados
ATTACH;FMTTYPE=image/jpeg:https://www.quierodisfrutar.mx/wp-content/uploads/2025/07/WhatsApp-Image-2025-07-22-at-10.53.07-AM-1.jpeg
END:VEVENT
BEGIN:VEVENT
DTSTART;VALUE=DATE:20250728
DTEND;VALUE=DATE:20250804
DTSTAMP:20260424T033206
CREATED:20250728T200424Z
LAST-MODIFIED:20250728T200424Z
UID:53448-1753660800-1754265599@www.quierodisfrutar.mx
SUMMARY:Actividades culturales en Xalapa
DESCRIPTION:Actividades culturales en Xalapa\n 
URL:https://www.quierodisfrutar.mx/evento/actividades-culturales-en-xalapa-10/
CATEGORIES:Variados
ATTACH;FMTTYPE=image/jpeg:https://www.quierodisfrutar.mx/wp-content/uploads/2025/07/WhatsApp-Image-2025-07-28-at-2.32.31-PM.jpeg
END:VEVENT
END:VCALENDAR