BEGIN:VCALENDAR
VERSION:2.0
PRODID:-//Quiero Disfrutar - ECPv6.15.1.1//NONSGML v1.0//EN
CALSCALE:GREGORIAN
METHOD:PUBLISH
X-WR-CALNAME:Quiero Disfrutar
X-ORIGINAL-URL:https://www.quierodisfrutar.mx
X-WR-CALDESC:Eventos para Quiero Disfrutar
REFRESH-INTERVAL;VALUE=DURATION:PT1H
X-Robots-Tag:noindex
X-PUBLISHED-TTL:PT1H
BEGIN:VTIMEZONE
TZID:America/Mexico_City
BEGIN:DAYLIGHT
TZOFFSETFROM:-0600
TZOFFSETTO:-0500
TZNAME:CDT
DTSTART:20250406T080000
END:DAYLIGHT
BEGIN:STANDARD
TZOFFSETFROM:-0500
TZOFFSETTO:-0600
TZNAME:CST
DTSTART:20251026T070000
END:STANDARD
END:VTIMEZONE
BEGIN:VEVENT
DTSTART;VALUE=DATE:20250926
DTEND;VALUE=DATE:20251004
DTSTAMP:20260423T212932
CREATED:20250926T190636Z
LAST-MODIFIED:20250926T190636Z
UID:53829-1758844800-1759535999@www.quierodisfrutar.mx
SUMMARY:Actividades culturales en Xalapa
DESCRIPTION:
URL:https://www.quierodisfrutar.mx/evento/actividades-culturales-en-xalapa-15/
CATEGORIES:Arte,Variados
ATTACH;FMTTYPE=image/jpeg:https://www.quierodisfrutar.mx/wp-content/uploads/2025/09/WhatsApp-Image-2025-09-26-at-2.03.02-PM.jpeg
END:VEVENT
BEGIN:VEVENT
DTSTART;VALUE=DATE:20250929
DTEND;VALUE=DATE:20251006
DTSTAMP:20260423T212932
CREATED:20250929T202016Z
LAST-MODIFIED:20250929T202016Z
UID:53836-1759104000-1759708799@www.quierodisfrutar.mx
SUMMARY:Actividades culturales en Xalapa
DESCRIPTION:Actividades culturales en Xalapa
URL:https://www.quierodisfrutar.mx/evento/actividades-culturales-en-xalapa-16/
CATEGORIES:Variados
ATTACH;FMTTYPE=image/jpeg:https://www.quierodisfrutar.mx/wp-content/uploads/2025/09/WhatsApp-Image-2025-09-29-at-2.29.21-PM-5.jpeg
END:VEVENT
BEGIN:VEVENT
DTSTART;TZID=America/Mexico_City:20251004T100000
DTEND;TZID=America/Mexico_City:20251004T150000
DTSTAMP:20260423T212932
CREATED:20250909T192345Z
LAST-MODIFIED:20250909T192352Z
UID:53744-1759572000-1759590000@www.quierodisfrutar.mx
SUMMARY:1er Festival de Mamíferos\, en Xalapa
DESCRIPTION:
URL:https://www.quierodisfrutar.mx/evento/1er-festival-de-mamiferos/
LOCATION:Jardín de las Esculturas\, Xalapa\, México
CATEGORIES:Variados
ATTACH;FMTTYPE=image/png:https://www.quierodisfrutar.mx/wp-content/uploads/2025/09/quiero-disfrutar-scaled.png
END:VEVENT
BEGIN:VEVENT
DTSTART;VALUE=DATE:20251006
DTEND;VALUE=DATE:20251013
DTSTAMP:20260423T212932
CREATED:20251006T182938Z
LAST-MODIFIED:20251006T182938Z
UID:53874-1759708800-1760313599@www.quierodisfrutar.mx
SUMMARY:Eventos culturales en Xalapa
DESCRIPTION:Eventos culturales en Xalapa\n 
URL:https://www.quierodisfrutar.mx/evento/eventos-culturales-en-xalapa-5/
CATEGORIES:Variados
ATTACH;FMTTYPE=image/jpeg:https://www.quierodisfrutar.mx/wp-content/uploads/2025/10/WhatsApp-Image-2025-10-06-at-1.08.35-PM.jpeg
END:VEVENT
BEGIN:VEVENT
DTSTART;TZID=America/Mexico_City:20251013T080000
DTEND;TZID=America/Mexico_City:20251029T170000
DTSTAMP:20260423T212932
CREATED:20251013T165907Z
LAST-MODIFIED:20251013T165907Z
UID:53912-1760342400-1761757200@www.quierodisfrutar.mx
SUMMARY:Cartelera especial "Memorias de Nuestros Muertos"
DESCRIPTION:Cartelera especial «Memorias de Nuestros Muertos» \n 
URL:https://www.quierodisfrutar.mx/evento/cartelera-especial-memorias-de-nuestros-muertos/
CATEGORIES:Variados
ATTACH;FMTTYPE=image/jpeg:https://www.quierodisfrutar.mx/wp-content/uploads/2025/10/Cartelera.jpg
END:VEVENT
BEGIN:VEVENT
DTSTART;VALUE=DATE:20251020
DTEND;VALUE=DATE:20251027
DTSTAMP:20260423T212932
CREATED:20251020T170518Z
LAST-MODIFIED:20251020T170518Z
UID:53931-1760918400-1761523199@www.quierodisfrutar.mx
SUMMARY:Eventos culturales en Xalapa
DESCRIPTION:Eventos culturales en Xalapa\n\n 
URL:https://www.quierodisfrutar.mx/evento/eventos-culturales-en-xalapa-6/
CATEGORIES:Variados
ATTACH;FMTTYPE=image/jpeg:https://www.quierodisfrutar.mx/wp-content/uploads/2025/10/WhatsApp-Image-2025-10-20-at-11.52.27-AM-1.jpeg
END:VEVENT
BEGIN:VEVENT
DTSTART;VALUE=DATE:20251023
DTEND;VALUE=DATE:20251026
DTSTAMP:20260423T212932
CREATED:20250829T144921Z
LAST-MODIFIED:20250829T144921Z
UID:53672-1761177600-1761436799@www.quierodisfrutar.mx
SUMMARY:Expoferia San Rafael 2025
DESCRIPTION:¡La Expoferia San Rafael 2025 ya tiene fecha y estamos muy felices de anunciarla! \n\n\n 23\, 24 y 25 de octubre serán días llenos de innovación y diversión.\n\n En esta edición tendremos un gran espacio dedicado al sector agrícola\, con:\n\n\n Laboratorios con nuevas tecnologías para mejorar la producción.\n Maquinaria moderna para hacer más eficientes las labores del campo.\n Insumos agrícolas de calidad\, esenciales para seguir fortaleciendo el campo de nuestra región.\n\n\n Porque el campo es vida\, en la Expoferia apostamos por apoyar a nuestros agricultores\, ofreciendo herramientas y conocimiento para que sigan creciendo.\n\n\nGran Concurso de los mejores racimos de plátano Roatán y plátano macho tienes que participar.\n\n\n Además\, la diversión está garantizada:\nEl sábado 25 de octubre disfruta de la música en vivo con nuestros grupos invitados:\n Viry Primera de Los Hijos del Pulpo\n Doble Impacto\n\n\n\n Lugar: A un costado de la gasolinera\, frente al Hotel Montarlot.\n\n\n\n¡Ven con tu familia y vive la Expoferia San Rafael 2025! \n#ExpoFeriaSanRafael2025 #SanRafael #Agricultura #TradiciónyDiversión
URL:https://www.quierodisfrutar.mx/evento/expoferia-san-rafael-2025/
LOCATION:San Rafael\, Ver.\, San Rafael\, Veracruz\, México
CATEGORIES:Turismo,Variados
ATTACH;FMTTYPE=image/jpeg:https://www.quierodisfrutar.mx/wp-content/uploads/2025/08/539560666_776678808450019_456176426565236913_n.jpg
END:VEVENT
BEGIN:VEVENT
DTSTART;VALUE=DATE:20251027
DTEND;VALUE=DATE:20251103
DTSTAMP:20260423T212932
CREATED:20251028T023740Z
LAST-MODIFIED:20251028T023740Z
UID:54012-1761523200-1762127999@www.quierodisfrutar.mx
SUMMARY:Actividades culturales en la ciudad de Xalapa
DESCRIPTION:Actividades culturales en la ciudad de Xalapa
URL:https://www.quierodisfrutar.mx/evento/actividades-culturales-en-la-ciudad-de-xalapa-15/
CATEGORIES:Variados
ATTACH;FMTTYPE=image/jpeg:https://www.quierodisfrutar.mx/wp-content/uploads/2025/10/WhatsApp-Image-2025-10-27-at-1.56.12-PM.jpeg
END:VEVENT
END:VCALENDAR