BEGIN:VCALENDAR
VERSION:2.0
PRODID:-//Quiero Disfrutar - ECPv6.15.1.1//NONSGML v1.0//EN
CALSCALE:GREGORIAN
METHOD:PUBLISH
X-WR-CALNAME:Quiero Disfrutar
X-ORIGINAL-URL:https://www.quierodisfrutar.mx
X-WR-CALDESC:Eventos para Quiero Disfrutar
REFRESH-INTERVAL;VALUE=DURATION:PT1H
X-Robots-Tag:noindex
X-PUBLISHED-TTL:PT1H
BEGIN:VTIMEZONE
TZID:America/Mexico_City
BEGIN:DAYLIGHT
TZOFFSETFROM:-0600
TZOFFSETTO:-0500
TZNAME:CDT
DTSTART:20260405T080000
END:DAYLIGHT
BEGIN:STANDARD
TZOFFSETFROM:-0500
TZOFFSETTO:-0600
TZNAME:CST
DTSTART:20261025T070000
END:STANDARD
END:VTIMEZONE
BEGIN:VEVENT
DTSTART;VALUE=DATE:20260203
DTEND;VALUE=DATE:20260301
DTSTAMP:20260423T150418
CREATED:20260203T185520Z
LAST-MODIFIED:20260203T190013Z
UID:54259-1770076800-1772323199@www.quierodisfrutar.mx
SUMMARY:Cartelera Cultural en Xalapa durante febrero
DESCRIPTION:
URL:https://www.quierodisfrutar.mx/evento/cartelera-cultural-en-xalapa-durante-febrero/
CATEGORIES:Arte,Variados
ATTACH;FMTTYPE=image/jpeg:https://www.quierodisfrutar.mx/wp-content/uploads/2026/02/WhatsApp-Image-2026-02-03-at-11.13.17-AM.jpeg
END:VEVENT
BEGIN:VEVENT
DTSTART;TZID=America/Mexico_City:20260204T080000
DTEND;TZID=America/Mexico_City:20260226T170000
DTSTAMP:20260423T150418
CREATED:20260204T203809Z
LAST-MODIFIED:20260204T203834Z
UID:54271-1770192000-1772125200@www.quierodisfrutar.mx
SUMMARY:Febrero de amor y amistad con los Grupos UV
DESCRIPTION:La Dirección General de Difusión Cultural de la Universidad Veracruzana presenta la cartelera de conciertos para el mes de febrero\, una invitación para disfrutar del mes más romántico del año. \n\n		\n		\n			\n				\n			\n			\n				\n			\n			\n				\n			\n		\n\nAgenda de febrero \n📍 Miércoles 4 | 18:00 h | Casino Jalapeño\nPrograma A media luz: Noche de boleros\nDavid Corzo\, con músicos invitados \n📍 Domingo 8 | 13:00 h | Auditorio\, Museo de Antropología de Xalapa\nPrograma Compartiendo el escenario\nTrío Chopin \n📍 Miércoles 11 | 19:00 h | Foro de Difusión Cultural UV\nEsta noche suena a… Xplosión de amor y salsa\nMarco A. Trujillo\, con músicos invitados \n📍 Jueves 12 | 17:00 h | Auditorio de Radio UV\nPrograma Concierto internacional\nTrío Chopin \n📍 Jueves 12 | 19:00 h | Sala Anexa\, Tlaqná\, Centro Cultural\nVeracruz\, territorio que amamos\nOrquesta Universitaria de Música Popular\nDirector titular Adrián Izquierdo \n📍 Domingo 15 | 13:00 h | Auditorio\, Museo de Antropología de Xalapa\nPrograma Concierto-clausura de masterclass\nTrío Chopin \n📍 Jueves 26 | 18:00 h | Museo San Rafael Guízar y Valencia\nPrograma Noche de luna en Xalapa\nCutberto Navarro y Domitilo Morales\, guitarra \n📍 Jueves 26 | 19:00 h | Sala Anexa\, Tlaqná\, Centro Cultural\nPrograma Historia de un amor\nXalli Big Band \nLa entrada a las presentaciones es gratuita con aforo limitado\, la programación reúne diversos repertorios que van del bolero\, hasta la salsa\, música clásica y repertorios de música popular mexicana. La Dirección General de Difusión Cultural UV reafirma su compromiso por contar con una oferta artística cercana\, plural y accesible\, pensada para públicos de todas las edades y gustos.
URL:https://www.quierodisfrutar.mx/evento/febrero-de-amor-y-amistad-con-los-grupos-uv/
CATEGORIES:Variados
ATTACH;FMTTYPE=image/jpeg:https://www.quierodisfrutar.mx/wp-content/uploads/2026/02/Fes-uv.jpg
END:VEVENT
BEGIN:VEVENT
DTSTART;VALUE=DATE:20260211
DTEND;VALUE=DATE:20260301
DTSTAMP:20260423T150418
CREATED:20260210T235608Z
LAST-MODIFIED:20260210T235608Z
UID:54297-1770768000-1772323199@www.quierodisfrutar.mx
SUMMARY:Eventos culturales en Xalapa durante febrero
DESCRIPTION:
URL:https://www.quierodisfrutar.mx/evento/eventos-culturales-en-xalapa-durante-febrero/
CATEGORIES:Arte,Variados
ATTACH;FMTTYPE=image/jpeg:https://www.quierodisfrutar.mx/wp-content/uploads/2026/02/WhatsApp-Image-2026-02-10-at-11.34.50-AM-1.jpeg
END:VEVENT
BEGIN:VEVENT
DTSTART;TZID=America/Mexico_City:20260221T190000
DTEND;TZID=America/Mexico_City:20260221T210000
DTSTAMP:20260423T150418
CREATED:20260203T185921Z
LAST-MODIFIED:20260203T185921Z
UID:54265-1771700400-1771707600@www.quierodisfrutar.mx
SUMMARY:Cine-Concierto en Xalapa
DESCRIPTION:Te invitamos a una experiencia única que une el cine clásico y la música electrónica en vivo. \nEn esta ocasión tú decides cuál película proyectaremos:\n1. EL GABINETE DEL DR CALIGARI (1920)\nO\n2. NOSFERATU (1922)\n\n**Música en vivo:** Dueto de música electrónica AURA\n**Fecha:** SÁBADO 21 DE FEBRERO\n– **Hora:** 19:00 horas\n– **Lugar:** FAUNO ESPACIO CULTURAL\, Sebastián Camacho 35\, centro\, Xalapa \nEl dueto AUR4\, reconocido por su innovador enfoque en la música electrónica\, acompañará la película con una banda sonora original creada especialmente para esta ocasión. Esta fusión promete intensificar la atmósfera y resaltar las emociones del filme. \nEl dueto AURA\, reconocido por su innovador enfoque en la música electrónica\, acompañará la película con una banda sonora original creada especialmente para esta ocasión. Esta fusión promete intensificar la atmósfera y resaltar las emociones del filme. \nCOMPRA TUS BOLETOS\n\nRedes Sociales
URL:https://www.quierodisfrutar.mx/evento/cine-concierto-en-xalapa/
LOCATION:Fauno Espacio Cultural\, Sebastián Camacho #35\, Xalapa\, Veracruz\, 91000\, México
CATEGORIES:Arte,Variados
ATTACH;FMTTYPE=image/jpeg:https://www.quierodisfrutar.mx/wp-content/uploads/2026/02/cine-concierto.jpg
END:VEVENT
END:VCALENDAR