BEGIN:VCALENDAR
VERSION:2.0
PRODID:-//Quiero Disfrutar - ECPv6.15.1.1//NONSGML v1.0//EN
CALSCALE:GREGORIAN
METHOD:PUBLISH
X-ORIGINAL-URL:https://www.quierodisfrutar.mx
X-WR-CALDESC:Eventos para Quiero Disfrutar
REFRESH-INTERVAL;VALUE=DURATION:PT1H
X-Robots-Tag:noindex
X-PUBLISHED-TTL:PT1H
BEGIN:VTIMEZONE
TZID:America/Mexico_City
BEGIN:DAYLIGHT
TZOFFSETFROM:-0600
TZOFFSETTO:-0500
TZNAME:CDT
DTSTART:20240407T080000
END:DAYLIGHT
BEGIN:STANDARD
TZOFFSETFROM:-0500
TZOFFSETTO:-0600
TZNAME:CST
DTSTART:20241027T070000
END:STANDARD
END:VTIMEZONE
BEGIN:VEVENT
DTSTART;VALUE=DATE:20241130
DTEND;VALUE=DATE:20241202
DTSTAMP:20260424T164329
CREATED:20241122T192051Z
LAST-MODIFIED:20241122T192051Z
UID:52430-1732924800-1733097599@www.quierodisfrutar.mx
SUMMARY:13a EXPOVENTA EMPRENDEDORA\, en Xalapa
DESCRIPTION:
URL:https://www.quierodisfrutar.mx/evento/13a-expoventa-emprendedora-en-xalapa/
LOCATION:Escuela Industrial “Concepción Quiróz Pérez»
CATEGORIES:Exposiciones,Variados
ATTACH;FMTTYPE=image/jpeg:https://www.quierodisfrutar.mx/wp-content/uploads/2024/11/462650609_1791337198271778_8636979445544416974_n.jpg
END:VEVENT
END:VCALENDAR