BEGIN:VCALENDAR
VERSION:2.0
PRODID:-//Quiero Disfrutar - ECPv6.15.1.1//NONSGML v1.0//EN
CALSCALE:GREGORIAN
METHOD:PUBLISH
X-WR-CALNAME:Quiero Disfrutar
X-ORIGINAL-URL:https://www.quierodisfrutar.mx
X-WR-CALDESC:Eventos para Quiero Disfrutar
REFRESH-INTERVAL;VALUE=DURATION:PT1H
X-Robots-Tag:noindex
X-PUBLISHED-TTL:PT1H
BEGIN:VTIMEZONE
TZID:America/Mexico_City
BEGIN:DAYLIGHT
TZOFFSETFROM:-0600
TZOFFSETTO:-0500
TZNAME:CDT
DTSTART:20240407T080000
END:DAYLIGHT
BEGIN:STANDARD
TZOFFSETFROM:-0500
TZOFFSETTO:-0600
TZNAME:CST
DTSTART:20241027T070000
END:STANDARD
BEGIN:DAYLIGHT
TZOFFSETFROM:-0600
TZOFFSETTO:-0500
TZNAME:CDT
DTSTART:20250406T080000
END:DAYLIGHT
BEGIN:STANDARD
TZOFFSETFROM:-0500
TZOFFSETTO:-0600
TZNAME:CST
DTSTART:20251026T070000
END:STANDARD
END:VTIMEZONE
BEGIN:VEVENT
DTSTART;VALUE=DATE:20241216
DTEND;VALUE=DATE:20241223
DTSTAMP:20260424T154034
CREATED:20241217T021009Z
LAST-MODIFIED:20241217T021009Z
UID:52569-1734307200-1734911999@www.quierodisfrutar.mx
SUMMARY:Actividades culturales en la ciudad de Xalapa
DESCRIPTION:Actividades culturales en Xalapa\n 
URL:https://www.quierodisfrutar.mx/evento/actividades-culturales-en-la-ciudad-de-xalapa/
LOCATION:Veracruz
CATEGORIES:Actividades Altruistas,Cine,Concierto,Educativos,Exposiciones
ATTACH;FMTTYPE=image/jpeg:https://www.quierodisfrutar.mx/wp-content/uploads/2024/12/WhatsApp-Image-2024-12-16-at-3.38.46-PM-5.jpeg
END:VEVENT
BEGIN:VEVENT
DTSTART;TZID=America/Mexico_City:20241219T190000
DTEND;TZID=America/Mexico_City:20241219T210000
DTSTAMP:20260424T154034
CREATED:20241217T012649Z
LAST-MODIFIED:20241217T012649Z
UID:52566-1734634800-1734642000@www.quierodisfrutar.mx
SUMMARY:Arquidiócesis invita a la quinceava Caravana Navideña 2024
DESCRIPTION:– Se llevará a cabo el próximo 19 de diciembre en la zona centro de la Capital \n  \nAprovechamos la oportunidad para reconocer la labor periodística que realizan por el bien de la población de Xalapa y de nuestro estado. Pedimos a Dios por que su labor siempre sea a favor de la verdad\, Dios los bendiga. \n El motivo de este correo es solicitar su apoyo para difundir en su portal electrónico\, la propaganda de nuestra próxima 15° Caravana Navideña 2024 organizada por el movimiento católico nueva evangelización de la Arquidiócesis de Xalapa. La Caravana navideña se denomina: «adoremos al protagonista del amor: Jesús nuestro salvador». esta se llevará a cabo el próximo jueves 19 de diciembre a partir de las 19:00 horas en las principales calles de nuestra ciudad de Xalapa\, Veracruz. \nLa Caravana partirá del parque hundido de Maestros Veracruzanos\, calle Veracruz\, 20 de noviembre\, Xalapeños Ilustres\, Enríquez\, Ávila Camacho para culminar en el teatro del estado. \nInvitamos a todas las familias para que asistan; hacemos también un comunicado a nuestros amigos conductores\, trataremos de hacer lo menos tráfico vehicular\, sin embargo les pedimos comprensión y paciencia. \nEn la caravana participan niños\, adolescentes\, jóvenes y padres de familia integrantes de nuestro movimiento; el objetivo es llevar un mensaje de unidad\, paz y alegría en medio de los momentos tan difíciles que vivimos\, que el niño Jesús nos ayude a salir de estas oscuridades y renueve con su llegada esa esperanza de una nueva vida. \nEnviamos el cartel de propaganda\, esperando contar con su apoyo cualquier duda quedamos a sus ordenes. \n \nAtentamente Integrante de equipo organizativoMovimiento Católico Nueva Evangelización.
URL:https://www.quierodisfrutar.mx/evento/arquidiocesis-invita-a-la-quinceava-caravana-navidena-2024/
LOCATION:Veracruz
CATEGORIES:Actividades Altruistas,Especiales,Exposiciones,Fiesta y tradición
ATTACH;FMTTYPE=image/jpeg:https://www.quierodisfrutar.mx/wp-content/uploads/2024/12/15-CARAVANA-NAVIDEÑA-NUEVA-EVANGELIZACIÓN.jpg
END:VEVENT
BEGIN:VEVENT
DTSTART;TZID=America/Mexico_City:20241220T190000
DTEND;TZID=America/Mexico_City:20241220T200000
DTSTAMP:20260424T154034
CREATED:20241219T171632Z
LAST-MODIFIED:20241219T171632Z
UID:52593-1734721200-1734724800@www.quierodisfrutar.mx
SUMMARY:“Conversaciones con Ana González González. Por la vida\, el amor y la justicia”
DESCRIPTION:La historieta está basada en las conversaciones -reales e imaginarias- con Ana González\, fundadora de la Agrupación de Familiares de Detenidos Desaparecidos e icónica defensora de los derechos humanos y la memoria en Chile. Un relato gráfico sensible sobre la dictadura\, la postdictadura\, la incansable búsqueda de los familiares y su legado en las luchas sociales del presente.
URL:https://www.quierodisfrutar.mx/evento/conversaciones-con-ana-gonzalez-gonzalez-por-la-vida-el-amor-y-la-justicia/
LOCATION:Casa Chimalli\, Miguel Hidalgo #81\, Xico\, Veracruz\, 91240\, México
CATEGORIES:Arte,Lectura
ATTACH;FMTTYPE=image/jpeg:https://www.quierodisfrutar.mx/wp-content/uploads/2024/12/WhatsApp-Image-2024-12-18-at-5.11.14-PM.jpeg
END:VEVENT
BEGIN:VEVENT
DTSTART;TZID=America/Mexico_City:20241228T180000
DTEND;TZID=America/Mexico_City:20241228T200000
DTSTAMP:20260424T154034
CREATED:20241219T195704Z
LAST-MODIFIED:20241219T195704Z
UID:52599-1735408800-1735416000@www.quierodisfrutar.mx
SUMMARY:Tocada de Rock: un regalo\, una sonrisa
DESCRIPTION:Concierto de música de Rock a beneficio de recolecta de juguetes para donarlos a los niños de la colonia Zapata de Coatepec\, Veracruz. \nDicho evento será el próximo Sábado 28 de diciembre a partir de las 18:00 hrs en el parque Juárez.  \nLa Banda «La Sustancia»\, originarios del Pueblo Mágico de Coatepec amenizará la velada. \nPara cualquier información 2281710467 a nombre de Lucio Ronzon. \n\n 
URL:https://www.quierodisfrutar.mx/evento/tocada-de-rock-un-regalo-una-sonrisa/
LOCATION:Parque Juárez\, Calle Enríquez
CATEGORIES:Actividades Altruistas,Arte,Concierto
ATTACH;FMTTYPE=image/jpeg:https://www.quierodisfrutar.mx/wp-content/uploads/2024/12/IMG-20241219-WA0085.jpg
END:VEVENT
BEGIN:VEVENT
DTSTART;VALUE=DATE:20250102
DTEND;VALUE=DATE:20250107
DTSTAMP:20260424T154034
CREATED:20250102T223348Z
LAST-MODIFIED:20250102T223348Z
UID:52602-1735776000-1736207999@www.quierodisfrutar.mx
SUMMARY:Actividades culturales en la ciudad de Xalapa
DESCRIPTION:Actividades culturales en la ciudad de Xalapa\n  \n 
URL:https://www.quierodisfrutar.mx/evento/actividades-culturales-en-la-ciudad-de-xalapa-2/
LOCATION:Veracruz
CATEGORIES:Concierto,Talleres,Teatro
ATTACH;FMTTYPE=image/jpeg:https://www.quierodisfrutar.mx/wp-content/uploads/2025/01/WhatsApp-Image-2025-01-02-at-12.17.32-PM.jpeg
END:VEVENT
BEGIN:VEVENT
DTSTART;VALUE=DATE:20250106
DTEND;VALUE=DATE:20250113
DTSTAMP:20260424T154034
CREATED:20250106T200307Z
LAST-MODIFIED:20250106T200307Z
UID:52608-1736121600-1736726399@www.quierodisfrutar.mx
SUMMARY:Actividades culturales en la ciudad de Xalapa
DESCRIPTION:Actividades culturales en la ciudad de Xalapa\n 
URL:https://www.quierodisfrutar.mx/evento/actividades-culturales-en-la-ciudad-de-xalapa-3/
LOCATION:Veracruz
CATEGORIES:Variados
ATTACH;FMTTYPE=image/jpeg:https://www.quierodisfrutar.mx/wp-content/uploads/2025/01/WhatsApp-Image-2025-01-06-at-1.42.57-PM.jpeg
END:VEVENT
BEGIN:VEVENT
DTSTART;VALUE=DATE:20250113
DTEND;VALUE=DATE:20250120
DTSTAMP:20260424T154034
CREATED:20250114T015638Z
LAST-MODIFIED:20250114T015638Z
UID:52625-1736726400-1737331199@www.quierodisfrutar.mx
SUMMARY:Actividades culturales en la Capital
DESCRIPTION:Actividades culturales en la ciudad de Xalapa\n  \n  \n 
URL:https://www.quierodisfrutar.mx/evento/actividades-culturales-en-la-capital/
LOCATION:Veracruz
CATEGORIES:Actividades Altruistas,Variados
ATTACH;FMTTYPE=image/jpeg:https://www.quierodisfrutar.mx/wp-content/uploads/2025/01/WhatsApp-Image-2025-01-13-at-2.55.40-PM-2.jpeg
END:VEVENT
BEGIN:VEVENT
DTSTART;VALUE=DATE:20250120
DTEND;VALUE=DATE:20250127
DTSTAMP:20260424T154034
CREATED:20250120T193408Z
LAST-MODIFIED:20250120T193408Z
UID:52651-1737331200-1737935999@www.quierodisfrutar.mx
SUMMARY:Actividades culturales en la Capital
DESCRIPTION:Actividades culturales en la Capital\n  \n 
URL:https://www.quierodisfrutar.mx/evento/actividades-culturales-en-la-capital-2/
LOCATION:Veracruz
CATEGORIES:Variados
ATTACH;FMTTYPE=image/jpeg:https://www.quierodisfrutar.mx/wp-content/uploads/2025/01/WhatsApp-Image-2025-01-20-at-1.12.35-PM-1.jpeg
END:VEVENT
BEGIN:VEVENT
DTSTART;VALUE=DATE:20250120
DTEND;VALUE=DATE:20250121
DTSTAMP:20260424T154034
CREATED:20250121T020031Z
LAST-MODIFIED:20250121T020031Z
UID:52681-1737331200-1737417599@www.quierodisfrutar.mx
SUMMARY:¡Ballet Folklórico Juvenil de Veracruz abre sus puertas!
DESCRIPTION:¡Ballet Folklórico Juvenil de Veracruz abre sus puertas! Queremos que nuestra familia siga creciendo ¡Estamos muy emocionados por poder recibirte! Te recordamos que no necesitas experiencia\, ¡únicamente necesitamos de tus ganas por aprender! ¡Te esperamos con los brazos abiertos! ¡Danza y libera tu espíritu! Para mayor información: 2281249786\, 2288359363\, 2289793922. También\, puedes contactarnos a través de este medio. \n 
URL:https://www.quierodisfrutar.mx/evento/ballet-folklorico-juvenil-de-veracruz-abre-sus-puertas/
LOCATION:Veracruz
CATEGORIES:Cursos,Danza
ATTACH;FMTTYPE=image/jpeg:https://www.quierodisfrutar.mx/wp-content/uploads/2025/01/dd.jpg
END:VEVENT
BEGIN:VEVENT
DTSTART;TZID=America/Mexico_City:20250125T183000
DTEND;TZID=America/Mexico_City:20250125T200000
DTSTAMP:20260424T154034
CREATED:20250116T005643Z
LAST-MODIFIED:20250116T005643Z
UID:52648-1737829800-1737835200@www.quierodisfrutar.mx
SUMMARY:Tarde de cine y café
DESCRIPTION:  \n 
URL:https://www.quierodisfrutar.mx/evento/tarde-de-cine-y-cafe/
LOCATION:Veracruz
CATEGORIES:Cine
ATTACH;FMTTYPE=image/jpeg:https://www.quierodisfrutar.mx/wp-content/uploads/2025/01/Nosfe.jpg
END:VEVENT
BEGIN:VEVENT
DTSTART;TZID=America/Mexico_City:20250129T080000
DTEND;TZID=America/Mexico_City:20250228T170000
DTSTAMP:20260424T154034
CREATED:20250128T161806Z
LAST-MODIFIED:20250128T161806Z
UID:52686-1738137600-1740762000@www.quierodisfrutar.mx
SUMMARY:Eventos culturales en Xalapa
DESCRIPTION:
URL:https://www.quierodisfrutar.mx/evento/eventos-culturales-en-xalapa/
LOCATION:Veracruz
CATEGORIES:Arte,Variados
ATTACH;FMTTYPE=image/jpeg:https://www.quierodisfrutar.mx/wp-content/uploads/2025/01/WhatsApp-Image-2025-01-28-at-9.53.36-AM-2.jpeg
END:VEVENT
BEGIN:VEVENT
DTSTART;TZID=America/Mexico_City:20250201T183000
DTEND;TZID=America/Mexico_City:20250201T200000
DTSTAMP:20260424T154034
CREATED:20250128T162724Z
LAST-MODIFIED:20250128T162856Z
UID:52708-1738434600-1738440000@www.quierodisfrutar.mx
SUMMARY:Nosferatu: función de cine musicalizada en vivo
DESCRIPTION:¡ÚLTIMOS LUGARES DISPONIBLES!Sábado 1 de febrero 18:30\nCamelina Café\, Hidalgo #45\, Centro\, Xalapa \nCosto de entrada: $50 por persona\nPreventa 2×1 hasta el 29/01/25: $80\n \nEl dueto de música electrónica AUR4\, nos trae la obra maestra del expresionismo alemán: Nosferatu\, cinta de 1922\, dónde se adapto por primera ocasión la novela Drácula de Bram Stoker \n \nReservaciones al 2281803428 o directamente en @camelina.cafe
URL:https://www.quierodisfrutar.mx/evento/52708/
LOCATION:Camelina Café\, Hidalgo #45\, Xalapa\, Veracruz\, 91000\, México
CATEGORIES:Arte,Cine,Concierto
ATTACH;FMTTYPE=image/jpeg:https://www.quierodisfrutar.mx/wp-content/uploads/2025/01/CAMELINA.jpg
END:VEVENT
BEGIN:VEVENT
DTSTART;VALUE=DATE:20250204
DTEND;VALUE=DATE:20250301
DTSTAMP:20260424T154034
CREATED:20250204T203807Z
LAST-MODIFIED:20250204T203841Z
UID:52713-1738627200-1740787199@www.quierodisfrutar.mx
SUMMARY:Cartelera de eventos culturales durante febrero en Xalapa
DESCRIPTION:
URL:https://www.quierodisfrutar.mx/evento/cartelera-de-eventos-culturales-durante-febrero-en-xalapa/
LOCATION:Veracruz
CATEGORIES:Arte,Variados
ATTACH;FMTTYPE=image/jpeg:https://www.quierodisfrutar.mx/wp-content/uploads/2025/02/WhatsApp-Image-2025-02-04-at-2.30.01-PM-5.jpeg
END:VEVENT
BEGIN:VEVENT
DTSTART;VALUE=DATE:20250217
DTEND;VALUE=DATE:20250224
DTSTAMP:20260424T154034
CREATED:20250217T222812Z
LAST-MODIFIED:20250217T222836Z
UID:52745-1739750400-1740355199@www.quierodisfrutar.mx
SUMMARY:Cartelera de eventos culturales en Xalapa
DESCRIPTION:Cartelera de eventos culturales durante febrero en Xalapa\n  \n 
URL:https://www.quierodisfrutar.mx/evento/cartelera-de-eventos-culturales-en-xalapa/
LOCATION:Veracruz
CATEGORIES:Variados
ATTACH;FMTTYPE=image/jpeg:https://www.quierodisfrutar.mx/wp-content/uploads/2025/02/WhatsApp-Image-2025-02-17-at-3.40.21-PM.jpeg
END:VEVENT
BEGIN:VEVENT
DTSTART;VALUE=DATE:20250220
DTEND;VALUE=DATE:20250629
DTSTAMP:20260424T154034
CREATED:20250218T201743Z
LAST-MODIFIED:20250218T201804Z
UID:52777-1740009600-1751155199@www.quierodisfrutar.mx
SUMMARY:Cartelera de conciertos de la Orquesta Sinfónica de Xalapa
DESCRIPTION:La Orquesta Sinfónica de Xalapa\, en su misión de acercar la música a más personas\, comparten su cartelera de conciertos para los meses de febrero\, marzo\, abril\, mayo y junio. 
URL:https://www.quierodisfrutar.mx/evento/cartelera-de-conciertos-de-la-orquesta-sinfonica-de-xalapa/
LOCATION:Veracruz
CATEGORIES:Arte,Concierto
ATTACH;FMTTYPE=image/jpeg:https://www.quierodisfrutar.mx/wp-content/uploads/2025/02/CARTELERA_2025_TEMPO1-ACTUALIZADA_page-0001.jpg
END:VEVENT
BEGIN:VEVENT
DTSTART;VALUE=DATE:20250223
DTEND;VALUE=DATE:20250227
DTSTAMP:20260424T154034
CREATED:20250221T203556Z
LAST-MODIFIED:20250221T203623Z
UID:52784-1740268800-1740614399@www.quierodisfrutar.mx
SUMMARY:
DESCRIPTION:Las últimas presentaciones de los Grupos Artísticos de la Dirección General de Difusión Cultural serán con la participación de Tlen Huicani y el Mariachi de la Universidad Veracruzana\, los cómplices perfectos para cerrar el mes más romántico del año y disfrutar con tu mejor compañía de una tarde única.  \n  \n¿Cuándo y dónde? \n\n\nConcierto RománticoParticipa: Tlen HuicaniFecha: domingo 23 de febreroHora: 12:00 hLugar: Sala Emilio Carballido del Teatro del Estado “Gral. Ignacio de la Llave” \n \n\n\nCon todo el corazónParticipa: Mariachi UVFecha: miércoles 26 de febreroHora: 18:00 hLugar: Casino Jalapeño \n\n\n¡Recuerda que son eventos gratuitos y para toda la familia! Para más información visita las redes sociales de Difusión Cultural UV.
URL:https://www.quierodisfrutar.mx/evento/52784/
LOCATION:Veracruz
CATEGORIES:Arte,Concierto
ATTACH;FMTTYPE=image/png:https://www.quierodisfrutar.mx/wp-content/uploads/2025/02/23_TlenHuicani.png
END:VEVENT
BEGIN:VEVENT
DTSTART;TZID=America/Mexico_City:20250301T170000
DTEND;TZID=America/Mexico_City:20250301T180000
DTSTAMP:20260424T154034
CREATED:20250221T153906Z
LAST-MODIFIED:20250221T153906Z
UID:52781-1740848400-1740852000@www.quierodisfrutar.mx
SUMMARY:Mujeres en defensa
DESCRIPTION:
URL:https://www.quierodisfrutar.mx/evento/mujeres-en-defensa/
LOCATION:Barrio Xallitic\, Centro\, Xalapa\, Veracruz\, 91000\, México
CATEGORIES:Talleres
ATTACH;FMTTYPE=image/jpeg:https://www.quierodisfrutar.mx/wp-content/uploads/2025/02/481043513_951652430452920_2475330657527130086_n.jpg
END:VEVENT
BEGIN:VEVENT
DTSTART;VALUE=DATE:20250304
DTEND;VALUE=DATE:20250401
DTSTAMP:20260424T154034
CREATED:20250304T181440Z
LAST-MODIFIED:20250304T181440Z
UID:52793-1741046400-1743465599@www.quierodisfrutar.mx
SUMMARY:Eventos culturales en Xalapa durante el mes de marzo
DESCRIPTION:
URL:https://www.quierodisfrutar.mx/evento/eventos-culturales-en-xalapa-durante-el-mes-de-marzo/
LOCATION:Veracruz
CATEGORIES:Arte,Variados
ATTACH;FMTTYPE=image/jpeg:https://www.quierodisfrutar.mx/wp-content/uploads/2025/03/WhatsApp-Image-2025-03-04-at-12.07.30-PM-3.jpeg
END:VEVENT
BEGIN:VEVENT
DTSTART;TZID=America/Mexico_City:20250308T183000
DTEND;TZID=America/Mexico_City:20250308T200000
DTSTAMP:20260424T154034
CREATED:20250225T154644Z
LAST-MODIFIED:20250225T154644Z
UID:52790-1741458600-1741464000@www.quierodisfrutar.mx
SUMMARY:Nosferatu (1922): función de cine musicalizada en vivo
DESCRIPTION:Camelina Café\, conocido por su atmósfera única y su amor por lo gótico\, ha anunciado una emocionante proyección musical en vivo que promete ser una experiencia inolvidable. Esta noche especial contará con la proyección de la clásica película de terror «Nosferatu»\, acompañada en vivo por AUR4\, que interpretará una banda sonora original creada especialmente para la ocasión. La combinación de cine mudo y música en vivo busca transportar al público a una era pasada\, intensificando la atmósfera misteriosa y envolvente del café. Los asistentes podrán disfrutar de una velada llena de arte y cultura\, fusionando lo mejor del cine clásico con la creatividad contemporánea de la música en vivo. Sin duda\, una cita imperdible para los amantes del género y del buen café. \n 
URL:https://www.quierodisfrutar.mx/evento/nosferatu-1922-funcion-de-cine-musicalizada-en-vivo/
LOCATION:Camelina Café\, Hidalgo #45\, Xalapa\, Veracruz\, 91000\, México
CATEGORIES:Arte,Concierto
ATTACH;FMTTYPE=image/jpeg:https://www.quierodisfrutar.mx/wp-content/uploads/2025/02/nosfeartu.jpeg
END:VEVENT
BEGIN:VEVENT
DTSTART;VALUE=DATE:20250311
DTEND;VALUE=DATE:20250401
DTSTAMP:20260424T154034
CREATED:20250311T170439Z
LAST-MODIFIED:20250311T170451Z
UID:52829-1741651200-1743465599@www.quierodisfrutar.mx
SUMMARY:Eventos culturales en Xalapa durante marzo
DESCRIPTION:
URL:https://www.quierodisfrutar.mx/evento/eventos-culturales-en-xalapa-durante-marzo/
LOCATION:Veracruz
CATEGORIES:Arte,Variados
ATTACH;FMTTYPE=image/jpeg:https://www.quierodisfrutar.mx/wp-content/uploads/2025/03/WhatsApp-Image-2025-03-11-at-10.51.37-AM-6.jpeg
END:VEVENT
BEGIN:VEVENT
DTSTART;VALUE=DATE:20250316
DTEND;VALUE=DATE:20250320
DTSTAMP:20260424T154034
CREATED:20250307T151120Z
LAST-MODIFIED:20250307T151127Z
UID:52824-1742083200-1742428799@www.quierodisfrutar.mx
SUMMARY:Obra “Tengo una enfermedad y se llama sexo”
DESCRIPTION:Maldito Teatro trae a escena “Tengo una enfermedad y se llama sexo”\, una invitación a reír\, cuestionar y disfrutar del teatro en su expresión más provocadora y divertida.\nLa historia sigue a Sebastian Hammett\, un escritor de ciencia ficción en su lucha contra una organización secreta dispuesta a convertir a la humanidad en un rebaño asexuado y sin voluntad.\nAlgo notable de esta propuesta es que su prioridad es el entretenimiento y la conexión con el público\, permitiendo que cada quien reflexione a su manera y a su tiempo. Es una obra que se disfruta en muchos niveles\, ya sea por su intrigante historia sobre conspiraciones\, por las imágenes irreverentes que propone\, o por sus cuestionamientos sobre la sociedad. Gracias a esas cualidades se convierte en un espectáculo que van a disfrutar\, tanto los asiduos al teatro como quien se acerca por primera vez.\nCon la actuación de Jorge Tejeda\, la dirección de Geovani Cortés\, y la dramaturgia de Aristóteles Bonfil\, este montaje destaca por su exigente trabajo actoral\, con gran desempeño físico y sátira inteligente. \nCabe mencionar que este proyecto fue beneficiado por la Convocatoria Premio a Proyectos de Producción Escénica en Veracruz.  Se estará presentando durante el mes de marzo\, domingo 16 a las 18:00 hrs.\, lunes 17\, martes 18\, y miércoles 19 a las 20:00 hrs.\, en el foro Trasmundo Teatro\, ubicado en Xalapeños Ilustres #171\, en el centro de Xalapa. Para más información consulta las redes sociales de Trasmundo Teatro o de Maldito Teatro.\n 
URL:https://www.quierodisfrutar.mx/evento/obra-tengo-una-enfermedad-y-se-llama-sexo/
LOCATION:Foto Trasmundo
CATEGORIES:Arte,Teatro
ATTACH;FMTTYPE=image/jpeg:https://www.quierodisfrutar.mx/wp-content/uploads/2025/03/5.jpg
END:VEVENT
BEGIN:VEVENT
DTSTART;VALUE=DATE:20250319
DTEND;VALUE=DATE:20250324
DTSTAMP:20260424T154034
CREATED:20250319T170242Z
LAST-MODIFIED:20250319T170242Z
UID:52894-1742342400-1742774399@www.quierodisfrutar.mx
SUMMARY:Eventos culturales en Xalapa
DESCRIPTION:Eventos culturales en Xalapa durante marzo
URL:https://www.quierodisfrutar.mx/evento/eventos-culturales-en-xalapa-2/
LOCATION:Veracruz
CATEGORIES:Arte
END:VEVENT
BEGIN:VEVENT
DTSTART;TZID=America/Mexico_City:20250320T193000
DTEND;TZID=America/Mexico_City:20250320T203000
DTSTAMP:20260424T154034
CREATED:20250315T192309Z
LAST-MODIFIED:20250315T192309Z
UID:52874-1742499000-1742502600@www.quierodisfrutar.mx
SUMMARY:Mayra Landau - Geometría sensible
DESCRIPTION:
URL:https://www.quierodisfrutar.mx/evento/mayra-landau-geometria-sensible/
LOCATION:Galería Ramón Alva de la Canal\, Xalapeños Ilustres 86\, Xalapa\, Veracruz\, 9100\, México
CATEGORIES:Arte,Exposiciones
ATTACH;FMTTYPE=image/jpeg:https://www.quierodisfrutar.mx/wp-content/uploads/2025/03/WhatsApp-Image-2025-03-15-at-12.17.21-PM.jpeg
END:VEVENT
BEGIN:VEVENT
DTSTART;TZID=America/Mexico_City:20250320T193000
DTEND;TZID=America/Mexico_City:20250320T210000
DTSTAMP:20260424T154034
CREATED:20250319T212314Z
LAST-MODIFIED:20250319T212314Z
UID:52902-1742499000-1742504400@www.quierodisfrutar.mx
SUMMARY:Celebración de su 40 aniversario con la exposición "Myra Landau: Geometría sensible"
DESCRIPTION:La Galería Ramón Alva de la Canal inicia la celebración de su 40 aniversario con la exposición «Myra Landau: Geometría sensible»\, en colaboración con el MUAC-UNAM y el Instituto de Artes Plásticas UV. \n  \nCelebremos juntos el legado de Myra Landau y su impacto en el arte y la academia. ¡No faltes! Jueves 20 de marzo a las 19:30 horas.   \n 
URL:https://www.quierodisfrutar.mx/evento/celebracion-de-su-40-aniversario-con-la-exposicion-myra-landau-geometria-sensible/
LOCATION:Veracruz
CATEGORIES:Arte,Exposiciones
ATTACH;FMTTYPE=image/jpeg:https://www.quierodisfrutar.mx/wp-content/uploads/2025/03/Galería.jpg
END:VEVENT
BEGIN:VEVENT
DTSTART;TZID=America/Mexico_City:20250321T190000
DTEND;TZID=America/Mexico_City:20250321T200000
DTSTAMP:20260424T154034
CREATED:20250315T185435Z
LAST-MODIFIED:20250315T185435Z
UID:52870-1742583600-1742587200@www.quierodisfrutar.mx
SUMMARY:Conversatorio sobre el teatro de la guerra Veracruz\, 1750-1825
DESCRIPTION:
URL:https://www.quierodisfrutar.mx/evento/conversatorio-sobre-el-teatro-de-la-guerra-veracruz-1750-1825/
LOCATION:Instituto de Investigaciones Histórico Sociales\, Diego Leño #8\, Xalapa\, Veracruz\, 91000\, México
CATEGORIES:Conservatorio
ATTACH;FMTTYPE=image/jpeg:https://www.quierodisfrutar.mx/wp-content/uploads/2025/03/WhatsApp-Image-2025-03-15-at-12.17.22-PM.jpeg
END:VEVENT
BEGIN:VEVENT
DTSTART;VALUE=DATE:20250325
DTEND;VALUE=DATE:20250326
DTSTAMP:20260424T154034
CREATED:20250316T203934Z
LAST-MODIFIED:20250316T203934Z
UID:52877-1742860800-1742947199@www.quierodisfrutar.mx
SUMMARY:Taller de Arte infantil "Otto"
DESCRIPTION:  \nTaller de Arte infantil «Otto»
URL:https://www.quierodisfrutar.mx/evento/taller-de-arte-infantil-otto/
LOCATION:Veracruz
CATEGORIES:Arte
ATTACH;FMTTYPE=image/jpeg:https://www.quierodisfrutar.mx/wp-content/uploads/2025/03/WhatsApp-Image-2025-03-16-at-9.20.43-AM.jpeg
END:VEVENT
BEGIN:VEVENT
DTSTART;TZID=America/Mexico_City:20250325T170000
DTEND;TZID=America/Mexico_City:20250325T190000
DTSTAMP:20260424T154034
CREATED:20250321T200025Z
LAST-MODIFIED:20250321T200025Z
UID:52905-1742922000-1742929200@www.quierodisfrutar.mx
SUMMARY:Presentación del libro Tres claves peregrinas
DESCRIPTION:Presentación del libro Tres claves peregrinas de Gabriel García Márquez
URL:https://www.quierodisfrutar.mx/evento/presentacion-del-libro-tres-claves-peregrinas/
LOCATION:Veracruz
ATTACH;FMTTYPE=image/jpeg:https://www.quierodisfrutar.mx/wp-content/uploads/2025/03/libro.jpg
END:VEVENT
BEGIN:VEVENT
DTSTART;TZID=America/Mexico_City:20250328T110000
DTEND;TZID=America/Mexico_City:20250328T170000
DTSTAMP:20260424T154034
CREATED:20250326T153419Z
LAST-MODIFIED:20250326T153419Z
UID:52914-1743159600-1743181200@www.quierodisfrutar.mx
SUMMARY:Exposición de artes plásticas: "Diversidad"
DESCRIPTION:El grupo Por amor al Arte realiza exposición de artes plásticas: «Diversidad» 
URL:https://www.quierodisfrutar.mx/evento/exposicion-de-artes-plasticas-diversidad/
LOCATION:Veracruz
CATEGORIES:Exposiciones
ATTACH;FMTTYPE=image/jpeg:https://www.quierodisfrutar.mx/wp-content/uploads/2025/03/ART.jpg
END:VEVENT
BEGIN:VEVENT
DTSTART;TZID=America/Mexico_City:20250328T190000
DTEND;TZID=America/Mexico_City:20250328T210000
DTSTAMP:20260424T154034
CREATED:20250319T211706Z
LAST-MODIFIED:20250319T211706Z
UID:52897-1743188400-1743195600@www.quierodisfrutar.mx
SUMMARY:Invitan a la función de "Los extraños hábitos de Don Antonio"
DESCRIPTION:Invitan a la función de «Los extraños hábitos de Don Antonio» \n  \n  \n28 de marzo 2025 – 19:00 horas \n  \nEn el Teatro J.J. Herrera  
URL:https://www.quierodisfrutar.mx/evento/invitan-a-la-funcion-de-los-extranos-habitos-de-don-antonio/
LOCATION:Teatro JJ Herrera\, Corredor turístico Carlos Fuentes #12\, col. Centro\, Xalapa\, Veracruz\, México
CATEGORIES:Teatro
ATTACH;FMTTYPE=image/jpeg:https://www.quierodisfrutar.mx/wp-content/uploads/2025/03/Teatr.jpg
END:VEVENT
BEGIN:VEVENT
DTSTART;TZID=America/Mexico_City:20250329T190000
DTEND;TZID=America/Mexico_City:20250329T210000
DTSTAMP:20260424T154034
CREATED:20250326T162049Z
LAST-MODIFIED:20250326T162049Z
UID:52918-1743274800-1743282000@www.quierodisfrutar.mx
SUMMARY:Invitan a función de Teatro Espontáneo
DESCRIPTION:No hay guiones. No hay ensayos. Es tu historia la protagonista\, que cobra vida en escena.  en Teatro Espontáneo\, cada función es única.
URL:https://www.quierodisfrutar.mx/evento/invitan-a-funcion-de-teatro-espontaneo/
LOCATION:Veracruz
CATEGORIES:Teatro
ATTACH;FMTTYPE=image/jpeg:https://www.quierodisfrutar.mx/wp-content/uploads/2025/03/Captura.jpg
END:VEVENT
END:VCALENDAR