BEGIN:VCALENDAR
VERSION:2.0
PRODID:-//Quiero Disfrutar - ECPv6.15.1.1//NONSGML v1.0//EN
CALSCALE:GREGORIAN
METHOD:PUBLISH
X-ORIGINAL-URL:https://www.quierodisfrutar.mx
X-WR-CALDESC:Eventos para Quiero Disfrutar
REFRESH-INTERVAL;VALUE=DURATION:PT1H
X-Robots-Tag:noindex
X-PUBLISHED-TTL:PT1H
BEGIN:VTIMEZONE
TZID:America/Mexico_City
BEGIN:DAYLIGHT
TZOFFSETFROM:-0600
TZOFFSETTO:-0500
TZNAME:CDT
DTSTART:20250406T080000
END:DAYLIGHT
BEGIN:STANDARD
TZOFFSETFROM:-0500
TZOFFSETTO:-0600
TZNAME:CST
DTSTART:20251026T070000
END:STANDARD
END:VTIMEZONE
BEGIN:VEVENT
DTSTART;VALUE=DATE:20250220
DTEND;VALUE=DATE:20250629
DTSTAMP:20260424T072405
CREATED:20250218T201743Z
LAST-MODIFIED:20250218T201804Z
UID:52777-1740009600-1751155199@www.quierodisfrutar.mx
SUMMARY:Cartelera de conciertos de la Orquesta Sinfónica de Xalapa
DESCRIPTION:La Orquesta Sinfónica de Xalapa\, en su misión de acercar la música a más personas\, comparten su cartelera de conciertos para los meses de febrero\, marzo\, abril\, mayo y junio. 
URL:https://www.quierodisfrutar.mx/evento/cartelera-de-conciertos-de-la-orquesta-sinfonica-de-xalapa/
LOCATION:Veracruz
CATEGORIES:Arte,Concierto
ATTACH;FMTTYPE=image/jpeg:https://www.quierodisfrutar.mx/wp-content/uploads/2025/02/CARTELERA_2025_TEMPO1-ACTUALIZADA_page-0001.jpg
END:VEVENT
BEGIN:VEVENT
DTSTART;VALUE=DATE:20250507
DTEND;VALUE=DATE:20250530
DTSTAMP:20260424T072405
CREATED:20250502T183329Z
LAST-MODIFIED:20250502T183329Z
UID:53060-1746576000-1748563199@www.quierodisfrutar.mx
SUMMARY:Los Grupos Artísticos UV con las mejores presentaciones
DESCRIPTION:La Dirección General de Difusión Cultural invita al público a disfrutar de una variada programación artística durante el mes de mayo\, con eventos pensados para todos los gustos y edades.\nDesde la elegancia de la música clásica hasta la energía del mariachi\, el jazz\, la trova y el bolero\, pasando por la alegría de la marimba veracruzana y una presentación de los inolvidables éxitos de Chicago\, esta guía de presentaciones celebra la diversidad musical con propuestas de alta calidad que enriquecen la vida cultural de nuestra comunidad. Toma nota de alguno de ellos:\n\nMiércoles 7 y jueves 8: Orquesta Universitaria de Música Popular\, en la Parroquia San José y la Sala Anexa de Tlaqná.\nLos días 8\,10\,11 y 22: Trío Chopin con programas de música clásica en diferentes sedes de la ciudad.\nJueves 8: Tardes de Xallitic con Tlen Huicani Maderas en el Barrio Mágico de Xallitic (19:00 h).\nDomingo 11: Especial del día de las madres con el Mariachi UV desde el Museo de Antropología de Xalapa (13:00 h).\nMiércoles 14: Esta noche suena a… Sergio Martínez con un programa de Grandes éxitos de Chicago en el Foro de Difusión Cultural UV (19:00 h).\nViernes 23: Concierto para la 30° edición FILU dedicada a Canadá y EUA con la Orquesta Sinfónica de Xalapa y Orbis Tertius en Tlaqná\, Centro Cultural (20:00 h).\nJueves 29: Trova y Bolero con Cutberto Navarro en el Museo San Rafael Guízar y Valencia (18:00 h)\n\nUno de los momentos más esperados será “Salsa en el Nido”\, este evento promete una noche inolvidable de ritmo y sabor latino\, con el talento de la Orquesta de Salsa UV y la Xalli Big Band\, en un ambiente para toda la familia. La cita es el sábado 17 de mayo a las 18:00 h en el Gimnasio Nido del Halcón. Los boletos están disponibles en línea empresasuv.comprarboletos.com y en Tienda UV.\nConsulta la programación completa en nuestras redes sociales y acompáñanos en todos los eventos.
URL:https://www.quierodisfrutar.mx/evento/los-grupos-artisticos-uv-con-las-mejores-presentaciones/
LOCATION:Veracruz
CATEGORIES:Arte,Concierto,Variados
ATTACH;FMTTYPE=image/jpeg:https://www.quierodisfrutar.mx/wp-content/uploads/2025/05/MAYO.jpg
END:VEVENT
BEGIN:VEVENT
DTSTART;VALUE=DATE:20250507
DTEND;VALUE=DATE:20250529
DTSTAMP:20260424T072405
CREATED:20250507T232209Z
LAST-MODIFIED:20250507T232209Z
UID:53079-1746576000-1748476799@www.quierodisfrutar.mx
SUMMARY:La guerra de los Balcanes en el cine
DESCRIPTION:La guerra de los Balcanes en el cine\, funciones en la SalaX Xalapa
URL:https://www.quierodisfrutar.mx/evento/la-guerra-de-los-balcanes-en-el-cine/
LOCATION:Veracruz
CATEGORIES:Cine
ATTACH;FMTTYPE=image/jpeg:https://www.quierodisfrutar.mx/wp-content/uploads/2025/05/cine-1.jpg
END:VEVENT
BEGIN:VEVENT
DTSTART;TZID=America/Mexico_City:20250514T160000
DTEND;TZID=America/Mexico_City:20250514T210000
DTSTAMP:20260424T072405
CREATED:20250419T162328Z
LAST-MODIFIED:20250419T234356Z
UID:52990-1747238400-1747256400@www.quierodisfrutar.mx
SUMMARY:Charreada Universitaria en Xalapa
DESCRIPTION:Facultad de Ciencias Agrícolas UV Xalapa y Lienzo Charro Xalapa invitan a la II Gran Charreada Universitaria.14 de mayo 4:00 p.m.3 equipos charros nos acompañan\, en conjunto con Grupo Renovado y gran bailazo al terminar ft. Latin Music.Boletos al 27-91-05-13-99 o 22-81-54-02-74O en @consejeria_agro.uv
URL:https://www.quierodisfrutar.mx/evento/charreada-universitaria-en-xalapa/
LOCATION:Lienzo Charro Murillo Vidal\, Xalapa\, Veracruz\, México
CATEGORIES:Variados
ATTACH;FMTTYPE=image/jpeg:https://www.quierodisfrutar.mx/wp-content/uploads/2025/04/491023225_545237938626960_186771306600164887_n.jpg
END:VEVENT
BEGIN:VEVENT
DTSTART;TZID=America/Mexico_City:20250516T180000
DTEND;TZID=America/Mexico_City:20250516T190000
DTSTAMP:20260424T072405
CREATED:20250509T144000Z
LAST-MODIFIED:20250509T144000Z
UID:53090-1747418400-1747422000@www.quierodisfrutar.mx
SUMMARY:Presentación editorial: Alguien muere en el teatro
DESCRIPTION:
URL:https://www.quierodisfrutar.mx/evento/presentacion-editorial-alguien-muere-en-el-teatro/
LOCATION:Museo de la Música Veracruzana\, Salvador Díaz Mirón 21\, Xalapa\, Veracruz\, 91000\, México
CATEGORIES:Arte,Lectura
ATTACH;FMTTYPE=image/jpeg:https://www.quierodisfrutar.mx/wp-content/uploads/2025/05/494570367_981964947086248_1835624765937442569_n.jpg
END:VEVENT
BEGIN:VEVENT
DTSTART;TZID=America/Mexico_City:20250517T170000
DTEND;TZID=America/Mexico_City:20250517T190000
DTSTAMP:20260424T072405
CREATED:20250514T161713Z
LAST-MODIFIED:20250514T161713Z
UID:53096-1747501200-1747508400@www.quierodisfrutar.mx
SUMMARY:En Trasmundo Teatro se presenta la obra de títeres “Abuelares”\, en Xalapa
DESCRIPTION:En Trasmundo Teatro se presenta la obra de títeres “Abuelares”\, el sábado en Xalapa \n  \n \n  \n 
URL:https://www.quierodisfrutar.mx/evento/en-trasmundo-teatro-se-presenta-la-obra-de-titeres-abuelares-en-xalapa/
LOCATION:Veracruz
CATEGORIES:Teatro
ATTACH;FMTTYPE=image/jpeg:https://www.quierodisfrutar.mx/wp-content/uploads/2025/05/TT.jpg
END:VEVENT
BEGIN:VEVENT
DTSTART;TZID=America/Mexico_City:20250517T173000
DTEND;TZID=America/Mexico_City:20250517T183000
DTSTAMP:20260424T072405
CREATED:20250516T185055Z
LAST-MODIFIED:20250516T185055Z
UID:53100-1747503000-1747506600@www.quierodisfrutar.mx
SUMMARY:GENTE MUNDANA (Free Jazz/Avant Garde/Electrónica)
DESCRIPTION:
URL:https://www.quierodisfrutar.mx/evento/gente-mundana-free-jazz-avant-garde-electronica/
LOCATION:Museo de la Música Veracruzana Casa Doña Falla\, calle Salvador Díaz Mirón número 21\, Xalapa\, Veracruz\, 91000\, México
CATEGORIES:Arte,Concierto
ATTACH;FMTTYPE=image/jpeg:https://www.quierodisfrutar.mx/wp-content/uploads/2025/05/WhatsApp-Image-2025-05-16-at-1.22.19-PM.jpeg
END:VEVENT
BEGIN:VEVENT
DTSTART;VALUE=DATE:20250519
DTEND;VALUE=DATE:20250525
DTSTAMP:20260424T072405
CREATED:20250506T232405Z
LAST-MODIFIED:20250506T232405Z
UID:53070-1747612800-1748131199@www.quierodisfrutar.mx
SUMMARY:Exposición Colectiva: Entre calles
DESCRIPTION:La Facultad de Artes Plásticas se complace en presentar Entre calles\, una exposición colectiva que reúne el trabajo de doce artistas visuales en formación\, cuyo punto de partida es la exploración del espacio urbano como escenario simbólico\, social y estético. \nLa calle\, entendida como un ente dinámico y compartido\, se convierte aquí en objeto de interpretación y diálogo. Cada propuesta artística —realizada mediante técnicas mixtas— ofrece una mirada singular sobre la vida urbana\, los vínculos comunitarios y la experiencia cotidiana del entorno. Esta muestra busca no sólo capturar la esencia visual de la ciudad\, sino también cuestionar nuestras formas de habitarla\, percibirla y representarla. \nLa exposición invita al espectador a reflexionar sobre su propia relación con el espacio público\, propiciando una interacción entre el arte\, la comunidad y la ciudad. En este cruce de miradas\, Entre calles propone una lectura sensible y crítica del contexto urbano contemporáneo. \nEl evento inaugural se llevará a cabo el lunes 19 de mayo de 2025 a las 19:00 horas en el Centro Recreativo Xalapeño\, ubicado en Xalapeños Ilustres 31\, Zona Centro\, Xalapa\, Veracruz. La exposición estará abierta al público del 19 al 24 de mayo de 2025. \nEsta muestra forma parte del compromiso de la comunidad artística universitaria con la creación contemporánea y el diálogo ciudadano a través del arte.
URL:https://www.quierodisfrutar.mx/evento/exposicion-colectiva-entre-calles/
LOCATION:Centro Recreativo Xalapeño\, avenida Insurgentes esquina con Xalapeños Ilustres\, col. Centro\, Xalapa\, Veracruz\, México
CATEGORIES:Arte,Exposiciones
ATTACH;FMTTYPE=image/jpeg:https://www.quierodisfrutar.mx/wp-content/uploads/2025/05/Cartel-Vertical.jpeg
END:VEVENT
BEGIN:VEVENT
DTSTART;TZID=America/Mexico_City:20250521T180000
DTEND;TZID=America/Mexico_City:20250521T190000
DTSTAMP:20260424T072405
CREATED:20250520T181050Z
LAST-MODIFIED:20250520T181050Z
UID:53111-1747850400-1747854000@www.quierodisfrutar.mx
SUMMARY:AIRES DE PRIMAVERA
DESCRIPTION:
URL:https://www.quierodisfrutar.mx/evento/aires-de-primavera/
LOCATION:Museo de la Música Veracruzana Casa Doña Falla\, calle Salvador Díaz Mirón número 21\, Xalapa\, Veracruz\, 91000\, México
CATEGORIES:Arte,Concierto
ATTACH;FMTTYPE=image/jpeg:https://www.quierodisfrutar.mx/wp-content/uploads/2025/05/WhatsApp-Image-2025-05-20-at-12.37.04-PM.jpeg
END:VEVENT
BEGIN:VEVENT
DTSTART;TZID=America/Mexico_City:20250523T200000
DTEND;TZID=America/Mexico_City:20250523T220000
DTSTAMP:20260424T072405
CREATED:20250510T235141Z
LAST-MODIFIED:20250510T235141Z
UID:53093-1748030400-1748037600@www.quierodisfrutar.mx
SUMMARY:Concierto de Gala con Raquel Fisk
DESCRIPTION:Concierto de Gala con Raquel Fisk \n \n\n\nEl 23 de mayo a las 20:00 h\, la Orquesta Filarmónica de Boca del Río se enorgullece en presentar a la talentosa pianista Raquel Fisk\, quien se unirá a nosotros como piano invitado en un programa espectacular.\n \n\n\n Programa:\n\n\nE. V. Dohnányi: Minutos Sinfónicos\n\n\nP. I. Tchaikovsky: Concierto para piano No. 1 en Si bemol\, Op. 23\n\n\nL. V. Beethoven: Sinfonía No. 7 en La mayor\, Op. 92\n\n\n Director: Jorge Mester\, Director Laureado.\n \n\n\n¡Una noche llena de emociones y música excepcional! \n\nBoletos disponibles en taquilla y en www.foroticket.com.\n 
URL:https://www.quierodisfrutar.mx/evento/concierto-de-gala-con-raquel-fisk/
LOCATION:Foro Boca\, Blvd. Vicente Fox Quesada\, col. Pescadores\, Boca del Río\, Veracruz\, 94290\, México
CATEGORIES:Arte,Concierto
ATTACH;FMTTYPE=image/jpeg:https://www.quierodisfrutar.mx/wp-content/uploads/2025/05/492705326_1108005711353180_6085878581919257752_n.jpg
END:VEVENT
BEGIN:VEVENT
DTSTART;TZID=America/Mexico_City:20250524T080000
DTEND;TZID=America/Mexico_City:20250628T140000
DTSTAMP:20260424T072405
CREATED:20250522T190858Z
LAST-MODIFIED:20250522T190858Z
UID:53116-1748073600-1751119200@www.quierodisfrutar.mx
SUMMARY:CECATI 151: cursos en línea y presenciales
DESCRIPTION:
URL:https://www.quierodisfrutar.mx/evento/cecati-151-cursos-en-linea-y-presenciales/
LOCATION:Veracruz
CATEGORIES:Cursos,Variados
ATTACH;FMTTYPE=image/jpeg:https://www.quierodisfrutar.mx/wp-content/uploads/2025/05/FINANZAS-PERSONALES.jpg
END:VEVENT
BEGIN:VEVENT
DTSTART;TZID=America/Mexico_City:20250524T200000
DTEND;TZID=America/Mexico_City:20250524T200000
DTSTAMP:20260424T072405
CREATED:20250508T145840Z
LAST-MODIFIED:20250508T145852Z
UID:53083-1748116800-1748116800@www.quierodisfrutar.mx
SUMMARY:Anuncia grupo Jugosos Dividendos\, concierto con fines recaudatorios
DESCRIPTION:Anuncia grupo Jugosos Dividendos\, concierto con fines recaudatorios 
URL:https://www.quierodisfrutar.mx/evento/anuncia-grupo-jugosos-dividendos-concierto-con-fines-recaudatorios/
LOCATION:Veracruz
ATTACH;FMTTYPE=image/jpeg:https://www.quierodisfrutar.mx/wp-content/uploads/2025/05/Concierto.jpg
END:VEVENT
BEGIN:VEVENT
DTSTART;TZID=America/Mexico_City:20250529T180000
DTEND;TZID=America/Mexico_City:20250529T190000
DTSTAMP:20260424T072405
CREATED:20250502T154948Z
LAST-MODIFIED:20250502T154948Z
UID:53057-1748541600-1748545200@www.quierodisfrutar.mx
SUMMARY:Recital de piano y flauta: Un paseo por Francia
DESCRIPTION:
URL:https://www.quierodisfrutar.mx/evento/recital-de-piano-y-flauta-un-paseo-por-francia/
LOCATION:Museo de la Música Veracruzana Casa Doña Falla\, calle Salvador Díaz Mirón número 21\, Xalapa\, Veracruz\, 91000\, México
CATEGORIES:Arte,Concierto
ATTACH;FMTTYPE=image/jpeg:https://www.quierodisfrutar.mx/wp-content/uploads/2025/05/WhatsApp-Image-2025-05-02-at-10.47.49-AM.jpeg
END:VEVENT
BEGIN:VEVENT
DTSTART;TZID=America/Mexico_City:20250529T190000
DTEND;TZID=America/Mexico_City:20250529T210000
DTSTAMP:20260424T072405
CREATED:20250529T203921Z
LAST-MODIFIED:20250529T203921Z
UID:53127-1748545200-1748552400@www.quierodisfrutar.mx
SUMMARY:Se inaugura este jueves “Inventario”\, de la artista visual Mariana Del Campo
DESCRIPTION:Se inaugura este jueves “Inventario”\, de la artista visual Mariana Del Campo \n 
URL:https://www.quierodisfrutar.mx/evento/se-inaugura-este-jueves-inventario-de-la-artista-visual-mariana-del-campo/
LOCATION:Veracruz
CATEGORIES:Arte
ATTACH;FMTTYPE=image/jpeg:https://www.quierodisfrutar.mx/wp-content/uploads/2025/05/WhatsApp-Image-2025-05-29-at-2.37.30-PM-1.jpeg
END:VEVENT
BEGIN:VEVENT
DTSTART;VALUE=DATE:20250530
DTEND;VALUE=DATE:20250816
DTSTAMP:20260424T072405
CREATED:20250531T182052Z
LAST-MODIFIED:20250531T182052Z
UID:53133-1748563200-1755302399@www.quierodisfrutar.mx
SUMMARY:Historias sobre el poder generativo y destructivo de la serpiente emplumada
DESCRIPTION:
URL:https://www.quierodisfrutar.mx/evento/historias-sobre-el-poder-generativo-y-destructivo-de-la-serpiente-emplumada/
LOCATION:Museo de Antropología de Xalapa\, Av. Xalapa\, Unidad Magisterial\, Xalapa 
CATEGORIES:Arte,Exposiciones
ATTACH;FMTTYPE=image/jpeg:https://www.quierodisfrutar.mx/wp-content/uploads/2025/05/WhatsApp-Image-2025-05-31-at-12.04.34-PM-1.jpeg
END:VEVENT
BEGIN:VEVENT
DTSTART;TZID=America/Mexico_City:20250531T200000
DTEND;TZID=America/Mexico_City:20250531T210000
DTSTAMP:20260424T072405
CREATED:20250516T232311Z
LAST-MODIFIED:20250516T232311Z
UID:53103-1748721600-1748725200@www.quierodisfrutar.mx
SUMMARY:Neuro Prog Rock Sessions
DESCRIPTION:
URL:https://www.quierodisfrutar.mx/evento/neuro-prog-rock-sessions/
LOCATION:La Tasca Xalapa\, Xicoténcatl 76\, Xalapa\, Xalapa\, 91000\, México
CATEGORIES:Arte
ATTACH;FMTTYPE=image/jpeg:https://www.quierodisfrutar.mx/wp-content/uploads/2025/05/WhatsApp-Image-2025-05-16-at-5.56.28-PM.jpeg
END:VEVENT
BEGIN:VEVENT
DTSTART;TZID=America/Mexico_City:20250601T170000
DTEND;TZID=America/Mexico_City:20250601T180000
DTSTAMP:20260424T072405
CREATED:20250531T181710Z
LAST-MODIFIED:20250531T181710Z
UID:53130-1748797200-1748800800@www.quierodisfrutar.mx
SUMMARY:Bernardino Rodríguez: De la razón a la pasión
DESCRIPTION:
URL:https://www.quierodisfrutar.mx/evento/bernardino-rodriguez-de-la-razon-a-la-pasion/
LOCATION:Museo de la Música Veracruzana Casa Doña Falla\, calle Salvador Díaz Mirón número 21\, Xalapa\, Veracruz\, 91000\, México
CATEGORIES:Arte,Concierto
ATTACH;FMTTYPE=image/jpeg:https://www.quierodisfrutar.mx/wp-content/uploads/2025/05/WhatsApp-Image-2025-05-31-at-12.04.34-PM.jpeg
END:VEVENT
BEGIN:VEVENT
DTSTART;VALUE=DATE:20250602
DTEND;VALUE=DATE:20250630
DTSTAMP:20260424T072405
CREATED:20250602T182815Z
LAST-MODIFIED:20250602T182815Z
UID:53136-1748822400-1751241599@www.quierodisfrutar.mx
SUMMARY:Cartelera cultural de la Música Veracruzana
DESCRIPTION:  \n 
URL:https://www.quierodisfrutar.mx/evento/cartelera-cultural-de-la-musica-veracruzana/
LOCATION:Veracruz
CATEGORIES:Arte,Música y Danza
ATTACH;FMTTYPE=image/jpeg:https://www.quierodisfrutar.mx/wp-content/uploads/2025/06/CARTE-MUS.jpg
END:VEVENT
BEGIN:VEVENT
DTSTART;TZID=America/Mexico_City:20250602T080000
DTEND;TZID=America/Mexico_City:20250602T170000
DTSTAMP:20260424T072405
CREATED:20250602T183208Z
LAST-MODIFIED:20250602T183208Z
UID:53140-1748851200-1748883600@www.quierodisfrutar.mx
SUMMARY:Convocatoria Estímulos a la cultura 2025
DESCRIPTION:Convocatoria Estímulos a la cultura 2025  \n 
URL:https://www.quierodisfrutar.mx/evento/convocatoria-estimulos-a-la-cultura-2025/
LOCATION:Veracruz
CATEGORIES:Talleres,Teatro
ATTACH;FMTTYPE=image/jpeg:https://www.quierodisfrutar.mx/wp-content/uploads/2025/06/cultu.jpg
END:VEVENT
BEGIN:VEVENT
DTSTART;TZID=America/Mexico_City:20250602T080000
DTEND;TZID=America/Mexico_City:20250602T170000
DTSTAMP:20260424T072405
CREATED:20250602T185435Z
LAST-MODIFIED:20250602T185435Z
UID:53144-1748851200-1748883600@www.quierodisfrutar.mx
SUMMARY:Actividades culturales en la ciudad de Xalapa
DESCRIPTION:Actividades culturales en la ciudad de Xalapa\n 
URL:https://www.quierodisfrutar.mx/evento/actividades-culturales-en-la-ciudad-de-xalapa-7/
LOCATION:Veracruz
CATEGORIES:Arte,Cine,Música y Danza
ATTACH;FMTTYPE=image/jpeg:https://www.quierodisfrutar.mx/wp-content/uploads/2025/06/WhatsApp-Image-2025-06-02-at-1.41.17-PM-2.jpeg
END:VEVENT
BEGIN:VEVENT
DTSTART;VALUE=DATE:20250606
DTEND;VALUE=DATE:20250630
DTSTAMP:20260424T072405
CREATED:20250605T184207Z
LAST-MODIFIED:20250605T184724Z
UID:53175-1749168000-1751241599@www.quierodisfrutar.mx
SUMMARY:TRASMUNDO TEATRO: Ciclo Queer - Junio 2025
DESCRIPTION:
URL:https://www.quierodisfrutar.mx/evento/trasmundo-teatro-ciclo-queer-junio-2025/
LOCATION:TRASMUNDO TEATRO\, Xalapeños Ilustres 171 casi 20 de nov\, Xalapa\, Veracruz\, 91000\, México
CATEGORIES:Arte,Turismo
ATTACH;FMTTYPE=image/jpeg:https://www.quierodisfrutar.mx/wp-content/uploads/2025/06/WhatsApp-Image-2025-06-05-at-12.43.46-PM-1.jpeg
END:VEVENT
BEGIN:VEVENT
DTSTART;TZID=America/Mexico_City:20250608T130000
DTEND;TZID=America/Mexico_City:20250608T140000
DTSTAMP:20260424T072405
CREATED:20250605T184557Z
LAST-MODIFIED:20250605T184557Z
UID:53178-1749387600-1749391200@www.quierodisfrutar.mx
SUMMARY:Recital "Flautas de Verano"
DESCRIPTION:Recital 
URL:https://www.quierodisfrutar.mx/evento/recital-flautas-de-verano/
LOCATION:Museo de la Música Veracruzana Casa Doña Falla\, calle Salvador Díaz Mirón número 21\, Xalapa\, Veracruz\, 91000\, México
CATEGORIES:Arte,Concierto
ATTACH;FMTTYPE=image/jpeg:https://www.quierodisfrutar.mx/wp-content/uploads/2025/06/WhatsApp-Image-2025-06-05-at-12.43.46-PM.jpeg
END:VEVENT
BEGIN:VEVENT
DTSTART;TZID=America/Mexico_City:20250608T170000
DTEND;TZID=America/Mexico_City:20250608T190000
DTSTAMP:20260424T072405
CREATED:20250529T194320Z
LAST-MODIFIED:20250529T194320Z
UID:53124-1749402000-1749409200@www.quierodisfrutar.mx
SUMMARY:Documental sobre Roberto Bravo Garzón se proyectará en el Teatro J.J. Herrera
DESCRIPTION: 
URL:https://www.quierodisfrutar.mx/evento/documental-sobre-roberto-bravo-garzon-se-proyectara-en-el-teatro-j-j-herrera/
LOCATION:Veracruz
CATEGORIES:Documental
ATTACH;FMTTYPE=image/jpeg:https://www.quierodisfrutar.mx/wp-content/uploads/2025/05/WhatsApp-Image-2025-05-29-at-2.37.30-PM.jpeg
END:VEVENT
BEGIN:VEVENT
DTSTART;TZID=America/Mexico_City:20250609T080000
DTEND;TZID=America/Mexico_City:20250609T170000
DTSTAMP:20260424T072405
CREATED:20250609T184548Z
LAST-MODIFIED:20250609T184548Z
UID:53181-1749456000-1749488400@www.quierodisfrutar.mx
SUMMARY:Actividades culturales en la ciudad de Xalapa
DESCRIPTION:Actividades culturales en la ciudad de Xalapa\n  \n 
URL:https://www.quierodisfrutar.mx/evento/actividades-culturales-en-la-ciudad-de-xalapa-8/
LOCATION:Veracruz
CATEGORIES:Arte,Cine,Concierto,Variados
ATTACH;FMTTYPE=image/jpeg:https://www.quierodisfrutar.mx/wp-content/uploads/2025/06/WhatsApp-Image-2025-06-09-at-1.06.36-PM.jpeg
END:VEVENT
BEGIN:VEVENT
DTSTART;TZID=America/Mexico_City:20250611T183000
DTEND;TZID=America/Mexico_City:20250611T200000
DTSTAMP:20260424T072405
CREATED:20250611T164201Z
LAST-MODIFIED:20250611T164201Z
UID:53231-1749666600-1749672000@www.quierodisfrutar.mx
SUMMARY:Expo-concierto y cena con causa "Pasión por Veracruz"
DESCRIPTION:Expo-concierto y cena con causa «Pasión por Veracruz»
URL:https://www.quierodisfrutar.mx/evento/expo-concierto-y-cena-con-causa-pasion-por-veracruz/
LOCATION:Veracruz
CATEGORIES:Concierto
ATTACH;FMTTYPE=image/jpeg:https://www.quierodisfrutar.mx/wp-content/uploads/2025/06/PxV.jpg
END:VEVENT
BEGIN:VEVENT
DTSTART;TZID=America/Mexico_City:20250612T123000
DTEND;TZID=America/Mexico_City:20250612T150000
DTSTAMP:20260424T072405
CREATED:20250611T163556Z
LAST-MODIFIED:20250611T163556Z
UID:53227-1749731400-1749740400@www.quierodisfrutar.mx
SUMMARY:Pintura y testimonio\, charla entre Edgar Cano y Jorge Navarro
DESCRIPTION:Pintura y testimonio\, charla entre Edgar Cano y Jorge Navarro \n 
URL:https://www.quierodisfrutar.mx/evento/pintura-y-testimonio-charla-entre-edgar-cano-y-jorge-navarro/
LOCATION:Veracruz
ATTACH;FMTTYPE=image/jpeg:https://www.quierodisfrutar.mx/wp-content/uploads/2025/06/PYM.jpg
END:VEVENT
BEGIN:VEVENT
DTSTART;VALUE=DATE:20250613
DTEND;VALUE=DATE:20250615
DTSTAMP:20260424T072405
CREATED:20250610T153754Z
LAST-MODIFIED:20250610T153754Z
UID:53219-1749772800-1749945599@www.quierodisfrutar.mx
SUMMARY:Conciertos en Xalapa - 13 y 14 de junio
DESCRIPTION:
URL:https://www.quierodisfrutar.mx/evento/conciertos-en-xalapa-13-y-14-de-junio/
LOCATION:Veracruz
CATEGORIES:Arte,Concierto
ATTACH;FMTTYPE=image/jpeg:https://www.quierodisfrutar.mx/wp-content/uploads/2025/06/WhatsApp-Image-2025-06-10-at-10.33.32-AM.jpeg
END:VEVENT
BEGIN:VEVENT
DTSTART;TZID=America/Mexico_City:20250613T180000
DTEND;TZID=America/Mexico_City:20250613T200000
DTSTAMP:20260424T072405
CREATED:20250613T143229Z
LAST-MODIFIED:20250613T143229Z
UID:53235-1749837600-1749844800@www.quierodisfrutar.mx
SUMMARY:Presentación de la revista "Xalapa Vive"
DESCRIPTION:
URL:https://www.quierodisfrutar.mx/evento/presentacion-de-la-revista-xalapa-vive/
LOCATION:Casino Jalapeño\, calle Zamora 12\, col. centro casi junto a VIPS.\, Xalapa \, Veracruz 
CATEGORIES:Arte,Especiales
ATTACH;FMTTYPE=image/jpeg:https://www.quierodisfrutar.mx/wp-content/uploads/2025/06/WhatsApp-Image-2025-06-13-at-9.25.03-AM.jpeg
END:VEVENT
BEGIN:VEVENT
DTSTART;TZID=America/Mexico_City:20250613T180000
DTEND;TZID=America/Mexico_City:20250613T200000
DTSTAMP:20260424T072405
CREATED:20250613T143628Z
LAST-MODIFIED:20250613T143628Z
UID:53238-1749837600-1749844800@www.quierodisfrutar.mx
SUMMARY:Primera Exposición de Arte Queer: Narrativas Identitarias
DESCRIPTION:
URL:https://www.quierodisfrutar.mx/evento/primera-exposicion-de-arte-queer-narrativas-identitarias/
LOCATION:Casa del Lago\, El Dique #27 Col. Centro\, Xalapa\, Veracruz\, México
CATEGORIES:Arte,Exposiciones,Variados
ATTACH;FMTTYPE=image/jpeg:https://www.quierodisfrutar.mx/wp-content/uploads/2025/06/WhatsApp-Image-2025-06-13-at-9.25.03-AM-1.jpeg
END:VEVENT
BEGIN:VEVENT
DTSTART;TZID=America/Mexico_City:20250615T080000
DTEND;TZID=America/Mexico_City:20250615T170000
DTSTAMP:20260424T072405
CREATED:20250615T221918Z
LAST-MODIFIED:20250615T221918Z
UID:53245-1749974400-1750006800@www.quierodisfrutar.mx
SUMMARY:VERANO ELÉCTRICO: Concierto de 4 proyectos de música independiente
DESCRIPTION:¡ VERANO ELÉCTRICO llega a Xalapa! \n\nEste 21 de junio\, el mítico Club Cultural Tierra Luna será el epicentro de una descarga sonora que celebrará el inicio del verano con cuatro propuestas independientes que están redefiniendo la escena musical local. \nMúsica en vivo | Arte | Comunidad | Vibras únicas \nLINE UP:\n AUR4 — Folktronica y world music en una experiencia mística que conecta lo ancestral con lo digital.\n Proyecto Coatl — Electrónica experimental que te lleva por paisajes sonoros inesperados.\n Laboratorio A — Electro rock que fusiona energía cruda con ritmos futuristas.\n Gatos en la Sombra — Pop rock con garra y sensibilidad\, directo al corazón. \n Una noche para moverte\, vibrar y dejarte llevar por el pulso eléctrico del verano.\n ¡Trae a tu gente\, abre tus sentidos y ven a vivir el Verano Eléctrico!\n \nTierra Luna\, Xalapa\, Veracruz \nViernes 21 de junio\nPuertas 7:00 PM\nCoop. $80 preventa Dia del evento $100 \nBoletos en línea https://www.passline.com/eventos/verano-electrico
URL:https://www.quierodisfrutar.mx/evento/verano-electrico-concierto-de-4-proyectos-de-musica-independiente/
LOCATION:Veracruz
CATEGORIES:Concierto
ATTACH;FMTTYPE=image/png:https://www.quierodisfrutar.mx/wp-content/uploads/2025/06/POST-1.png
END:VEVENT
END:VCALENDAR