BEGIN:VCALENDAR
VERSION:2.0
PRODID:-//Quiero Disfrutar - ECPv6.15.1.1//NONSGML v1.0//EN
CALSCALE:GREGORIAN
METHOD:PUBLISH
X-WR-CALNAME:Quiero Disfrutar
X-ORIGINAL-URL:https://www.quierodisfrutar.mx
X-WR-CALDESC:Eventos para Quiero Disfrutar
REFRESH-INTERVAL;VALUE=DURATION:PT1H
X-Robots-Tag:noindex
X-PUBLISHED-TTL:PT1H
BEGIN:VTIMEZONE
TZID:America/Mexico_City
BEGIN:DAYLIGHT
TZOFFSETFROM:-0600
TZOFFSETTO:-0500
TZNAME:CDT
DTSTART:20230402T080000
END:DAYLIGHT
BEGIN:STANDARD
TZOFFSETFROM:-0500
TZOFFSETTO:-0600
TZNAME:CST
DTSTART:20231029T070000
END:STANDARD
END:VTIMEZONE
BEGIN:VEVENT
DTSTART;VALUE=DATE:20230401
DTEND;VALUE=DATE:20230501
DTSTAMP:20260425T220614
CREATED:20230402T001332Z
LAST-MODIFIED:20230402T001332Z
UID:50858-1680307200-1682899199@www.quierodisfrutar.mx
SUMMARY:Actividades culturales en Xalapa durante el mes de abril
DESCRIPTION:
URL:https://www.quierodisfrutar.mx/evento/actividades-culturales-en-xalapa-durante-el-mes-de-abril/
LOCATION:Veracruz
CATEGORIES:Arte,Variados
ATTACH;FMTTYPE=image/jpeg:https://www.quierodisfrutar.mx/wp-content/uploads/2023/04/WhatsApp-Image-2023-04-01-at-6.02.01-PM.jpeg
END:VEVENT
BEGIN:VEVENT
DTSTART;VALUE=DATE:20230419
DTEND;VALUE=DATE:20230501
DTSTAMP:20260425T220614
CREATED:20230417T181737Z
LAST-MODIFIED:20230417T181827Z
UID:50913-1681862400-1682899199@www.quierodisfrutar.mx
SUMMARY:Actividades culturales en Xalapa durante el mes de abril
DESCRIPTION:
URL:https://www.quierodisfrutar.mx/evento/actividades-culturales-en-xalapa-durante-el-mes-de-abril-2/
LOCATION:Veracruz
CATEGORIES:Arte,Variados
ATTACH;FMTTYPE=image/jpeg:https://www.quierodisfrutar.mx/wp-content/uploads/2023/04/WhatsApp-Image-2023-04-17-at-1.04.25-PM.jpeg
END:VEVENT
BEGIN:VEVENT
DTSTART;VALUE=DATE:20230424
DTEND;VALUE=DATE:20230501
DTSTAMP:20260425T220614
CREATED:20230424T192149Z
LAST-MODIFIED:20230424T192218Z
UID:50954-1682294400-1682899199@www.quierodisfrutar.mx
SUMMARY:Actividades culturales en Xalapa durante el mes de abril
DESCRIPTION:Actividades culturales en Xalapa durante el mes de abril\n  \n 
URL:https://www.quierodisfrutar.mx/evento/actividades-culturales-en-xalapa-durante-el-mes-de-abril-3/
LOCATION:Veracruz
CATEGORIES:Arte
ATTACH;FMTTYPE=image/jpeg:https://www.quierodisfrutar.mx/wp-content/uploads/2023/04/WhatsApp-Image-2023-04-24-at-2.07.13-PM.jpeg
END:VEVENT
BEGIN:VEVENT
DTSTART;TZID=America/Mexico_City:20230427T090000
DTEND;TZID=America/Mexico_City:20230607T170000
DTSTAMP:20260425T220614
CREATED:20230417T224811Z
LAST-MODIFIED:20230417T224811Z
UID:50930-1682586000-1686157200@www.quierodisfrutar.mx
SUMMARY:La misma luna\, gráfica contemporánea en el MAX
DESCRIPTION:Interpretaciones contemporáneas del legado prehispánico \n\n\n Con la participación de 15 artistas del Taller de Grabado Experimental de Coatepec \n\n\nEl Museo de Antropología de Xalapa (MAX) de la Universidad Veracruzana (UV) y el Taller de Grabado Experimental de Coatepec (TGEC) presentan la muestra colectiva La misma luna\, que se inaugura el próximo jueves 27 de abril a las 19 horas en la Galería Mezznine. \nLos artistas del TGEC trabajaron durante varios meses realizando sesiones de dibujo en el MAX para captar la imaginería plasmada en el acervo prehispánico\, para luego sumar elementos simbólicos del mundo contemporáneo y así resignificarlas. “Invocamos a los guerreros y a los sabios que nos honraron con su legado\, reflejando aquel pueblo que trabaja\, lucha\, sueña\, y que tiene el amparo de la misma luna”. \nEl resultado se aprecia en 26 obras gráficas para las que se recurrió\, entre otras\, a las técnicas de linografía\, litografía\, esténcil y punta seca. Estas variadas propuestas visuales revitalizan la concepción de un tiempo que parece lejano\, pero se revela presente. \nLos artistas participantes son: Alejandro Suárez\, Antonio Domínguez\, Armando Cruz\, Coyote López\, Erick Jarvio\, Fernando Mendoza\, Víctor José Pitalúa\, Karas Urbanas\, Ma. Pamela Flores\, Marco Venegas\, Miguel Hernández\, Pilar Farfalla\, Rosario González Escribano\, Saúl Paz Cortes y Yumali Misleyda Torres. \nLa exposición La misma luna\, podrá visitarse hasta el 7 de junio en un horario de martes a domingo de las 9:00 a las 17:00 horas en el mezzanine del MAX.
URL:https://www.quierodisfrutar.mx/evento/la-misma-luna-grafica-contemporanea-en-el-max/
LOCATION:Mezzanine Museo de Antropoligía de Xalapa\, Av. Xalapa\, Col. Unidad Magisteria\, Xalapa\, Veracruz\, 91017\, México
CATEGORIES:Arte
END:VEVENT
BEGIN:VEVENT
DTSTART;TZID=America/Mexico_City:20230429T100000
DTEND;TZID=America/Mexico_City:20230520T150000
DTSTAMP:20260425T220614
CREATED:20230418T151616Z
LAST-MODIFIED:20230418T151820Z
UID:50934-1682762400-1684594800@www.quierodisfrutar.mx
SUMMARY:Open House de la Prepa Gestalt
DESCRIPTION:– Para los estudiantes de 3er grado de secundaria. La Escuela Gestalt sede El haya tendrá un Open House donde podrás conocer las instalaciones\, metodología\, tendremos talleres y becas.\n \nVisita nuestra página de Facebook: \nhttps://m.facebook.com/story.php?story_fbid=pfbid033ERbRpLvyMTk3tK7ppnL4yo4u2JFXUVSrkMWgE25jFA5b9hDzonJfBd8zBCa5cpal&id=100063610526802&mibextid=Nif5oz\n \n\n ¡Regístrate y conoce la Prepa Gestalt!\n\n\nUbicados junto al Parque El Haya\, a solo 1.4 km del Mural-Sauces\n\n\nCalle Vicente Guerrero\, 6. Col. El Haya. Xalapa\, Ver.\n 228 129 1119. WhatsApp 228 835 2427\n#EscuelaGestalt #Constructivismo #CienciayTecnología #diseño #creatividad #sustentabilidad #Bachillerato #inteligenciaemocional
URL:https://www.quierodisfrutar.mx/evento/open-house-de-la-prepa-gestalt/
LOCATION:Veracruz
CATEGORIES:Talleres
ATTACH;FMTTYPE=image/jpeg:https://www.quierodisfrutar.mx/wp-content/uploads/2023/04/WhatsApp-Image-2023-03-23-at-09.41.05.jpeg
END:VEVENT
BEGIN:VEVENT
DTSTART;TZID=America/Mexico_City:20230504T090000
DTEND;TZID=America/Mexico_City:20230504T230000
DTSTAMP:20260425T220614
CREATED:20230415T005808Z
LAST-MODIFIED:20230415T010841Z
UID:50898-1683190800-1683241200@www.quierodisfrutar.mx
SUMMARY:Hermanos Pancardo en concierto
DESCRIPTION:#Xalapa el show más emotivo\, divertido e inspirador llega a tu ciudad este 4 de mayo en la sala anexa Tlaqná a las 9:00 pm y no te lo puedes perder  Los Hermanos Pancardo con su estilo inigualable te harán reír\, motivar y reflexionar para soltar todo aquello que te impide avanzar\, elevar tu amor propio\, dejar de mendigar amor y ser feliz.   \nVenta de boletos:Centro Óptico ItaliaC. Revolución 163 C\, Zona Centro\, Centro\, 91000 Xalapa-Enríquez\, Ver. \nY al WhatsApp:2463605431 
URL:https://www.quierodisfrutar.mx/evento/hermanos-pancardo-en-concierto/
LOCATION:Sala Anexa de Tlaqná\, Complejo Cultural
CATEGORIES:Arte,Concierto
ATTACH;FMTTYPE=image/jpeg:https://www.quierodisfrutar.mx/wp-content/uploads/2023/04/339636564_616034693360143_2478770721688580636_n.jpg
END:VEVENT
BEGIN:VEVENT
DTSTART;TZID=America/Mexico_City:20230505T103000
DTEND;TZID=America/Mexico_City:20230507T193000
DTSTAMP:20260425T220614
CREATED:20230505T213859Z
LAST-MODIFIED:20230505T213859Z
UID:50970-1683282600-1683487800@www.quierodisfrutar.mx
SUMMARY:EXPO Colmena en el Centro Recreativo Xalapeño
DESCRIPTION:En el Centro Recreativo Xalapeño se encuentra una exposición de productos naturales ISMERELY\, incubados en el Tec de Monterrey y AVALADOS por COFEPRIS y SAGARPA. Del viernes 5 de al domingo  7 de mayo de 10:30 a 7 PM. Vengan a conocer sus beneficios nutricionales y a conocer más emprendedores xalapeños.
URL:https://www.quierodisfrutar.mx/evento/expo-colmena-en-el-centro-recreativo-xalapeno/
LOCATION:Veracruz
CATEGORIES:Exposiciones
ATTACH;FMTTYPE=image/jpeg:https://www.quierodisfrutar.mx/wp-content/uploads/2023/05/344059315_949567809795047_6666723543730311343_n.jpg
END:VEVENT
BEGIN:VEVENT
DTSTART;VALUE=DATE:20230508
DTEND;VALUE=DATE:20230515
DTSTAMP:20260425T220614
CREATED:20230508T193324Z
LAST-MODIFIED:20230508T193324Z
UID:50973-1683504000-1684108799@www.quierodisfrutar.mx
SUMMARY:Actividades culturales en Xalapa durante el mes de mayo
DESCRIPTION:Actividades culturales en Xalapa durante el mes de mayo\n  \n  \n 
URL:https://www.quierodisfrutar.mx/evento/actividades-culturales-en-xalapa-durante-el-mes-de-mayo/
LOCATION:Veracruz
CATEGORIES:Actividades Altruistas
ATTACH;FMTTYPE=image/jpeg:https://www.quierodisfrutar.mx/wp-content/uploads/2023/05/WhatsApp-Image-2023-05-08-at-2.10.59-PM-3.jpeg
END:VEVENT
BEGIN:VEVENT
DTSTART;VALUE=DATE:20230515
DTEND;VALUE=DATE:20230523
DTSTAMP:20260425T220614
CREATED:20230515T010635Z
LAST-MODIFIED:20230515T010635Z
UID:50991-1684108800-1684799999@www.quierodisfrutar.mx
SUMMARY:Actividades culturales en Xalapa
DESCRIPTION:Actividades culturales en Xalapa durante el mes de mayo\n  \n 
URL:https://www.quierodisfrutar.mx/evento/actividades-culturales-en-xalapa-3/
LOCATION:Veracruz
CATEGORIES:Arte,Cursos,Educativos
ATTACH;FMTTYPE=image/jpeg:https://www.quierodisfrutar.mx/wp-content/uploads/2023/05/WhatsApp-Image-2023-05-14-at-7.59.18-PM-3.jpeg
END:VEVENT
BEGIN:VEVENT
DTSTART;TZID=America/Mexico_City:20230520T210000
DTEND;TZID=America/Mexico_City:20230520T230000
DTSTAMP:20260425T220614
CREATED:20230516T170902Z
LAST-MODIFIED:20230516T171247Z
UID:51009-1684616400-1684623600@www.quierodisfrutar.mx
SUMMARY:La Sonora Dinamita de Lucho Argain y Elsa López en Xalapa
DESCRIPTION:Ven a disfrutar de la Gran Cena Baile y del concierto de la Sonora Dinamita de Lucho Argain y Elsa López. \nConsigue tus boletos al número 2281402323
URL:https://www.quierodisfrutar.mx/evento/la-sonora-dinamita-de-lucho-argain-y-elsa-lopez-en-xalapa/
LOCATION:Salón Suterm\, Xalapa\, Veracruz\, México
CATEGORIES:Concierto
ATTACH;FMTTYPE=image/jpeg:https://www.quierodisfrutar.mx/wp-content/uploads/2023/05/335640578_1272341523666918_614620227763546034_n.jpg
END:VEVENT
BEGIN:VEVENT
DTSTART;TZID=America/Mexico_City:20230520T210000
DTEND;TZID=America/Mexico_City:20230520T230000
DTSTAMP:20260425T220614
CREATED:20230517T235717Z
LAST-MODIFIED:20230517T235717Z
UID:51015-1684616400-1684623600@www.quierodisfrutar.mx
SUMMARY:Wachisneris\, festival musical electroregueton
DESCRIPTION: Wachisneris\, festival musical electroregueton \n 
URL:https://www.quierodisfrutar.mx/evento/wachisneris-festival-musical-electroregueton/
LOCATION:Veracruz
CATEGORIES:Concierto
ATTACH;FMTTYPE=image/jpeg:https://www.quierodisfrutar.mx/wp-content/uploads/2023/05/Cartel.jpg
END:VEVENT
BEGIN:VEVENT
DTSTART;TZID=America/Mexico_City:20230522T080000
DTEND;TZID=America/Mexico_City:20230522T170000
DTSTAMP:20260425T220614
CREATED:20230522T204144Z
LAST-MODIFIED:20230522T204144Z
UID:51019-1684742400-1684774800@www.quierodisfrutar.mx
SUMMARY:Taller de defensa personal para mujeres
DESCRIPTION:Taller de defensa personal para mujeres  \n  \n 
URL:https://www.quierodisfrutar.mx/evento/taller-de-defensa-personal-para-mujeres/
LOCATION:Veracruz
CATEGORIES:Cursos
ATTACH;FMTTYPE=image/jpeg:https://www.quierodisfrutar.mx/wp-content/uploads/2023/05/Captura.jpg
END:VEVENT
END:VCALENDAR