BEGIN:VCALENDAR
VERSION:2.0
PRODID:-//Quiero Disfrutar - ECPv6.15.1.1//NONSGML v1.0//EN
CALSCALE:GREGORIAN
METHOD:PUBLISH
X-WR-CALNAME:Quiero Disfrutar
X-ORIGINAL-URL:https://www.quierodisfrutar.mx
X-WR-CALDESC:Eventos para Quiero Disfrutar
REFRESH-INTERVAL;VALUE=DURATION:PT1H
X-Robots-Tag:noindex
X-PUBLISHED-TTL:PT1H
BEGIN:VTIMEZONE
TZID:America/Mexico_City
BEGIN:DAYLIGHT
TZOFFSETFROM:-0600
TZOFFSETTO:-0500
TZNAME:CDT
DTSTART:20240407T080000
END:DAYLIGHT
BEGIN:STANDARD
TZOFFSETFROM:-0500
TZOFFSETTO:-0600
TZNAME:CST
DTSTART:20241027T070000
END:STANDARD
END:VTIMEZONE
BEGIN:VEVENT
DTSTART;VALUE=DATE:20240604
DTEND;VALUE=DATE:20240701
DTSTAMP:20260424T204614
CREATED:20240604T220311Z
LAST-MODIFIED:20240604T220401Z
UID:51890-1717459200-1719791999@www.quierodisfrutar.mx
SUMMARY:Cartelera cultural del mes de junio en Xalapa
DESCRIPTION:Cartelera cultural del mes de junio en Xalapa \n 
URL:https://www.quierodisfrutar.mx/evento/cartelera-cultural-del-mes-de-junio-en-xalapa/
LOCATION:Veracruz
CATEGORIES:Cine,Concierto,Conservatorio
ATTACH;FMTTYPE=image/jpeg:https://www.quierodisfrutar.mx/wp-content/uploads/2024/06/WhatsApp-Image-2024-06-04-at-3.23.59-PM-1.jpeg
END:VEVENT
BEGIN:VEVENT
DTSTART;VALUE=DATE:20240611
DTEND;VALUE=DATE:20240701
DTSTAMP:20260424T204614
CREATED:20240611T190941Z
LAST-MODIFIED:20240611T190941Z
UID:51909-1718064000-1719791999@www.quierodisfrutar.mx
SUMMARY:Eventos culturales durante el mes de junio en Xalapa
DESCRIPTION:
URL:https://www.quierodisfrutar.mx/evento/eventos-culturales-durante-el-mes-de-junio-en-xalapa/
LOCATION:Veracruz
CATEGORIES:Arte,Concierto,Variados
ATTACH;FMTTYPE=image/jpeg:https://www.quierodisfrutar.mx/wp-content/uploads/2024/06/WhatsApp-Image-2024-06-11-at-1.54.27-PM-1.jpeg
END:VEVENT
BEGIN:VEVENT
DTSTART;VALUE=DATE:20240624
DTEND;VALUE=DATE:20240701
DTSTAMP:20260424T204614
CREATED:20240625T015407Z
LAST-MODIFIED:20240625T015407Z
UID:51970-1719187200-1719791999@www.quierodisfrutar.mx
SUMMARY:Eventos culturales durante el mes de junio en Xalapa
DESCRIPTION:Eventos culturales durante el mes de junio en Xalapa\n 
URL:https://www.quierodisfrutar.mx/evento/eventos-culturales-durante-el-mes-de-junio-en-xalapa-3/
LOCATION:Veracruz
CATEGORIES:Arte,Charlas,Cine
ATTACH;FMTTYPE=image/jpeg:https://www.quierodisfrutar.mx/wp-content/uploads/2024/06/WhatsApp-Image-2024-06-24-at-2.35.37-PM-3.jpeg
END:VEVENT
BEGIN:VEVENT
DTSTART;VALUE=DATE:20240709
DTEND;VALUE=DATE:20240801
DTSTAMP:20260424T204614
CREATED:20240709T161336Z
LAST-MODIFIED:20240709T161336Z
UID:52003-1720483200-1722470399@www.quierodisfrutar.mx
SUMMARY:Actividades culturales en Xalapa durante el mes de julio
DESCRIPTION:
URL:https://www.quierodisfrutar.mx/evento/actividades-culturales-en-xalapa-durante-el-mes-de-julio-3/
LOCATION:Veracruz
CATEGORIES:Arte,Variados
ATTACH;FMTTYPE=image/jpeg:https://www.quierodisfrutar.mx/wp-content/uploads/2024/07/WhatsApp-Image-2024-07-09-at-10.58.57-AM-2.jpeg
END:VEVENT
BEGIN:VEVENT
DTSTART;TZID=America/Mexico_City:20240715T080000
DTEND;TZID=America/Mexico_City:20240715T170000
DTSTAMP:20260424T204614
CREATED:20240715T221542Z
LAST-MODIFIED:20240715T221542Z
UID:52035-1721030400-1721062800@www.quierodisfrutar.mx
SUMMARY:Actividades culturales en Xalapa durante el mes de julio
DESCRIPTION:Actividades culturales en Xalapa durante el mes de julio\n  \n 
URL:https://www.quierodisfrutar.mx/evento/actividades-culturales-en-xalapa-durante-el-mes-de-julio-4/
LOCATION:Veracruz
CATEGORIES:Arte
ATTACH;FMTTYPE=image/jpeg:https://www.quierodisfrutar.mx/wp-content/uploads/2024/07/WhatsApp-Image-2024-07-15-at-1.19.51-PM-4.jpeg
END:VEVENT
BEGIN:VEVENT
DTSTART;VALUE=DATE:20240720
DTEND;VALUE=DATE:20240721
DTSTAMP:20260424T204614
CREATED:20240716T194621Z
LAST-MODIFIED:20240716T194741Z
UID:52065-1721433600-1721519999@www.quierodisfrutar.mx
SUMMARY:Splash Party
DESCRIPTION:3\, 2\, 1… Splash Party!\n\n\nPrepara el traje de baño porque este verano se goza en la piscina con azulito en mano\, mientras @_sonidofenix se luce en la consola con un buen perreito que te hará bailar hasta el fondoooo\n\n\n¿Con quién le caes a este chapuzón? \n\n\nEntrada $150\n\n\nSábado 20 de julio 12:00 hrs\n\n\nSalón Don Jima Alborada\, Ver.\nContamos con un autobús de ida y vuelta*\n\n\n*Salida desde Walmart Arco Sur 12 pm\n**Disponibilidad para 30 personas\n***Aparta tu lugar con la compra de tu boleto o con un anticipo del 50%\n****Contamos con estacionamiento\, para lo que quieran llegar en auto particular\n\n\nProhibidos alimentos y bebidas\n \n#summer #verano #fiesta #party #xalapa #xalapaenríquez #xalapaveracruz
URL:https://www.quierodisfrutar.mx/evento/splash-party/
LOCATION:Salón Don Jima Alborada\, Ver
CATEGORIES:Turismo
ATTACH;FMTTYPE=image/jpeg:https://www.quierodisfrutar.mx/wp-content/uploads/2024/07/SPLASH.jpg
END:VEVENT
BEGIN:VEVENT
DTSTART;VALUE=DATE:20240722
DTEND;VALUE=DATE:20240804
DTSTAMP:20260424T204614
CREATED:20240709T182022Z
LAST-MODIFIED:20240709T182037Z
UID:52031-1721606400-1722729599@www.quierodisfrutar.mx
SUMMARY:Festival Internacional Primate Escénico 2024
DESCRIPTION:El Festival Internacional Primate Escénico es un encuentro para las artes escénicas realizado en la ciudad de Xalapa\, Veracruz\, México que surge en el 2016 como proyecto independiente e iniciativa de la compañía de danza contemporánea Spaciocero Arte Escénico. Primate Escénico nace a partir de la necesidad e intención de potenciar un espacio de intercambio\, colaboración y difusión para las artes escénicas en Xalapa\, México y Latinoamérica. \nEl festival convoca anualmente a artistas de diferentes latitudes con la intención de acompañar y compartir metodologías corporales\, proyectos escénicos y toda iniciativa interesada en la difusión y colaboración artística. Gracias a esto\, se ha contado con la asistencia de artistas invitados originarios de Argentina\, Costa Rica\, Colombia\, Francia\, Italia\, Perú\, Ecuador\, Paraguay\, Rusia\, Panamá\, Nicaragua\, El Salvador\, España\, Chile\, Uruguay y México. Cada uno de estos artistas\, ha sido convocado para compartir proyectos escénicos en el marco de programación internacional\, así como investigaciones y metodologías a través de la oferta de talleres corporales. \nPrimate Escénico contempla la programación de las siguientes actividades: Programación Artística Internacional\, Foro Primate\, Prácticas Corporales\, Primatitxs (talleres para niños)\, Laboratorios Creativos\, Residencia Creativa\, Conversatorios\, Cuerpo a la Pantalla (programación de videodanza)\, Mercado de Arte y Proyecto de Interacción Social (talleres con adultos mayores).
URL:https://www.quierodisfrutar.mx/evento/festival-internacional-primate-escenico-2024/
LOCATION:Veracruz
CATEGORIES:Arte,Festival,Variados
ATTACH;FMTTYPE=image/jpeg:https://www.quierodisfrutar.mx/wp-content/uploads/2024/07/449680855_1960059014441445_2208206199010423826_n.jpg
END:VEVENT
BEGIN:VEVENT
DTSTART;TZID=America/Mexico_City:20240724T080000
DTEND;TZID=America/Mexico_City:20240724T170000
DTSTAMP:20260424T204614
CREATED:20240725T010751Z
LAST-MODIFIED:20240725T010751Z
UID:52078-1721808000-1721840400@www.quierodisfrutar.mx
SUMMARY:La compañía drag La Casa Fantasmal presenta la obra de teatro Algo que pasó en Stonewall
DESCRIPTION:El movimiento Drag en Xalapa más vivo que nunca\, «Algo que pasó en Stonewall»\, la obra que explora los acontecimientos que dieron origen a junio como mes del orgullo\, vuelve a escena este sábado en Tierra Luna. \nLa compañía drag\, La Casa Fantasmal\, única en su tipo por la realización de espectáculos teatrales y con una trayectoria de más de tres años\, vuelve a los escenarios del Club Cultural Tierra Luna con su obra Algo que pasó en Stonewall\, un recorrido por los sucesos que se volvieron referente para la comunidad LGBTTTIQ+\, y razón por la cual se celebra el mes del orgullo en junio.\nComandadas por Victoria Fantasmal -LA diva del teatro-\, actriz\, directora y fundadora de la compañía\, este grupo de actrices drag narra lo sucedido en Nueva York en el año 1969\, cuando una orda de policías hizo una redada informal en un bar del barrio Greenwich Village\, donde agredieron brutalmente a un grupo de mujeres trans\, drag queens\, latinos y negros. \nLa situación era suficientemente común como para no llamar la atención de la gente\, acostumbrada a estas acciones policiales contra las disidencias\, pero esa noche\, las cosas fueron diferentes: por alguna razón\, las clientas del Stonewall Inn decidieron defenderse y sin saber cómo ni por qué\, cambiaron al mundo para siempre. “O al menos eso nos gustaría pensar\, porque nadie está seguro de cómo pasó esta historia”\, comenta Victoria Fantasmal\, quien prefiere usar su nombre artístico cotidianamente\, ya que considera -como casi toda la comunidad queer- que la identidad artística no se deslinda de la identidad personal. \n\n		\n		\n			\n				\n			\n			\n				\n			\n			\n		\n\n“Siendo que lo personal es político\, yo he elegido usar mi nombre\, mi género y mi vida como la materia prima de mi trabajo\, creo que habemos muchas historias queer\, pero pocas personas contándolas. En lo particular\, mi titulación de licenciatura fue gracias al primer unipersonal drag para obtener el grado dentro de la Universidad Veracruzana. En lo colectivo\, como La casa fantasmal\, es justo lo que nos motivó a subir al escenario hace más de tres años: contrar nuestras historias y de cierto modo meternos a esos espacios que históricamente se nos han negado\, no solo a la comunidad queer\, si no al arte popular\, en general”\, sentencia. \nLa compañía ha logrado contar sus historias\, hacer oír su voz y narrarse a sí mismas\, brillando no solo por sus propuestas escénicas\, la diversidad de sus producciones (más de 30 espectáculos originales en sólo tres años)\, sino por la diversidad de profesiones\, disciplinas y talentos que la conforman: licenciadas en teatro\, gimnastas profesionales\, bailarinas y comediantes integran este grupo de trabajo que mes con mes atraviesa los prejuicios de un público variable y exigente.  \nCatalina Fantasmal\, Zodiaca\, Tormento\, Casandra\, Liebra Chupihira\, Valentina Bong`d y Victoria Fantasmal dan vida a este suceso histórico\, mostrando una vez más que las revoluciones (de ideas\, preceptos y realidades) están plagadas de héroes y heroínas olvidadas por la narrativa oficial\, una narrativa seria y normativa que excluye lo absurdo\, vulgar y simple que termina siendo la construcción de la realidad REAL. La cita es este sábado 27 de julio en punto de las 20 horas en Tierra Luna Club Cultural con un costo de entrada de ciento cincuenta pesos. \n 
URL:https://www.quierodisfrutar.mx/evento/la-compania-drag-la-casa-fantasmal-presenta-la-obra-de-teatro-algo-que-paso-en-stonewall/
LOCATION:Veracruz
CATEGORIES:Teatro
ATTACH;FMTTYPE=image/jpeg:https://www.quierodisfrutar.mx/wp-content/uploads/2024/07/c0a2a650-481e-447e-9415-ace699c60e60.jpg
END:VEVENT
BEGIN:VEVENT
DTSTART;TZID=America/Mexico_City:20240731T080000
DTEND;TZID=America/Mexico_City:20240731T170000
DTSTAMP:20260424T204614
CREATED:20240731T201005Z
LAST-MODIFIED:20240731T201005Z
UID:52084-1722412800-1722445200@www.quierodisfrutar.mx
SUMMARY:“La Orquesta Mediocre” presente en el Encuentro Escénico Veracruz 2024
DESCRIPTION:La Maleta – Teatro presentará el próximo jueves 8 de agosto a las 20 h. en la sala chica del Teatro del Estado\, su más reciente producción: “La Orquesta Mediocre”; una obra de teatro para toda la familia que reflexiona sobre el fracaso y la ansiedad. La función se realizará dentro del programa del Encuentro Escénico Veracruz 2024 organizado por la Secretaría de Cultura de Veracruz.  \nLa puesta en escena cuenta la historia de Balduvino Malasuerte\, un desdichado joven que sueña con tocar su zarrapastrosa guitarra en una gran orquesta\, sólo que hay un insignificante problema -tan insignificante como él- y es que nunca ha logrado que alguien más lo vea tocar. Luchando contra su propia suerte\, y al lado de los seres más desafortunados del mundo\, forma su propia orquesta para impresionar a Don Bartolomeo de las Grandes Pompas\, y así convertirse en miembro de La Orquesta Nacional de la que Sólo los que Alguna Vez Fueron Alguien Formaron Parte: La ONSAVFAFP. Entre el caos de ser él mismo y la falta de talento de sus integrantes\, Balduvino se enfrentará a su propia miseria\, y entenderá por qué\, pese a ser un talentoso guitarrista\, sus dedos se paralizan al intentar tocar para los demás.  \nLa dramaturgia y dirección están a cargo de Oscar Reyes\, y cuenta con las actuaciones de Deivin Uriel Viveros\, Selena Arizmendi\, Victor M. Robles\, Centli García y Erandi Martínez; con música de Martín Atreyu López y Adrián Gaspar\, y asistencia técnica de Adrián Acosta. Este proyecto resultó beneficiario del PECDA VERACRUZ 2022 otorgado por el Sistema de Apoyos a la Creación y Proyectos Culturales (SACPC).  \n“La Orquesta Mediocre” tendrá una única función el jueves 8 de agosto a las 20 h. en la sala chica del Teatro del Estado\, que se encuentra ubicada en Ignacio de la Llave #2\, Col. Represa del Carmen. El costo de los boletos será de $150 el día del evento\, sin embargo\, si los adquiere en preventa a través de las redes sociales de la compañía\, su costo será únicamente de $100. Mayores informes en la página de Facebook La Maleta – Teatro\, o @maletateatro en Instagram.  \n 
URL:https://www.quierodisfrutar.mx/evento/la-orquesta-mediocre-presente-en-el-encuentro-escenico-veracruz-2024/
LOCATION:Veracruz
CATEGORIES:Teatro
ATTACH;FMTTYPE=image/jpeg:https://www.quierodisfrutar.mx/wp-content/uploads/2024/07/Teatro.jpg
END:VEVENT
END:VCALENDAR