BEGIN:VCALENDAR
VERSION:2.0
PRODID:-//Quiero Disfrutar - ECPv6.15.1.1//NONSGML v1.0//EN
CALSCALE:GREGORIAN
METHOD:PUBLISH
X-ORIGINAL-URL:https://www.quierodisfrutar.mx
X-WR-CALDESC:Eventos para Quiero Disfrutar
REFRESH-INTERVAL;VALUE=DURATION:PT1H
X-Robots-Tag:noindex
X-PUBLISHED-TTL:PT1H
BEGIN:VTIMEZONE
TZID:America/Mexico_City
BEGIN:DAYLIGHT
TZOFFSETFROM:-0600
TZOFFSETTO:-0500
TZNAME:CDT
DTSTART:20240407T080000
END:DAYLIGHT
BEGIN:STANDARD
TZOFFSETFROM:-0500
TZOFFSETTO:-0600
TZNAME:CST
DTSTART:20241027T070000
END:STANDARD
END:VTIMEZONE
BEGIN:VEVENT
DTSTART;VALUE=DATE:20240709
DTEND;VALUE=DATE:20240801
DTSTAMP:20260424T191051
CREATED:20240709T161336Z
LAST-MODIFIED:20240709T161336Z
UID:52003-1720483200-1722470399@www.quierodisfrutar.mx
SUMMARY:Actividades culturales en Xalapa durante el mes de julio
DESCRIPTION:
URL:https://www.quierodisfrutar.mx/evento/actividades-culturales-en-xalapa-durante-el-mes-de-julio-3/
LOCATION:Veracruz
CATEGORIES:Arte,Variados
ATTACH;FMTTYPE=image/jpeg:https://www.quierodisfrutar.mx/wp-content/uploads/2024/07/WhatsApp-Image-2024-07-09-at-10.58.57-AM-2.jpeg
END:VEVENT
BEGIN:VEVENT
DTSTART;VALUE=DATE:20240722
DTEND;VALUE=DATE:20240804
DTSTAMP:20260424T191051
CREATED:20240709T182022Z
LAST-MODIFIED:20240709T182037Z
UID:52031-1721606400-1722729599@www.quierodisfrutar.mx
SUMMARY:Festival Internacional Primate Escénico 2024
DESCRIPTION:El Festival Internacional Primate Escénico es un encuentro para las artes escénicas realizado en la ciudad de Xalapa\, Veracruz\, México que surge en el 2016 como proyecto independiente e iniciativa de la compañía de danza contemporánea Spaciocero Arte Escénico. Primate Escénico nace a partir de la necesidad e intención de potenciar un espacio de intercambio\, colaboración y difusión para las artes escénicas en Xalapa\, México y Latinoamérica. \nEl festival convoca anualmente a artistas de diferentes latitudes con la intención de acompañar y compartir metodologías corporales\, proyectos escénicos y toda iniciativa interesada en la difusión y colaboración artística. Gracias a esto\, se ha contado con la asistencia de artistas invitados originarios de Argentina\, Costa Rica\, Colombia\, Francia\, Italia\, Perú\, Ecuador\, Paraguay\, Rusia\, Panamá\, Nicaragua\, El Salvador\, España\, Chile\, Uruguay y México. Cada uno de estos artistas\, ha sido convocado para compartir proyectos escénicos en el marco de programación internacional\, así como investigaciones y metodologías a través de la oferta de talleres corporales. \nPrimate Escénico contempla la programación de las siguientes actividades: Programación Artística Internacional\, Foro Primate\, Prácticas Corporales\, Primatitxs (talleres para niños)\, Laboratorios Creativos\, Residencia Creativa\, Conversatorios\, Cuerpo a la Pantalla (programación de videodanza)\, Mercado de Arte y Proyecto de Interacción Social (talleres con adultos mayores).
URL:https://www.quierodisfrutar.mx/evento/festival-internacional-primate-escenico-2024/
LOCATION:Veracruz
CATEGORIES:Arte,Festival,Variados
ATTACH;FMTTYPE=image/jpeg:https://www.quierodisfrutar.mx/wp-content/uploads/2024/07/449680855_1960059014441445_2208206199010423826_n.jpg
END:VEVENT
BEGIN:VEVENT
DTSTART;VALUE=DATE:20240805
DTEND;VALUE=DATE:20240901
DTSTAMP:20260424T191051
CREATED:20240805T203625Z
LAST-MODIFIED:20240805T203625Z
UID:52098-1722816000-1725148799@www.quierodisfrutar.mx
SUMMARY:Eventos culturales en Xalapa durante el mes de agosto
DESCRIPTION:
URL:https://www.quierodisfrutar.mx/evento/eventos-culturales-en-xalapa-durante-el-mes-de-agosto/
LOCATION:Veracruz
CATEGORIES:Arte,Variados
ATTACH;FMTTYPE=image/jpeg:https://www.quierodisfrutar.mx/wp-content/uploads/2024/08/WhatsApp-Image-2024-08-05-at-3.18.58-PM-1.jpeg
END:VEVENT
BEGIN:VEVENT
DTSTART;VALUE=DATE:20240808
DTEND;VALUE=DATE:20240810
DTSTAMP:20260424T191051
CREATED:20240801T180833Z
LAST-MODIFIED:20240801T180833Z
UID:52089-1723075200-1723247999@www.quierodisfrutar.mx
SUMMARY:La obra más importante del mundo (obra infantil)
DESCRIPTION:
URL:https://www.quierodisfrutar.mx/evento/la-obra-mas-importante-del-mundo-obra-infantil/
LOCATION:Teatro J.J. Herrera\, Miguel Palacios #12\, Xalapa\, Veracruz\, 91000\, México
CATEGORIES:Teatro
ATTACH;FMTTYPE=image/jpeg:https://www.quierodisfrutar.mx/wp-content/uploads/2024/08/452439327_507959775098580_6641234113359174705_n.jpg
END:VEVENT
BEGIN:VEVENT
DTSTART;VALUE=DATE:20240809
DTEND;VALUE=DATE:20240811
DTSTAMP:20260424T191051
CREATED:20240802T205631Z
LAST-MODIFIED:20240802T205631Z
UID:52093-1723161600-1723334399@www.quierodisfrutar.mx
SUMMARY:Fiesta Patronal 4 Soles
DESCRIPTION:A través de estas líneas se les invita a la Fiesta Patronal del Fraccionamiento 4 Soles del municipio de Naolinco; contará con la visita de Honorable Arzobispo Aux. Monseñor José Palma Capetillo. \nAnexo programa de las actividades que se llevarán a cabo.
URL:https://www.quierodisfrutar.mx/evento/fiesta-patronal-4-soles/
LOCATION:4 Soles\, Naolinco\, Ver.
CATEGORIES:Fiesta y tradición
ATTACH;FMTTYPE=image/jpeg:https://www.quierodisfrutar.mx/wp-content/uploads/2024/08/IMG-20240712-WA00091.jpg
END:VEVENT
BEGIN:VEVENT
DTSTART;TZID=America/Mexico_City:20240812T080000
DTEND;TZID=America/Mexico_City:20240812T170000
DTSTAMP:20260424T191051
CREATED:20240812T191059Z
LAST-MODIFIED:20240812T191059Z
UID:52121-1723449600-1723482000@www.quierodisfrutar.mx
SUMMARY:Eventos culturales en Xalapa durante el mes de agosto
DESCRIPTION:Eventos culturales en Xalapa durante el mes de agosto\n\n12 agosto – 17 agosto\n\n 
URL:https://www.quierodisfrutar.mx/evento/eventos-culturales-en-xalapa-durante-el-mes-de-agosto-2/
LOCATION:Veracruz
ATTACH;FMTTYPE=image/jpeg:https://www.quierodisfrutar.mx/wp-content/uploads/2024/08/WhatsApp-Image-2024-08-12-at-1.30.25-PM-1.jpeg
END:VEVENT
BEGIN:VEVENT
DTSTART;VALUE=DATE:20240814
DTEND;VALUE=DATE:20240815
DTSTAMP:20260424T191051
CREATED:20240815T014552Z
LAST-MODIFIED:20240815T014552Z
UID:52149-1723593600-1723679999@www.quierodisfrutar.mx
SUMMARY:CECATI 151 de Xalapa presenta su programa de Oferta Educativa
DESCRIPTION:Centro de Capacitación para el Trabajo Industrial ofrece cursos cortos de diferentes especialidades a bajo costo \n  \n  \nBuenas noches\, Al Calor Político. \nPor este conducto me dirijo a quien corresponda para solicitarles el apoyo a fin de que me pudieran publicar o hacer mención en sus redes la oferta educativa de mi escuela CECATI 151\, nosotros somos un Centro de Capacitación para el Trabajo Industrial aquí en Xalapa y ofrecemos cursos cortos de diferentes especialidades a muy bajo costo. \nCabe aclarar que somos una escuela pública\, no somos escuela privada\, pertenecemos a la Subsecretaría de Educación Media y somos una opción educativa para todas aquellas personas mayores de 15 años que deseen continuar con su preparación ya sea porque no pudieron continuar con sus estudios universitarios o de bachillerato o bien porque desean complementar sus estudios y profesiones con alguna de nuestras especialidades. \nTenemos inscripciones abiertas e iniciamos clases el 26 de agosto. \nAdjunto le envío una imagen promocional sobre nuestra escuela y el díptico con nuestra oferta educativa. \nLe agradecería también si es posible que nos pudieran publicar nuestro díptico en su sección. Quiero disfrutar del el apartado de cursos y talleres. \nDe antemano agradezco su atención y quedo pendiente.
URL:https://www.quierodisfrutar.mx/evento/cecati-151-de-xalapa-presenta-su-programa-de-oferta-educativa/
LOCATION:Veracruz
CATEGORIES:Cursos
ATTACH;FMTTYPE=image/jpeg:https://www.quierodisfrutar.mx/wp-content/uploads/2024/08/ESPECIALIDADES.jpg
END:VEVENT
BEGIN:VEVENT
DTSTART;TZID=America/Mexico_City:20240815T180000
DTEND;TZID=America/Mexico_City:20240815T200000
DTSTAMP:20260424T191051
CREATED:20240815T180613Z
LAST-MODIFIED:20240815T180620Z
UID:52159-1723744800-1723752000@www.quierodisfrutar.mx
SUMMARY:“Mi color carne” se presenta hoy dentro del Encuentro Escénico Veracruz 2024
DESCRIPTION:La obra se presentó recientemente en las diez ciudades que comprende el Circuito Norte-Sur del 19° Festival de Monólogos Teatro a Una Sola Voz 2024 \nMerinfa Teatro presentará la obra de teatro Mi color carne hoy\, jueves 15 de agosto en el Teatro del Estado General Ignacio de la Llave\, en el marco del Encuentro Escénico Veracruz 2024. Una obra para toda la familia que reflexiona sobre la discriminación racial en México. \nLa puesta en escena cuenta la historia de Queta\, quien a sus diez años narra la manera en que identifica situaciones en su entorno escolar y familiar que la hacen cuestionarse por qué el color de piel parece determinar el valor de las personas. A partir de ello se propone una misión: la de descubrir su propio origen. La obra aborda conceptos como “mestizaje” y “raza”\, evidenciando conductas y frases racistas comúnmente utilizadas por la población mexicana. Finalmente invita a la reflexión\, reconociendo el valor de todas las personas sin distinción. \nLa dramaturgia y dirección está a cargo de Adalia Sarmiento\, quien también es la actriz de esta puesta en escena. La asistencia técnica está a cargo de Oscar Reyes y Rosa María Landa. Este proyecto fue resultado de la convocatoria PECDA Veracruz 2022\, en la categoría Jóvenes Creadores. Participó en el Festival de Unipersonales Xalapa\, realizado por Área 51 Foro Teatral\, así como en la Muestra Estatal de Artes Escénicas Veracruz 2023. Recientemente acaba de realizar una gira por 10 ciudades de la República Mexicana\, como parte del Festival de Monólogos Teatro a Una Sola Voz. Próximamente se presentará en el Centro Cultural del Bosque\, dentro del Ciclo Nuestras Latitudes\, convocado por el Instituto Nacional de Bellas Artes y Literatura. \nLas funciones serán el día de hoy\, jueves 15 de agosto a las 18:00 y 20:00 hrs\, en la Sala Dagoberto Guillaumin del Teatro del Estado Gral. Ignacio de la Llave. El precio general de los boletos es de $150\, e INAPAM\, niños y niñas: $100. Los boletos podrán adquirirse en la taquilla del teatro a partir de una hora antes de cada función.
URL:https://www.quierodisfrutar.mx/evento/mi-color-carne-se-presenta-hoy-dentro-del-encuentro-escenico-veracruz-2024/
LOCATION:Teatro del Estado\, Calle Ignacio de la Llave #2\, Col. Represa del Carmen\, Xalapa\, Veracruz\, México
CATEGORIES:Arte,Teatro
ATTACH;FMTTYPE=image/jpeg:https://www.quierodisfrutar.mx/wp-content/uploads/2024/08/Copia-de-©TONYCANDIL-®ADALIA-SARMIENTO00.jpg
END:VEVENT
BEGIN:VEVENT
DTSTART;VALUE=DATE:20240821
DTEND;VALUE=DATE:20240822
DTSTAMP:20260424T191051
CREATED:20240815T150905Z
LAST-MODIFIED:20240815T150905Z
UID:52153-1724198400-1724284799@www.quierodisfrutar.mx
SUMMARY:Feria Nacional de Empleo 2024\, en Xalapa
DESCRIPTION:Invitan a la población Xalapeña a la Feria Nacional de Empleo que se llevará a cabo el 21 de agosto en el parque Juárez de 9 Am a 3 Pm\, en donde se tendrá a más de 25 empresas ofertando trabajo. \nContarán con 250 vacantes disponibles en Xalapa\, Monterrey\, Nuevo León\, Coahuila\, Riviera Maya.
URL:https://www.quierodisfrutar.mx/evento/feria-nacional-de-empleo-2024-en-xalapa/
LOCATION:Parque Juárez\, Calle Enríquez
CATEGORIES:Ofertas laborales
ATTACH;FMTTYPE=image/jpeg:https://www.quierodisfrutar.mx/wp-content/uploads/2024/08/455691707_1023206196473996_7960633720866156395_n.jpg
END:VEVENT
BEGIN:VEVENT
DTSTART;TZID=America/Mexico_City:20240821T180000
DTEND;TZID=America/Mexico_City:20240821T190000
DTSTAMP:20260424T191051
CREATED:20240820T175032Z
LAST-MODIFIED:20240820T175332Z
UID:52184-1724263200-1724266800@www.quierodisfrutar.mx
SUMMARY:Este miércoles se presenta el libro “Tinieblas\, el Gigante Sabio”\, en Xalapa
DESCRIPTION:– El mítico luchador asistirá al Museo de la Música Veracruzana Casa Doña Falla\, a partir de las 18:00 horas. \nLa lucha libre en nuestro país\, además de ser un deporte\, es un legado cultural que ha trascendido\, tema que Raúl Criollo ha registrado en su libro Enmascaradas\, texto con el cual inició su investigación de esta disciplina que combina deporte y secuencias teatrales\, haciendo de la lucha libre mexicana un género interesante y popular. Ahora ofrece una nueva aportación con Tinieblas\, el Gigante Sabio\, cuya presentación está programada para este miércoles 21 de agosto en el Museo de la Música Veracruzana Casa Doña Falla. \nPor supuesto\, a esta presentación editorial ya confirmó su presencia el mítico luchador Tinieblas\, quien ofrecerá autógrafos al público que asista con su libro Tinieblas\, el Gigante Sabio\, el cual todavía estará disponible con precio de preventa. \nDesde el siglo pasado\, la lucha libre en la ahora mítica Arena Xalapa se ha posicionado en el gusto del público\, pendiente cada fin de semana de los encuentros pugilísticos. En esos combates abundaban los saltos fuera del ring y acrobacias que provocaban los gritos emocionados de los asistentes\, quienes disfrutaban de las llaves a ras del piso y veían cómo los luchadores se impulsaban desde las cuerdas para volar al otro lado del cuadrilátero. \nSin duda\, todos los seguidores de la lucha libre no se perderán esta presentación de Tinieblas\, el Gigante Sabio\, en el Museo de la Música Veracruzana Casa Doña Falla\, ubicado frente al parque Los Berros\, en la calle Salvador Díaz Mirón número 21\, a partir de las 18:00 horas.
URL:https://www.quierodisfrutar.mx/evento/este-miercoles-se-presenta-el-libro-tinieblas-el-gigante-sabio-en-xalapa/
LOCATION:Museo de la Música Veracruzana Casa Doña Falla\, calle Salvador Díaz Mirón número 21\, Xalapa\, Veracruz\, 91000\, México
CATEGORIES:Arte
ATTACH;FMTTYPE=image/jpeg:https://www.quierodisfrutar.mx/wp-content/uploads/2024/08/124350tinieblas_2_1.jpg
END:VEVENT
BEGIN:VEVENT
DTSTART;VALUE=DATE:20240822
DTEND;VALUE=DATE:20240826
DTSTAMP:20260424T191051
CREATED:20240820T150527Z
LAST-MODIFIED:20240820T150527Z
UID:52165-1724284800-1724630399@www.quierodisfrutar.mx
SUMMARY:Velorios de Rancho
DESCRIPTION:
URL:https://www.quierodisfrutar.mx/evento/velorios-de-rancho/
LOCATION:TRASMUNDO TEATRO\, Xalapeños Ilustres 171 casi 20 de nov\, Xalapa\, Veracruz\, 91000\, México
CATEGORIES:Arte,Teatro
ATTACH;FMTTYPE=image/jpeg:https://www.quierodisfrutar.mx/wp-content/uploads/2024/08/quiero-disfrutar.jpeg
END:VEVENT
BEGIN:VEVENT
DTSTART;TZID=America/Mexico_City:20240822T163000
DTEND;TZID=America/Mexico_City:20240822T180000
DTSTAMP:20260424T191051
CREATED:20240820T165454Z
LAST-MODIFIED:20240820T165454Z
UID:52169-1724344200-1724349600@www.quierodisfrutar.mx
SUMMARY:MIS SUEÑOS A TRAVÉS DEL ARTE
DESCRIPTION:«El próximo jueves 22 de agosto de 2024\, a partir de las 4:30pm.\, se llevará a cabo el evento MIS SUEÑOS A TRAVÉS DEL ARTE\, en el Teatro J.J. Herrera de Xalapa\, Ver.\, con la participación únicamente de chicos y chicas con discapacidad intelectual. Presentando la puesta en escena ¿Dónde está la Primavera?\, presentación del libro «Despertar a la Vida» de Jorge Luis Guerrero y vista de las obras realizadas por el Equipo de Embajadores Best Buddies México. La finalidad es crear conciencia de nuestra existencia ante la sociedad.\nOjalá puedan acompañar a estos chicos entusiastas\, la entrada es gratuita para el público en general.\nEvento organizado por ISSSTE\, Best Buddies México y Colibrí Special Olympics México».\n 
URL:https://www.quierodisfrutar.mx/evento/mis-suenos-a-traves-del-arte/
LOCATION:Teatro JJ Herrera\, Corredor turístico Carlos Fuentes #12\, col. Centro\, Xalapa\, Veracruz\, México
CATEGORIES:Arte,Variados
ATTACH;FMTTYPE=image/jpeg:https://www.quierodisfrutar.mx/wp-content/uploads/2024/08/INVITACION.jpg
END:VEVENT
BEGIN:VEVENT
DTSTART;TZID=America/Mexico_City:20240823T190000
DTEND;TZID=America/Mexico_City:20240823T210000
DTSTAMP:20260424T191051
CREATED:20240820T172437Z
LAST-MODIFIED:20240820T172437Z
UID:52175-1724439600-1724446800@www.quierodisfrutar.mx
SUMMARY:Guitarras y salsa en Casa del Lago UV
DESCRIPTION:Casa del Lago UV se llenará de música con dos eventos inolvidables que prometen enriquecer a los asistentes con música y momentos vibrantes. El jueves 22 de agosto a las 19:00 horas\, el Ensamble Clásico de Guitarras\, presentará el concierto “Melodías y arreglos de la Maestra Adeï Berea”. Un homenaje a la destacada compositora que ha acompañado y dedicado obras a esta agrupación a lo largo del tiempo. \nEste grupo artístico\, cuenta con un gran reconocimiento por su interpretación de obras clásicas y contemporáneas\, se ha destacado por su habilidad para adaptar melodías complejas a un formato de guitarras\, creando un sonido único y cautivador. \nEl viernes 23 de agosto a las 19:00 horas\, se llevará a cabo la celebración de los 45 años de la Orquesta de Salsa UV\, con un Concierto Especial titulado “Salsa de mi corazón”. \nEsta agrupación es un ícono de música tropical en Veracruz y ha sido una plataforma para generaciones de músicos talentosos que han llevado el sabor de la salsa a escenarios de talla internacional. \nAmbos eventos se realizarán en el espacio universitario Casa del Lago UV de forma gratuita\, un lugar que ha sido testigo de innumerables presentaciones artísticas y que continúa siendo un punto de encuentro cultural en la región. \nPara más información de los Grupos Artísticos de la Universidad Veracruzana\, visita nuestras redes sociales de Difusión Cultural y descubre contenido exclusivo.
URL:https://www.quierodisfrutar.mx/evento/guitarras-y-salsa-en-casa-del-lago-uv/
LOCATION:Casa del Lago UV\,  El Dique #27\,  Zona Centro\, Xalapa\, Veracruz\, México
CATEGORIES:Arte,Concierto,Música y Danza
ATTACH;FMTTYPE=image/png:https://www.quierodisfrutar.mx/wp-content/uploads/2024/08/23-ago.png
END:VEVENT
BEGIN:VEVENT
DTSTART;VALUE=DATE:20240824
DTEND;VALUE=DATE:20240826
DTSTAMP:20260424T191051
CREATED:20240718T195906Z
LAST-MODIFIED:20240718T202506Z
UID:52069-1724457600-1724630399@www.quierodisfrutar.mx
SUMMARY:Potter Weekend en Xalapa
DESCRIPTION:PotterHeads de Xalapa \n¡VENTA DE BOLETOS!Próximo sábado 20 de julio de 16:00hrs a 20:00hrs en Cinetix Plaza Zaragoza. \nCelebrando los 20 años de Harry Potter y el Prisionero de Azkaban\, hemos decidido celebrarlo en familia con ustedes en un evento maravilloso y lleno de magia.  \nSábado 24 de agosto comenzaremos con la proyección de: \n– Harry Potter y la Piedra Filosofal (versión extendida).– Harry Potter y la Cámara de los Secretos (versión extendida). \nDomingo 25 de agosto\, continuamos con:  \n– Harry Potter y el Prisionero de Azkaban.– Harry Potter y el Cáliz de Fuego. \nDurante tu estancia en el cine podrás gozar de una excelente atmósfera llena de magia con nuestro Callejon Diagon donde encontrarás: \nBebidas Mágicas DulcesVenta de coleccionables (varitas\, bufandas\, sudaderas\, túnicas\, peluches y mucho más)Escenarios para tus fotos en redes socialesConcursos de cosplayers Clases mágicas Y ¡muchas sorpresas más! \nEl cupo será limitado\, así que si eres un fanático de sangre pura\, ven a disfrutar de un fin de semana ÚNICO solo para PotterHeads. \nVenta de Boletos el próximo sábado 20 de julio de las 16:00 a las 20:00 hrs (habrá un stand) en CINETIX Plaza Zaragoza.Costo del Boleto  $270 (todo el fin de semana) incluye las cuatro películas\, un boleto conmemorativo\, acceso a rifas\, y premios sorpresa.
URL:https://www.quierodisfrutar.mx/evento/potter-weekend/
LOCATION:Cinetix Plaza Zaragoza\, Xalapa\, Veracruz\, México
CATEGORIES:Cine
ATTACH;FMTTYPE=image/jpeg:https://www.quierodisfrutar.mx/wp-content/uploads/2024/07/450957470_2484667075255483_6917230392340383762_n.jpg
END:VEVENT
BEGIN:VEVENT
DTSTART;TZID=America/Mexico_City:20240828T080000
DTEND;TZID=America/Mexico_City:20240828T170000
DTSTAMP:20260424T191051
CREATED:20240828T191515Z
LAST-MODIFIED:20240828T191515Z
UID:52193-1724832000-1724864400@www.quierodisfrutar.mx
SUMMARY:“Un Encuentro con la historia: La Orquesta Universitaria de Música Popular Revive el Siglo XVIII en Xalapa”
DESCRIPTION:  \nLa Orquesta Universitaria de Música Popular invita a la comunidad xalapeña a sumergirse en una experiencia musical única con el concierto “Academia Siglo XVIII”\, que se llevará a cabo el viernes 30 de agosto a las 19:30 horas\, con sede en la Parroquia San Pío X ubicada en la Av. Araucarias 75\, Col. Indeco Animas. \nEl concierto está inspirado en la música de cámara que caracterizó al siglo XVIII\, este evento se destaca por su repertorio de piezas para violín y oboe\, instrumentos que juntos transmiten elegancia y el refinamiento de una época dorada en la historia de la música. La combinación de estos instrumentos\, bajo la interpretación de la Orquesta Universitaria de Música Popular\, promete una velada inolvidable. \n\n		\n		\n			\n				\n			\n			\n				\n			\n			\n				\n			\n			\n				\n			\n			\n		\n\nEl enfoque de este concierto estará en los diversos diálogos y matices que emergen\, generando una atmósfera musical en la que la atención se extenderá entre múltiples ideas. Cada uno de los instrumentos solistas tiene la capacidad de entablar un diálogo entre sí\, con la orquesta\, o incluso fusionarse en un discurso único y conjunto. Aunque la partitura original del concierto para violín y oboe se perdió tras la muerte de Bach\, fue reconstruida a partir de una transcripción realizada por el propio Bach para dos clavicémbalos y cuerdas. Años después\, gracias a Mendelssohn\, la obra fue recuperada y tuvo la oportunidad de ser nuevamente interpretada en conciertos. \nEste concierto es una oportunidad para vivir la riqueza del patrimonio musical en un entorno accesible para todos\, sin embargo\, el aforo es limitado\, por lo que se recomienda llegar con anticipación. Será en la Parroquia San Pío X\, el escenario perfecto para este evento\, con su acústica envolvente y su atmósfera coloquial. No te pierdas de esta gran experiencia en una noche mágica con la Orquesta Universitaria de Música Popular de la UV. \nPara más información\, visita el sitio web de Difusión Cultural UV https://www.uv.mx/difusioncultural/\, además no olvides seguirnos en nuestra redes sociales. \n 
URL:https://www.quierodisfrutar.mx/evento/un-encuentro-con-la-historia-la-orquesta-universitaria-de-musica-popular-revive-el-siglo-xviii-en-xalapa/
LOCATION:Veracruz
CATEGORIES:Concierto
ATTACH;FMTTYPE=image/jpeg:https://www.quierodisfrutar.mx/wp-content/uploads/2024/08/Conci.jpg
END:VEVENT
BEGIN:VEVENT
DTSTART;TZID=America/Mexico_City:20240828T190000
DTEND;TZID=America/Mexico_City:20240828T203000
DTSTAMP:20260424T191051
CREATED:20240828T172318Z
LAST-MODIFIED:20240828T172344Z
UID:52188-1724871600-1724877000@www.quierodisfrutar.mx
SUMMARY:Sesión de cine "Tu espacio público" en el mercado “La Rotonda”
DESCRIPTION:Sesión de cine «Tu espacio público» en el mercado “La Rotonda”  \n  \n  \n \n  \nMiércoles 28 de agosto a las 19:00 horas \n  \nEntrada libre 
URL:https://www.quierodisfrutar.mx/evento/sesion-de-cine-tu-espacio-publico-en-el-mercado-la-rotonda/
LOCATION:Veracruz
CATEGORIES:Cine
ATTACH;FMTTYPE=image/jpeg:https://www.quierodisfrutar.mx/wp-content/uploads/2024/08/Cine.jpg
END:VEVENT
END:VCALENDAR