BEGIN:VCALENDAR
VERSION:2.0
PRODID:-//Quiero Disfrutar - ECPv6.15.1.1//NONSGML v1.0//EN
CALSCALE:GREGORIAN
METHOD:PUBLISH
X-WR-CALNAME:Quiero Disfrutar
X-ORIGINAL-URL:https://www.quierodisfrutar.mx
X-WR-CALDESC:Eventos para Quiero Disfrutar
REFRESH-INTERVAL;VALUE=DURATION:PT1H
X-Robots-Tag:noindex
X-PUBLISHED-TTL:PT1H
BEGIN:VTIMEZONE
TZID:America/Mexico_City
BEGIN:DAYLIGHT
TZOFFSETFROM:-0600
TZOFFSETTO:-0500
TZNAME:CDT
DTSTART:20250406T080000
END:DAYLIGHT
BEGIN:STANDARD
TZOFFSETFROM:-0500
TZOFFSETTO:-0600
TZNAME:CST
DTSTART:20251026T070000
END:STANDARD
END:VTIMEZONE
BEGIN:VEVENT
DTSTART;VALUE=DATE:20250220
DTEND;VALUE=DATE:20250629
DTSTAMP:20260424T054348
CREATED:20250218T201743Z
LAST-MODIFIED:20250218T201804Z
UID:52777-1740009600-1751155199@www.quierodisfrutar.mx
SUMMARY:Cartelera de conciertos de la Orquesta Sinfónica de Xalapa
DESCRIPTION:La Orquesta Sinfónica de Xalapa\, en su misión de acercar la música a más personas\, comparten su cartelera de conciertos para los meses de febrero\, marzo\, abril\, mayo y junio. 
URL:https://www.quierodisfrutar.mx/evento/cartelera-de-conciertos-de-la-orquesta-sinfonica-de-xalapa/
LOCATION:Veracruz
CATEGORIES:Arte,Concierto
ATTACH;FMTTYPE=image/jpeg:https://www.quierodisfrutar.mx/wp-content/uploads/2025/02/CARTELERA_2025_TEMPO1-ACTUALIZADA_page-0001.jpg
END:VEVENT
BEGIN:VEVENT
DTSTART;VALUE=DATE:20250402
DTEND;VALUE=DATE:20250427
DTSTAMP:20260424T054348
CREATED:20250401T230031Z
LAST-MODIFIED:20250401T230031Z
UID:52939-1743552000-1745711999@www.quierodisfrutar.mx
SUMMARY:Abril se llena de música y danza con los Grupos UV
DESCRIPTION:La Dirección General de Difusión Cultural te invita a disfrutar de un mes con la mejor música a cargo de los Grupos Artísticos UV\, con eventos gratuitos que podrás disfrutar con toda la familia. Durante abril\, los Grupos UV ofrecen una serie de conciertos y presentaciones artísticas que incluyen música clásica\, folklore\, mariachi\, boleros y mucho más.\nDisfruta de presentaciones como:\n• Miércoles 2: Ensamble Clásico de Guitarras\, Homenaje al Dr. Alfonso Moreno\, en el Casino Jalapeño (18:00 h).\n• Sábado 5 y Domingo 6: Festival Folklórico Miguel Vélez Arceo con el Ballet Folklórico UV e invitados en el Foro Abierto “Miguel Vélez Arceo” de Casa del Lago UV (18:00 h).\n• Miércoles 9: Esta noche suena a… Katya y File con un programa de boleros en el Foro de Difusión Cultural UV (19:00 h).\n• Jueves 24: Ballet Folklórico UV con su espectáculo “Latinoamérica es” en el Barrio de Xallitic (19:00 h).\n• Sábado 26: El Mariachi UV con el programa “El grillito\, ¡Sí señor!” en la Sala Anexa de Tlaqná\, Centro Cultural (18:00 h).\nAdemás\, del evento especial “EnCanto y Fantasía”\, un homenaje a los clásicos de Disney con el Coro UV\, ¡un espectáculo que no te puedes perder! Los boletos están disponibles en línea empresasuv.comprarboletos.com y en Tienda UV.\nPara más información visita las redes sociales de Difusión Cultural UV.
URL:https://www.quierodisfrutar.mx/evento/abril-se-llena-de-musica-y-danza-con-los-grupos-uv/
LOCATION:Veracruz
CATEGORIES:Arte,Concierto,Variados
ATTACH;FMTTYPE=image/jpeg:https://www.quierodisfrutar.mx/wp-content/uploads/2025/04/CoroUV_EnCanto-y-Fantasia.jpg
END:VEVENT
BEGIN:VEVENT
DTSTART;TZID=America/Mexico_City:20250405T160000
DTEND;TZID=America/Mexico_City:20250405T170000
DTSTAMP:20260424T054348
CREATED:20250402T191731Z
LAST-MODIFIED:20250402T191731Z
UID:52946-1743868800-1743872400@www.quierodisfrutar.mx
SUMMARY:Campaña “Bailando X tú salud”
DESCRIPTION:Nombre del evento: “Bailando X tú salud” \nFecha: 05 de abril del presente año \nLugar: Explanada del Barrio Mágico Xallitic \nCosto: totalmente gratuito \nEntrada para público en general \n  \nEs un cierre de campaña preventiva que a través del baile se busca disminuir las emociones negativas cómo la tristeza\, la soledad\, y la apatía\, además que también se busca la inclusión social y la convivencia social. En este cierre de campaña preventiva nos acompañarán el grupo Los Cumbiosos tocándole todos sus éxitos y su gran ambiente\, Se les hace la cordial invitación para que nos acompañen un ratito a bailar y pasar un día lleno de alegría y mucho baile. Es un evento organizado por alumnos de la Licenciatura en Trabajo Social sede Xalapa\, en apoyo del ayuntamiento de Xalapa\, y la dirección de cultura. \n \n 
URL:https://www.quierodisfrutar.mx/evento/campana-bailando-x-tu-salud/
LOCATION:Veracruz
CATEGORIES:Actividades Altruistas
ATTACH;FMTTYPE=image/jpeg:https://www.quierodisfrutar.mx/wp-content/uploads/2025/04/Captura.jpg
END:VEVENT
BEGIN:VEVENT
DTSTART;VALUE=DATE:20250407
DTEND;VALUE=DATE:20250414
DTSTAMP:20260424T054348
CREATED:20250407T222545Z
LAST-MODIFIED:20250407T222545Z
UID:52955-1743984000-1744588799@www.quierodisfrutar.mx
SUMMARY:Actividades culturales en la ciudad de Xalapa
DESCRIPTION:Actividades culturales en la ciudad de Xalapa \n 
URL:https://www.quierodisfrutar.mx/evento/actividades-culturales-en-la-ciudad-de-xalapa-4/
LOCATION:Veracruz
CATEGORIES:Variados
ATTACH;FMTTYPE=image/jpeg:https://www.quierodisfrutar.mx/wp-content/uploads/2025/04/WhatsApp-Image-2025-04-07-at-2.30.12-PM-1.jpeg
END:VEVENT
BEGIN:VEVENT
DTSTART;VALUE=DATE:20250415
DTEND;VALUE=DATE:20250421
DTSTAMP:20260424T054348
CREATED:20250404T180915Z
LAST-MODIFIED:20250404T180915Z
UID:52950-1744675200-1745193599@www.quierodisfrutar.mx
SUMMARY:TOROMBO\, UN CHUBASCO FLAMENCO: EL LEGENDARIO MAESTRO DE GIRA POR MÉXICO
DESCRIPTION:Del 1 al 23 de abril del año en curso\, Xalapa\, San Luis\, Mazatlán\, Morelia\, Ajijic\, León y Ciudad de México se preparan para la llegada de Francisco José Suárez “El Torombo”\, bailaor y Maestro originario de Sevilla\, España y uno de los más queridos representantes del flamenco tradicional.  \nDel 15 al 20 de abril y como parte de su celebración de 10° Aniversario\, La Roja Flamenco\, espacio de enseñanza y disfrute del flamenco en Xalapa\, Ver. bajo la dirección de Lorena Ortega\, recibe al Maestro con una serie de actividades como talleres de baile y compás para compartir con la población xalapeña interesada en esta manifestación cultural. \nAsimismo\, el domingo 20 de abril a las 16:30 hrs. “El Torombo” dará una charla gratuita dirigida a público en general en el teatro J.J. Herrera (Miguel Palacios #12\, col. Centro). En el mismo sitio pero a las 18:30 hrs.\, se llevará a cabo un concierto didáctico flamenco junto con el grupo Zambra. Los boletos en preventa tienen un precio de $150 y el día del evento $200 y se pueden adquirir directamente en las instalaciones de La Roja Flamenco (Victoria #150\, col. Centro) o a través de su cuenta de Instagram @larojaflamenco\, donde encontrarán más información sobre los talleres en Xalapa.  \n¡No se lo pueden perder!
URL:https://www.quierodisfrutar.mx/evento/torombo-un-chubasco-flamenco-el-legendario-maestro-de-gira-por-mexico/
LOCATION:Veracruz
CATEGORIES:Arte,Talleres y cursos
ATTACH;FMTTYPE=image/jpeg:https://www.quierodisfrutar.mx/wp-content/uploads/2025/04/Torombo-concierto.jpeg
END:VEVENT
BEGIN:VEVENT
DTSTART;VALUE=DATE:20250415
DTEND;VALUE=DATE:20250501
DTSTAMP:20260424T054348
CREATED:20250415T182241Z
LAST-MODIFIED:20250415T182241Z
UID:52969-1744675200-1746057599@www.quierodisfrutar.mx
SUMMARY:Actividades culturales en Xalapa durante abril
DESCRIPTION:
URL:https://www.quierodisfrutar.mx/evento/actividades-culturales-en-xalapa-durante-abril/
LOCATION:Veracruz
CATEGORIES:Arte,Turismo,Variados
ATTACH;FMTTYPE=image/jpeg:https://www.quierodisfrutar.mx/wp-content/uploads/2025/04/WhatsApp-Image-2025-04-15-at-1.07.41-PM-7.jpeg
END:VEVENT
BEGIN:VEVENT
DTSTART;VALUE=DATE:20250421
DTEND;VALUE=DATE:20250501
DTSTAMP:20260424T054348
CREATED:20250421T182637Z
LAST-MODIFIED:20250421T191426Z
UID:52995-1745193600-1746057599@www.quierodisfrutar.mx
SUMMARY:Actividades culturales en Xalapa del 21 al 30 de abril
DESCRIPTION:
URL:https://www.quierodisfrutar.mx/evento/actividades-culturales-en-xalapa-del-23-al-27-de-abril/
LOCATION:Veracruz
CATEGORIES:Arte,Variados
ATTACH;FMTTYPE=image/jpeg:https://www.quierodisfrutar.mx/wp-content/uploads/2025/04/WhatsApp-Image-2025-04-21-at-12.39.56-PM.jpeg
END:VEVENT
BEGIN:VEVENT
DTSTART;VALUE=DATE:20250423
DTEND;VALUE=DATE:20250426
DTSTAMP:20260424T054348
CREATED:20250423T161020Z
LAST-MODIFIED:20250423T161020Z
UID:53030-1745366400-1745625599@www.quierodisfrutar.mx
SUMMARY:Actividades culturales en la ciudad de Xalapa
DESCRIPTION:Actividades culturales en la ciudad de Xalapa\n  \n 
URL:https://www.quierodisfrutar.mx/evento/actividades-culturales-en-la-ciudad-de-xalapa-5/
LOCATION:Veracruz
CATEGORIES:Concierto,Música y Danza
ATTACH;FMTTYPE=image/jpeg:https://www.quierodisfrutar.mx/wp-content/uploads/2025/04/WhatsApp-Image-2025-04-23-at-10.33.37-AM.jpeg
END:VEVENT
BEGIN:VEVENT
DTSTART;VALUE=DATE:20250426
DTEND;VALUE=DATE:20250427
DTSTAMP:20260424T054348
CREATED:20250409T184142Z
LAST-MODIFIED:20250409T184142Z
UID:52964-1745625600-1745711999@www.quierodisfrutar.mx
SUMMARY:Primer Festival de Rock Urbano Mexicano
DESCRIPTION:Buenas tardes\, por este medio solicitamos amablemente su apoyo para que sea publicada en su página principal un evento que tendremos el próximo sábado 26 de abril del presente año. \nSe trata del 1er Festival de Rock Urbano Mexicano.\n \n 
URL:https://www.quierodisfrutar.mx/evento/primer-festival-de-rock-urbano-mexicano/
LOCATION:Veracruz
CATEGORIES:Música y Danza
ATTACH;FMTTYPE=image/jpeg:https://www.quierodisfrutar.mx/wp-content/uploads/2025/04/rok.jpg
END:VEVENT
BEGIN:VEVENT
DTSTART;VALUE=DATE:20250426
DTEND;VALUE=DATE:20250504
DTSTAMP:20260424T054348
CREATED:20250424T165900Z
LAST-MODIFIED:20250424T165900Z
UID:53036-1745625600-1746316799@www.quierodisfrutar.mx
SUMMARY:Decimocuarta edición del Festival ESAV\, Día Internacional de la Danza
DESCRIPTION:La Escuela Superior de Artes de Veracruz y la Secretaría de Cultura del Estado de Veracruz celebran la danza en la decimocuarta edición del Festival ESAV\, Día Internacional de la Danza – \n  \nLa Escuela Superior de Artes de Veracruz (ESAV)\, institución que oferta la Licenciatura en Danza Folklórica Mexicana\, en coordinación con la Secretaría de Cultura del Estado de Veracruz\, se complace en anunciar la realización del 14° Festival ESAV\, Día Internacional de la Danza\, una celebración que desde 1982\, por iniciativa del Consejo Internacional de la Danza de la UNESCO\, rinde homenaje al arte del movimiento como una forma universal de expresión\, identidad y comunidad. \n Este 2025\, el festival se llevará a cabo del 26 de abril al 3 de mayo\, con una cartelera integrada por actividades artísticas que exploran la riqueza de la danza y su impacto en la sociedad. A través de esta edición\, se busca acercar a la comunidad al conocimiento de la danza como patrimonio cultural y promotor de transformación social\, impulsando también nuevos enfoques y reflexiones en torno a su práctica. \n \n La Función de Gala dará inicio al festival el 26 de abril a las 19:00 horas en la Sala Emilio Carballido del Teatro del Estado Gral. Ignacio de la Llave\, con la presentación del programa “Raíces del Pueblo” del maestro Miguel Vélez Arceo\, una obra emblemática del repertorio veracruzano\, interpretada por el Ballet de la Licenciatura en Danza Folklórica Mexicana\, agrupación representativa de la ESAV. Los boletos para esta función pueden solicitarse en las instalaciones de la Escuela Superior de Artes de Veracruz o en la oficina del Teatro del Estado. \n Las actividades continuarán el 29 de abril a las 18:00 horas con la Función de Gala Infantil en el Teatro J.J. Herrera\, a cargo del Ballet Folklórico Infantil ESAV\, y concluirán con el Maratón de Danza el 3 de mayo a las 12:00 horas en el auditorio del IMAC\, que reunirá a agrupaciones locales en una jornada abierta a todo público para celebrar la danza en comunidad. \n Con esta programación\, la ESAV reafirma su compromiso con la formación de profesionales en danza folklórica mexicana\, así como con la preservación y difusión del patrimonio cultural desde una perspectiva artística y educativa. \n  \n¡Les invitamos a ser parte de esta gran celebración de nuestras raíces a través del arte! \n  \nPara más información\, consulta nuestras redes sociales o visítanos en las instalaciones de la Escuela Superior de Artes de Veracruz.
URL:https://www.quierodisfrutar.mx/evento/decimocuarta-edicion-del-festival-esav-dia-internacional-de-la-danza/
LOCATION:Veracruz
CATEGORIES:Danza
ATTACH;FMTTYPE=image/jpeg:https://www.quierodisfrutar.mx/wp-content/uploads/2025/04/14°-Festival-ESAV-Función-de-Gala.jpg
END:VEVENT
BEGIN:VEVENT
DTSTART;TZID=America/Mexico_City:20250427T170000
DTEND;TZID=America/Mexico_City:20250427T200000
DTSTAMP:20260424T054348
CREATED:20250425T200603Z
LAST-MODIFIED:20250425T200603Z
UID:53040-1745773200-1745784000@www.quierodisfrutar.mx
SUMMARY:¡La Fuerza regresa a Xalapa!
DESCRIPTION:Desde Star Wars Legión Xalapa tenemos el honor de invitar a El Calor Político al reestreno de Star Wars: Episodio III – La Venganza de los Sith. \nDomingo 27 de abril | A partir de las 5:00 PMCinépolis VIP y Tradicional | Plaza Américas\, Xalapa \nSerá una tarde galáctica\, con la presencia de más de 30 trajes y armaduras de personajes icónicos de la saga.Una experiencia visual y emotiva para chicos y grandes. \nEsperamos contar con su presencia para compartir juntos esta celebración del universo Star Wars. \n¡Nos vemos en la galaxia… muy\, muy cercana!Atentamente\,Star Wars Legión Xalapa \nEl evento es totalmente gratuito. \n \n  \n 
URL:https://www.quierodisfrutar.mx/evento/la-fuerza-regresa-a-xalapa/
LOCATION:Veracruz
CATEGORIES:Arte,Variados
ATTACH;FMTTYPE=image/jpeg:https://www.quierodisfrutar.mx/wp-content/uploads/2025/04/491281942_523019937549687_4705973621541180861_n.jpg
END:VEVENT
BEGIN:VEVENT
DTSTART;VALUE=DATE:20250430
DTEND;VALUE=DATE:20250501
DTSTAMP:20260424T054348
CREATED:20250430T191026Z
LAST-MODIFIED:20250430T191042Z
UID:53050-1745971200-1746057599@www.quierodisfrutar.mx
SUMMARY:Actividades culturales en la ciudad de Xalapa
DESCRIPTION:Actividades culturales en la ciudad de Xalapa\n  \n 
URL:https://www.quierodisfrutar.mx/evento/actividades-culturales-en-la-ciudad-de-xalapa-6/
LOCATION:Veracruz
CATEGORIES:Música y Danza
ATTACH;FMTTYPE=image/jpeg:https://www.quierodisfrutar.mx/wp-content/uploads/2025/04/WhatsApp-Image-2025-04-30-at-1.47.43-PM.jpeg
END:VEVENT
END:VCALENDAR