BEGIN:VCALENDAR
VERSION:2.0
PRODID:-//Quiero Disfrutar - ECPv6.15.1.1//NONSGML v1.0//EN
CALSCALE:GREGORIAN
METHOD:PUBLISH
X-WR-CALNAME:Quiero Disfrutar
X-ORIGINAL-URL:https://www.quierodisfrutar.mx
X-WR-CALDESC:Eventos para Quiero Disfrutar
REFRESH-INTERVAL;VALUE=DURATION:PT1H
X-Robots-Tag:noindex
X-PUBLISHED-TTL:PT1H
BEGIN:VTIMEZONE
TZID:America/Mexico_City
BEGIN:DAYLIGHT
TZOFFSETFROM:-0600
TZOFFSETTO:-0500
TZNAME:CDT
DTSTART:20250406T080000
END:DAYLIGHT
BEGIN:STANDARD
TZOFFSETFROM:-0500
TZOFFSETTO:-0600
TZNAME:CST
DTSTART:20251026T070000
END:STANDARD
BEGIN:DAYLIGHT
TZOFFSETFROM:-0600
TZOFFSETTO:-0500
TZNAME:CDT
DTSTART:20260405T080000
END:DAYLIGHT
BEGIN:STANDARD
TZOFFSETFROM:-0500
TZOFFSETTO:-0600
TZNAME:CST
DTSTART:20261025T070000
END:STANDARD
END:VTIMEZONE
BEGIN:VEVENT
DTSTART;VALUE=DATE:20251207
DTEND;VALUE=DATE:20251211
DTSTAMP:20260423T170921
CREATED:20251204T002542Z
LAST-MODIFIED:20251204T002605Z
UID:54159-1765065600-1765411199@www.quierodisfrutar.mx
SUMMARY:Llega la tradicional Navidad veracruzana con Tlen-Huicani
DESCRIPTION:– Conciertos gratuitos el 7\, 9 y 10 de diciembre en Xalapa y Coatepec \nPara continuar con su reconocida tradición navideña\, el grupo Tlen-Huicani ofrecerá sus conciertos gratuitos de temporada en la ciudad de Xalapa y el Pueblo Mágico de Coatepec.  \nLas presentaciones se realizarán el domingo 7 de diciembre\, a las 12:00 horas\, en el Teatro del Estado\, en Xalapa\, única función con boletos de control que se entregarán en las Oficinas del Teatro del Estado de 10:00 a 14:00 horas hasta agotar existencias; el martes 9 de diciembre en la Parroquia San Pío X\, en Xalapa\, a las 19:00 h con entrada libre.  \nDel mismo modo\, el miércoles 10 de diciembre podrás disfrutar de su música en la Parroquia San Jerónimo de Coatepec\, a las 20:00 horas.  \nLa agrupación Tlen Huicani ha compartido el patrimonio musical veracruzano en todo el mundo y se ha dedicado principalmente al estudio e interpretación del Arpa.  \nAdemás\, forman una parte fundamental del Ballet Folklórico de la Universidad Veracruzana\, donde participan con sus distintas secciones en los programas musicales. Juntos han recorrido países de Centro y Sudamérica\, Norteamérica\, Europa y Asia. \nVivir una Navidad con la tradicional música del estado de Veracruz no tiene costo; ¡no faltes!
URL:https://www.quierodisfrutar.mx/evento/llega-la-tradicional-navidad-veracruzana-con-tlen-huicani/
LOCATION:Veracruz
ATTACH;FMTTYPE=image/jpeg:https://www.quierodisfrutar.mx/wp-content/uploads/2025/12/Tlen-huicani-scaled.jpg
END:VEVENT
BEGIN:VEVENT
DTSTART;VALUE=DATE:20251208
DTEND;VALUE=DATE:20251211
DTSTAMP:20260423T170921
CREATED:20251111T152632Z
LAST-MODIFIED:20251111T152703Z
UID:54101-1765152000-1765411199@www.quierodisfrutar.mx
SUMMARY:1er Encuentro Regional de Ingeniería Biomédica Xalapa 2025
DESCRIPTION:Estamos listos para compartir contigo todo sobre el “1er Encuentro Regional de Ingeniería Biomédica Xalapa 2025”! 🚀🦾 ¡Síguenos para estar al tanto de las últimas novedades y actualizaciones! 🤳 \n🗓️ Del 8 al 10 de diciembre\, en el Museo de Ciencia y Tecnología de Veracruz “KANÁ” 🌟 \n¡Entrada abierta a todos! 🤩 🙌🏼 \n¡No te pierdas esta oportunidad de aprender y conectarte con expertos y entusiastas de la Biomédica! 🦿💡 \n📩Para más información y dudas\, escribe a: er_ib@outlook.com \n¡Te esperamos! ¡No te lo pierdas! 🎊 \n#ERIB2025 #IngenieríaBiomédica #Xalapa2025 #Biomedicina #Salud #Tecnología #Innovación #MedicinaDelFuturo #XALAPA #SOMIB #IEEE #EMBS #FIEBCA #UV #IB #Evento #Alumnos #facultad #uvxalapa #kana #museokaná
URL:https://www.quierodisfrutar.mx/evento/1er-encuentro-regional-de-ingenieria-biomedica-xalapa-2025/
LOCATION:Museo de Ciencia y Tecnología «KANÁ»\, Av. Rafael Murillo Vidal #1735\, Xalapa\, Veracruz\, 91069\, México
CATEGORIES:Arte,Talleres y cursos,Variados
ATTACH;FMTTYPE=image/jpeg:https://www.quierodisfrutar.mx/wp-content/uploads/2025/11/WhatsApp-Image-2025-11-09-at-6.58.48-PM.jpeg
END:VEVENT
BEGIN:VEVENT
DTSTART;VALUE=DATE:20251209
DTEND;VALUE=DATE:20251211
DTSTAMP:20260423T170921
CREATED:20251209T001322Z
LAST-MODIFIED:20251209T001350Z
UID:54175-1765238400-1765411199@www.quierodisfrutar.mx
SUMMARY:Actividades culturales en Xalapa
DESCRIPTION:
URL:https://www.quierodisfrutar.mx/evento/actividades-culturates-en-xalapa/
LOCATION:Veracruz
CATEGORIES:Arte,Variados
ATTACH;FMTTYPE=image/jpeg:https://www.quierodisfrutar.mx/wp-content/uploads/2025/12/WhatsApp-Image-2025-12-08-at-5.54.10-PM.jpeg
END:VEVENT
BEGIN:VEVENT
DTSTART;TZID=America/Mexico_City:20251210T190000
DTEND;TZID=America/Mexico_City:20251210T200000
DTSTAMP:20260423T170921
CREATED:20251208T211949Z
LAST-MODIFIED:20251208T212021Z
UID:54166-1765393200-1765396800@www.quierodisfrutar.mx
SUMMARY:Mariachi UV dará concierto navideño gratuito\, en Xalapa
DESCRIPTION:10 de diciembre en la Escuela Industrial “Concepción Quirós Pérez” \nDurante esta temporada festiva\, el Mariachi de la Universidad Veracruzana (UV) deleitará al público en general con un gran mosaico musical en la Escuela Industrial “Concepción Quirós Pérez”.\n\n\nEl concierto será gratuito el miércoles 10 de diciembre y abarcará un programa navideño que incluirá melodías como Peces en el río\, Cascanueces\, Amarga navidad\, Navidad sin ti\, entre otras\, que hará que los asistentes canten y disfruten de emotivas y alegres melodías.\n\n\nEl Mariachi Universitario tiene más de 20 años de llevar la música icónica de México a varios rincones del país y año con año cautiva al público con sus canciones tradicionales.\n\n\nPor esa razón\, no te puedes perder este concierto con espíritu mexicano. Recuerda que la cita es el miércoles 10 de diciembre\, a las 19:00 horas\, en Escuela Industrial “Concepción Quirós Pérez” ubicada en Francisco Javier Clavijero no. 10 en la Zona Centro de Xalapa\, Ver.\n\n\nSe recomienda llegar con anticipación debido al aforo limitado del recinto.
URL:https://www.quierodisfrutar.mx/evento/mariachi-uv-dara-concierto-navideno-gratuito-en-xalapa/
LOCATION:Escuela Industrial “Concepción Quiróz Pérez»
CATEGORIES:Arte,Concierto
ATTACH;FMTTYPE=image/jpeg:https://www.quierodisfrutar.mx/wp-content/uploads/2025/12/Mariachi-UV-1.jpg
END:VEVENT
BEGIN:VEVENT
DTSTART;TZID=America/Mexico_City:20251211T193000
DTEND;TZID=America/Mexico_City:20251211T203000
DTSTAMP:20260423T170921
CREATED:20251202T200212Z
LAST-MODIFIED:20251202T200212Z
UID:54153-1765481400-1765485000@www.quierodisfrutar.mx
SUMMARY:Rafael Villar
DESCRIPTION:
URL:https://www.quierodisfrutar.mx/evento/rafael-villar/
LOCATION:Galería Ramón Alva de la Canal\, Xalapeños Ilustres 86\, Xalapa\, Veracruz\, 9100\, México
CATEGORIES:Arte,Exposiciones
ATTACH;FMTTYPE=image/jpeg:https://www.quierodisfrutar.mx/wp-content/uploads/2025/12/WhatsApp-Image-2025-12-02-at-1.47.44-PM.jpeg
END:VEVENT
BEGIN:VEVENT
DTSTART;VALUE=DATE:20251213
DTEND;VALUE=DATE:20251214
DTSTAMP:20260423T170921
CREATED:20251111T173937Z
LAST-MODIFIED:20251111T173937Z
UID:54105-1765584000-1765670399@www.quierodisfrutar.mx
SUMMARY:Máster Class con el fotógrafo Manú Roldán\, en Xalapa
DESCRIPTION:
URL:https://www.quierodisfrutar.mx/evento/master-class-con-el-fotografo-manu-roldan-en-xalapa/
LOCATION:Veracruz
CATEGORIES:Arte,Fotografía
ATTACH;FMTTYPE=image/jpeg:https://www.quierodisfrutar.mx/wp-content/uploads/2025/11/WhatsApp-Image-2025-11-11-at-11.30.07-AM.jpeg
END:VEVENT
BEGIN:VEVENT
DTSTART;VALUE=DATE:20251215
DTEND;VALUE=DATE:20260107
DTSTAMP:20260423T170921
CREATED:20251215T185908Z
LAST-MODIFIED:20251215T185908Z
UID:54184-1765756800-1767743999@www.quierodisfrutar.mx
SUMMARY:Rifarán acuarela de Allison Sandía en apoyo a la instrumentista Valeria Anitnee Espinosa
DESCRIPTION:Rifarán acuarela de Allison Sandía en apoyo a la instrumentista Valeria Anitnee Espinosa
URL:https://www.quierodisfrutar.mx/evento/rifaran-acuarela-de-allison-sandia-en-apoyo-a-la-instrumentista-valeria-anitnee-espinosa/
LOCATION:Veracruz
CATEGORIES:Concurso
ATTACH;FMTTYPE=image/jpeg:https://www.quierodisfrutar.mx/wp-content/uploads/2025/12/WhatsApp-Image-2025-12-15-at-12.43.24-PM.jpeg
END:VEVENT
BEGIN:VEVENT
DTSTART;VALUE=DATE:20251215
DTEND;VALUE=DATE:20260101
DTSTAMP:20260423T170921
CREATED:20251215T190558Z
LAST-MODIFIED:20251215T190558Z
UID:54189-1765756800-1767225599@www.quierodisfrutar.mx
SUMMARY:Ayuntamiento invita a los talleres durante el mes de diciembre
DESCRIPTION:Ayuntamiento invita a los talleres durante el mes de diciembre
URL:https://www.quierodisfrutar.mx/evento/ayuntamiento-invita-a-los-talleres-durante-el-mes-de-diciembre/
LOCATION:Veracruz
CATEGORIES:Variados
ATTACH;FMTTYPE=image/jpeg:https://www.quierodisfrutar.mx/wp-content/uploads/2025/12/Talleres.jpg
END:VEVENT
BEGIN:VEVENT
DTSTART;VALUE=DATE:20251215
DTEND;VALUE=DATE:20251222
DTSTAMP:20260423T170921
CREATED:20251216T025233Z
LAST-MODIFIED:20251216T025233Z
UID:54194-1765756800-1766361599@www.quierodisfrutar.mx
SUMMARY:Ronda de concieertos en la ciudad de Xalapa 
DESCRIPTION:Ronda de concieertos en la ciudad de Xalapa \n 
URL:https://www.quierodisfrutar.mx/evento/ronda-de-concieertos-en-la-ciudad-de-xalapa/
LOCATION:Veracruz
CATEGORIES:Concierto
ATTACH;FMTTYPE=image/jpeg:https://www.quierodisfrutar.mx/wp-content/uploads/2025/12/WhatsApp-Image-2025-12-15-at-3.01.07-PM-2.jpeg
END:VEVENT
BEGIN:VEVENT
DTSTART;VALUE=DATE:20251217
DTEND;VALUE=DATE:20251222
DTSTAMP:20260423T170921
CREATED:20251218T010849Z
LAST-MODIFIED:20251218T010849Z
UID:54210-1765929600-1766361599@www.quierodisfrutar.mx
SUMMARY:Actividades culturales en la ciudad de Xalapa
DESCRIPTION:Actividades culturales en la ciudad de Xalapa
URL:https://www.quierodisfrutar.mx/evento/actividades-culturales-en-la-ciudad-de-xalapa-16/
LOCATION:Veracruz
CATEGORIES:Variados
ATTACH;FMTTYPE=image/jpeg:https://www.quierodisfrutar.mx/wp-content/uploads/2025/12/WhatsApp-Image-2025-12-17-at-11.05.00-AM.jpeg
END:VEVENT
BEGIN:VEVENT
DTSTART;TZID=America/Mexico_City:20251218T180000
DTEND;TZID=America/Mexico_City:20251218T190000
DTSTAMP:20260423T170921
CREATED:20251202T195749Z
LAST-MODIFIED:20251202T195749Z
UID:54150-1766080800-1766084400@www.quierodisfrutar.mx
SUMMARY:Pastorela del Alumnos del taller de teatro Ciro García
DESCRIPTION:
URL:https://www.quierodisfrutar.mx/evento/pastorela-del-alumnos-del-taller-de-teatro-ciro-garcia/
LOCATION:Centro Cultural de Coatepec\, Jimenez del Campillo No. 4\, Coatepec\, Veracruz\, 91500\, México
CATEGORIES:Arte,Fiesta y tradición
ATTACH;FMTTYPE=image/jpeg:https://www.quierodisfrutar.mx/wp-content/uploads/2025/12/WhatsApp-Image-2025-12-02-at-1.47.43-PM.jpeg
END:VEVENT
BEGIN:VEVENT
DTSTART;TZID=America/Mexico_City:20251218T190000
DTEND;TZID=America/Mexico_City:20251218T200000
DTSTAMP:20260423T170921
CREATED:20251211T213726Z
LAST-MODIFIED:20251211T213726Z
UID:54181-1766084400-1766088000@www.quierodisfrutar.mx
SUMMARY:15° Caravana Navideña 2025\, en Xalapa
DESCRIPTION:Próxima 15° caravana navideña 2025 organizada por el Movimiento Católico Nueva Evangelización de la Arquidiócesis de Xalapa. \nLa Caravana Navideña se  denomina: «celebremos y esperemos en familia el nacimiento de Jesús\, nuestro salvador»; esta se llevará a cabo el próximo jueves 18 de diciembre a partir de las 7 pm\, en las principales calles de nuestra ciudad de Xalapa\, Veracruz. \nLa Caravana partirá del parque Hundido de Maestros Veracruzanos\, calle Veracruz\, 20 de Noviembre\, Xalapeños Ilustres\, Enríquez\, Ávila Camacho para culminar en el Teatro del Estado. \nInvitamos a todas las familias para que asistan. Hacemos también un comunicado a nuestros amigos conductores\, trataremos de hacer lo menos tráfico vehicular\, sin embargo les pedimos comprensión y paciencia. \nEn la Caravana participan niños\, adolescentes\, jóvenes y padres de familia integrantes de nuestro Movimiento; el objetivo es llevar un mensaje de unidad\, paz y alegría en medio de los momentos tan difíciles que vivimos. que el niño jesús nos ayude a salir de estas oscuridades y renueve con su llegada esa esperanza de una nueva vida.
URL:https://www.quierodisfrutar.mx/evento/15-caravana-navidena-2025-en-xalapa/
LOCATION:Veracruz
CATEGORIES:Fiesta y tradición
ATTACH;FMTTYPE=image/jpeg:https://www.quierodisfrutar.mx/wp-content/uploads/2025/12/CARAVANA-2025.jpg
END:VEVENT
BEGIN:VEVENT
DTSTART;VALUE=DATE:20251220
DTEND;VALUE=DATE:20251221
DTSTAMP:20260423T170921
CREATED:20251216T195752Z
LAST-MODIFIED:20251216T195752Z
UID:54206-1766188800-1766275199@www.quierodisfrutar.mx
SUMMARY:El Mastuerzo
DESCRIPTION:
URL:https://www.quierodisfrutar.mx/evento/el-mastuerzo/
LOCATION:Veracruz
CATEGORIES:Arte,Concierto
ATTACH;FMTTYPE=image/jpeg:https://www.quierodisfrutar.mx/wp-content/uploads/2025/12/WhatsApp-Image-2025-12-16-at-10.55.28-AM-1.jpeg
END:VEVENT
BEGIN:VEVENT
DTSTART;TZID=America/Mexico_City:20251220T160000
DTEND;TZID=America/Mexico_City:20251222T183000
DTSTAMP:20260423T170921
CREATED:20251216T195631Z
LAST-MODIFIED:20251216T195631Z
UID:54203-1766246400-1766428200@www.quierodisfrutar.mx
SUMMARY:Taller de Totebag navideña
DESCRIPTION:
URL:https://www.quierodisfrutar.mx/evento/taller-de-totebag-navidena/
LOCATION:Veracruz
CATEGORIES:Talleres y cursos
ATTACH;FMTTYPE=image/jpeg:https://www.quierodisfrutar.mx/wp-content/uploads/2025/12/WhatsApp-Image-2025-12-16-at-10.55.27-AM.jpeg
END:VEVENT
BEGIN:VEVENT
DTSTART;VALUE=DATE:20251221
DTEND;VALUE=DATE:20251222
DTSTAMP:20260423T170921
CREATED:20251216T195215Z
LAST-MODIFIED:20251216T195215Z
UID:54200-1766275200-1766361599@www.quierodisfrutar.mx
SUMMARY:Compra-venta-intercambio POKÉMON
DESCRIPTION:
URL:https://www.quierodisfrutar.mx/evento/compra-venta-intercambio-pokemon/
LOCATION:Parque Juárez\, Calle Enríquez
CATEGORIES:Variados
ATTACH;FMTTYPE=image/jpeg:https://www.quierodisfrutar.mx/wp-content/uploads/2025/12/WhatsApp-Image-2025-12-16-at-1.50.08-PM.jpeg
END:VEVENT
END:VCALENDAR